BEGIN:VCALENDAR
VERSION:2.0
PRODID:IEEE vTools.Events//EN
CALSCALE:GREGORIAN
BEGIN:VEVENT
DTSTAMP:20250201T164235Z
UID:85646D21-0442-422E-B9E8-9E756CA744DE
DTSTART;TZID=Etc/UTC:20250130T090000
DTEND;TZID=Etc/UTC:20250131T160000
DESCRIPTION:IEEE UPSA STUDENT BRANCH Publicity to UPSA student on campus\n\
 nCo-sponsored by: IEEE UPSA STUDENT BRANCH\n\nAgenda: \nIEEE UPSA STUDENT 
 BRANCH Publicity\n\nRoom: LBC\, Bldg:  University of Professional Studies-
 Accra\, Madina\, Ghana\, Ghana\, GM
LOCATION:Room: LBC\, Bldg:  University of Professional Studies-Accra\, Madi
 na\, Ghana\, Ghana\, GM
ORGANIZER:ahorlueliezer@gmail.com
SEQUENCE:10
SUMMARY:IEEE UPSA STUDENT BRANCH Publicity 
URL;VALUE=URI:https://events.vtools.ieee.org/m/466080
X-ALT-DESC:Description: &lt;br /&gt;&lt;p&gt;IEEE UPSA STUDENT BRANCH Publicity to UPSA
  student on campus&lt;/p&gt;&lt;br /&gt;&lt;br /&gt;Agenda: &lt;br /&gt;&lt;p&gt;IEEE UPSA STUDENT BRANC
 H Publicity&amp;nbsp\;&lt;/p&gt;
END:VEVENT
END:VCALENDAR

