BEGIN:VCALENDAR
VERSION:2.0
PRODID:IEEE vTools.Events//EN
CALSCALE:GREGORIAN
BEGIN:VTIMEZONE
TZID:Africa/Nairobi
BEGIN:STANDARD
DTSTART:19420801T001500
TZOFFSETFROM:+0245
TZOFFSETTO:+0300
TZNAME:EAT
END:STANDARD
END:VTIMEZONE
BEGIN:VEVENT
DTSTAMP:20250822T201520Z
UID:851E6059-C698-408A-B4F6-1BDA8362D796
DTSTART;TZID=Africa/Nairobi:20250311T120000
DTEND;TZID=Africa/Nairobi:20250313T140000
DESCRIPTION:The Digital Creativity &amp; Marketing Innovation Summit is a premi
 er event dedicated to exploring the intersection of graphic design\, digit
 al marketing\, and brand storytelling. This summit brings together designe
 rs\, marketers\, content creators\, and industry professionals to discuss 
 the latest trends\, strategies\, and tools that drive impactful digital ex
 periences.\n\nKey Focus Areas\n\n- Graphic Design Trends &amp; Tools: Insights
  into modern design aesthetics\, UI/UX principles\, and the latest advance
 ments in tools like Adobe Creative Suite\, Figma\, and Canva.\n- Branding 
 &amp; Visual Identity: Strategies for crafting compelling brand stories throug
 h design\, typography\, color psychology\, and logo development.\n- Conten
 t Creation &amp; Storytelling: Best practices for engaging digital content\, i
 ncluding motion graphics\, video production\, and interactive media.\n- So
 cial Media &amp; Digital Advertising: Mastering paid and organic strategies on
  platforms like Meta (Facebook &amp; Instagram)\, LinkedIn\, Twitter\, and Tik
 Tok.\n- SEO &amp; Content Optimization: Techniques for enhancing website visib
 ility through search engine optimization\, keyword research\, and AI-drive
 n content strategies.\n- AI &amp; Automation in Marketing: Leveraging AI tools
  like ChatGPT\, MidJourney\, and predictive analytics for content generati
 on and marketing automation.\n- Data-Driven Marketing &amp; Analytics: Underst
 anding key performance indicators (KPIs)\, user behavior tracking\, and da
 ta-driven decision-making with Google Analytics and CRM tools.\n- E-commer
 ce &amp; Conversion Optimization: Enhancing online sales through UI/UX design\
 , A/B testing\, and email marketing automation.\n\nEvent Structure\n\n- Wo
 rkshops &amp; Live Demonstrations: Hands-on sessions covering graphic design t
 echniques\, ad campaign creation\, and content marketing strategies.\n- In
 dustry Expert Panels: Thought leaders discussing the future of digital mar
 keting and brand positioning.\n- Networking &amp; Collaboration: Opportunities
  for creatives\, marketers\, and businesses to connect\, exchange ideas\, 
 and explore partnerships.\n- Competitions &amp; Showcases: Live design challen
 ges and digital marketing campaign showcases to inspire innovation.\n\nThi
 s summit is designed for both aspiring and experienced professionals looki
 ng to elevate their digital presence\, marketing effectiveness\, and creat
 ive impact in today’s fast-evolving digital landscape.\n\nCo-sponsored b
 y: Kyambogo University Computing Students Association\n\nRoom: S2.44\, Bld
 g: Faculty of Science Block\, Banda\, Kyambogo\, Kampala\, Uganda\, Uganda
 \, 1
LOCATION:Room: S2.44\, Bldg: Faculty of Science Block\, Banda\, Kyambogo\, 
 Kampala\, Uganda\, Uganda\, 1
ORGANIZER:akolhope2@gmail.com
SEQUENCE:14
SUMMARY:Digital Creativity &amp; Marketing Innovation Summit
URL;VALUE=URI:https://events.vtools.ieee.org/m/466517
X-ALT-DESC:Description: &lt;br /&gt;&lt;p&gt;The&amp;nbsp\;&lt;strong&gt;Digital Creativity &amp;amp\
 ; Marketing Innovation Summit&lt;/strong&gt; is a premier event dedicated to exp
 loring the intersection of graphic design\, digital marketing\, and brand 
 storytelling. This summit brings together designers\, marketers\, content 
 creators\, and industry professionals to discuss the latest trends\, strat
 egies\, and tools that drive impactful digital experiences.&lt;/p&gt;\n&lt;h4&gt;&lt;stro
 ng&gt;Key Focus Areas&lt;/strong&gt;&lt;/h4&gt;\n&lt;ul&gt;\n&lt;li&gt;Graphic Design Trends &amp;amp\; T
 ools: Insights into modern design aesthetics\, UI/UX principles\, and the 
 latest advancements in tools like Adobe Creative Suite\, Figma\, and Canva
 .&lt;/li&gt;\n&lt;li&gt;Branding &amp;amp\; Visual Identity: Strategies for crafting compe
 lling brand stories through design\, typography\, color psychology\, and l
 ogo development.&lt;/li&gt;\n&lt;li&gt;Content Creation &amp;amp\; Storytelling: Best prac
 tices for engaging digital content\, including motion graphics\, video pro
 duction\, and interactive media.&lt;/li&gt;\n&lt;li&gt;Social Media &amp;amp\; Digital Adv
 ertising: Mastering paid and organic strategies on platforms like Meta (Fa
 cebook &amp;amp\; Instagram)\, LinkedIn\, Twitter\, and TikTok.&lt;/li&gt;\n&lt;li&gt;SEO 
 &amp;amp\; Content Optimization: Techniques for enhancing website visibility t
 hrough search engine optimization\, keyword research\, and AI-driven conte
 nt strategies.&lt;/li&gt;\n&lt;li&gt;AI &amp;amp\; Automation in Marketing: Leveraging AI 
 tools like ChatGPT\, MidJourney\, and predictive analytics for content gen
 eration and marketing automation.&lt;/li&gt;\n&lt;li&gt;Data-Driven Marketing &amp;amp\; A
 nalytics: Understanding key performance indicators (KPIs)\, user behavior 
 tracking\, and data-driven decision-making with Google Analytics and CRM t
 ools.&lt;/li&gt;\n&lt;li&gt;E-commerce &amp;amp\; Conversion Optimization: Enhancing onlin
 e sales through UI/UX design\, A/B testing\, and email marketing automatio
 n.&lt;/li&gt;\n&lt;/ul&gt;\n&lt;h4&gt;&lt;strong&gt;Event Structure&lt;/strong&gt;&lt;/h4&gt;\n&lt;ul&gt;\n&lt;li&gt;Works
 hops &amp;amp\; Live Demonstrations: Hands-on sessions covering graphic design
  techniques\, ad campaign creation\, and content marketing strategies.&lt;/li
 &gt;\n&lt;li&gt;Industry Expert Panels: Thought leaders discussing the future of di
 gital marketing and brand positioning.&lt;/li&gt;\n&lt;li&gt;Networking &amp;amp\; Collabo
 ration: Opportunities for creatives\, marketers\, and businesses to connec
 t\, exchange ideas\, and explore partnerships.&lt;/li&gt;\n&lt;li&gt;Competitions &amp;amp
 \; Showcases: Live design challenges and digital marketing campaign showca
 ses to inspire innovation.&lt;/li&gt;\n&lt;/ul&gt;\n&lt;p&gt;This summit is designed for bot
 h aspiring and experienced professionals looking to elevate their digital 
 presence\, marketing effectiveness\, and creative impact in today&amp;rsquo\;s
  fast-evolving digital landscape.&lt;/p&gt;
END:VEVENT
END:VCALENDAR

