BEGIN:VCALENDAR
VERSION:2.0
PRODID:IEEE vTools.Events//EN
CALSCALE:GREGORIAN
BEGIN:VTIMEZONE
TZID:Europe/London
BEGIN:DAYLIGHT
DTSTART:20250330T020000
TZOFFSETFROM:+0000
TZOFFSETTO:+0100
RRULE:FREQ=YEARLY;BYDAY=-1SU;BYMONTH=3
TZNAME:BST
END:DAYLIGHT
BEGIN:STANDARD
DTSTART:20241027T010000
TZOFFSETFROM:+0100
TZOFFSETTO:+0000
RRULE:FREQ=YEARLY;BYDAY=-1SU;BYMONTH=10
TZNAME:GMT
END:STANDARD
END:VTIMEZONE
BEGIN:VEVENT
DTSTAMP:20250407T133314Z
UID:3A159357-E5A0-48EF-B7C4-60FCE615D521
DTSTART;TZID=Europe/London:20250327T090000
DTEND;TZID=Europe/London:20250327T170000
DESCRIPTION:Radar for Space (RfS) is the focus group that encompasses all u
 ses of radar relevant to space\, including (i) space situational awareness
  and space domain awareness\, considering both ground-based and space-base
 d radar sensors\, and (ii) earth observation using space-based radar\; (ii
 i) sensing technologies and RF/ EM systems and components (iv) AI-based ap
 proaches for enhanced SDA/SSA.\n\nThe group’s main goals are in identify
 ing current challenges and gaps\, defining perspective directions of resea
 rch and successful strategies for collaboration\, as well as finding the c
 omplementarity of the expertise within the group and knowledge exchange. O
 ne of the intentions of the group activities is to form a recognized exper
 t structure that can be involved in policymaking and regulatory activities
  within the UK and internationally.\n\nResearch and development within the
  area of sensing\, SAR/ISAR imagery\, AI for image processing\, scene and 
 object characterization\, as well as SDA/SSA use case modelling and simula
 tion approaches are within the wider interests of this group.\n\nCo-sponso
 red by: Fatemeh Norouzian f.norouzian@bham.ac.uk\n\nGoonhilly Earth Statio
 n\, Helston\, England\, United Kingdom\, TR12 6LQ
LOCATION:Goonhilly Earth Station\, Helston\, England\, United Kingdom\, TR1
 2 6LQ
ORGANIZER:julien.lekernec@glasgow.ac.uk
SEQUENCE:23
SUMMARY:EMSIG RADAR FOR SPACE Focus Group Workshop 2025
URL;VALUE=URI:https://events.vtools.ieee.org/m/466542
X-ALT-DESC:Description: &lt;br /&gt;&lt;p class=&quot;MsoNormal&quot;&gt;&lt;em&gt;Radar for Space (RfS
 ) is the focus group&lt;strong&gt;&amp;nbsp\;&lt;/strong&gt;that encompasses all uses of r
 adar relevant to space\, including (i) space situational awareness and spa
 ce domain awareness\, considering both ground-based and space-based radar 
 sensors\, and (ii) earth observation using space-based radar\; (iii)&amp;nbsp\
 ;sensing technologies and RF/ EM systems and components&amp;nbsp\;(iv) AI-base
 d approaches for enhanced SDA/SSA.&lt;/em&gt;&lt;/p&gt;\n&lt;p class=&quot;MsoNormal&quot;&gt;&lt;em&gt;&amp;nbs
 p\;&lt;/em&gt;&lt;em&gt;The group&amp;rsquo\;s main goals are in identifying current chall
 enges and gaps\, defining perspective directions of research and successfu
 l strategies for collaboration\, as well as finding&amp;nbsp\;the complementar
 ity of the expertise within the group and knowledge exchange. One of the i
 ntentions of the group activities is to form a recognized expert structure
  that can be involved in policymaking and regulatory activities within the
  UK and internationally.&lt;/em&gt;&lt;/p&gt;\n&lt;p class=&quot;MsoNormal&quot;&gt;&lt;em&gt;&amp;nbsp\;&lt;/em&gt;&lt;e
 m&gt;Research and development within the area of sensing\, SAR/ISAR imagery\,
  AI for image processing\, scene and object characterization\, as well as 
 SDA/SSA use case modelling and simulation approaches are within the wider 
 interests of this group.&lt;/em&gt;&lt;/p&gt;
END:VEVENT
END:VCALENDAR

