BEGIN:VCALENDAR
VERSION:2.0
PRODID:IEEE vTools.Events//EN
CALSCALE:GREGORIAN
BEGIN:VTIMEZONE
TZID:Europe/Madrid
BEGIN:DAYLIGHT
DTSTART:20250330T030000
TZOFFSETFROM:+0100
TZOFFSETTO:+0200
RRULE:FREQ=YEARLY;BYDAY=-1SU;BYMONTH=3
TZNAME:CEST
END:DAYLIGHT
BEGIN:STANDARD
DTSTART:20241027T020000
TZOFFSETFROM:+0200
TZOFFSETTO:+0100
RRULE:FREQ=YEARLY;BYDAY=-1SU;BYMONTH=10
TZNAME:CET
END:STANDARD
END:VTIMEZONE
BEGIN:VEVENT
DTSTAMP:20250214T085436Z
UID:EECCBB70-E191-48B3-98F2-47CADDDC0A0E
DTSTART;TZID=Europe/Madrid:20250211T104500
DTEND;TZID=Europe/Madrid:20250211T113000
DESCRIPTION:Dentro de las actividades de la semana de la electrónica organ
 izada por la Universidad Pública de Navarra (UPNA)\n\nhttps://www.unavarr
 a.es/catedra-tecnologia-electronica/semana-electronica/Edicion-actual?lang
 uageId=100000\n\ntendrá lugar la charla:\n\nTítulo:\n\nHardware libre co
 n RISC-V\n\nPonente:\n\nFrancesc Moll Echeto - Barcelona Supercomputing Ce
 nter\n\nEsta charla podrá ser seguida de forma presencial u on-line en el
  siguiente enlace:\n\nhttps://unavarra.zoom.us/j/94926023442?pwd=U2mIKFdmr
 jbaFsq3fR4nyvDAl3328z.1\n\nID de reunión: 949 2602 3442\nCódigo de acces
 o: 010990\n\nSpeaker(s): Francesc Moll\, \n\nRoom: Sala de conferencias\, 
 Av. de Cataluña s/n\, Pamplona\, Navarra\, Spain\, 31006
LOCATION:Room: Sala de conferencias\, Av. de Cataluña s/n\, Pamplona\, Nav
 arra\, Spain\, 31006
ORGANIZER:francesc.moll@upc.edu
SEQUENCE:31
SUMMARY:Semana de la Electrónica 2025 -- Hardware libre con RISC-V
URL;VALUE=URI:https://events.vtools.ieee.org/m/466586
X-ALT-DESC:Description: &lt;br /&gt;&lt;p&gt;Dentro de las actividades de la semana de 
 la electr&amp;oacute\;nica organizada por la Universidad P&amp;uacute\;blica de Na
 varra (UPNA)&lt;/p&gt;\n&lt;p&gt;&lt;a href=&quot;https://www.unavarra.es/catedra-tecnologia-e
 lectronica/semana-electronica/Edicion-actual?languageId=100000&quot;&gt;https://ww
 w.unavarra.es/catedra-tecnologia-electronica/semana-electronica/Edicion-ac
 tual?languageId=100000&lt;/a&gt;&lt;/p&gt;\n&lt;p&gt;tendr&amp;aacute\; lugar la charla:&lt;/p&gt;\n&lt;p
 &gt;&lt;strong&gt;T&amp;iacute\;tulo: &lt;/strong&gt;&lt;/p&gt;\n&lt;p&gt;Hardware libre con RISC-V&lt;/p&gt;\n
 &lt;p&gt;&lt;strong&gt;Ponente:&lt;/strong&gt;&lt;/p&gt;\n&lt;p&gt;Francesc Moll Echeto - Barcelona Supe
 rcomputing Center&lt;/p&gt;\n&lt;p&gt;Esta charla podr&amp;aacute\; ser seguida de forma p
 resencial u on-line en el siguiente enlace:&lt;/p&gt;\n&lt;p&gt;&lt;a href=&quot;https://unava
 rra.zoom.us/j/94926023442?pwd=U2mIKFdmrjbaFsq3fR4nyvDAl3328z.1&quot; target=&quot;_b
 lank&quot; rel=&quot;noopener&quot; data-saferedirecturl=&quot;https://www.google.com/url?q=ht
 tps://unavarra.zoom.us/j/94926023442?pwd%3DU2mIKFdmrjbaFsq3fR4nyvDAl3328z.
 1&amp;amp\;source=gmail&amp;amp\;ust=1738828853813000&amp;amp\;usg=AOvVaw2tknc7JENUZlM
 0inoO3ei5&quot;&gt;https://unavarra.zoom.us/j/&lt;wbr&gt;94926023442?pwd=&lt;wbr&gt;U2mIKFdmrj
 baFsq3fR4nyvDAl3328z&lt;wbr&gt;.1&lt;/a&gt;&lt;/p&gt;\n&lt;p&gt;ID de reuni&amp;oacute\;n: 949 2602 34
 42&lt;br&gt;C&amp;oacute\;digo de acceso: 010990&lt;/p&gt;
END:VEVENT
END:VCALENDAR

