BEGIN:VCALENDAR
VERSION:2.0
PRODID:IEEE vTools.Events//EN
CALSCALE:GREGORIAN
BEGIN:VTIMEZONE
TZID:Asia/Riyadh
BEGIN:DAYLIGHT
DTSTART:20380119T061407
TZOFFSETFROM:+0300
TZOFFSETTO:+0300
RRULE:FREQ=YEARLY;BYDAY=3TU;BYMONTH=1
TZNAME:+03
END:DAYLIGHT
BEGIN:STANDARD
DTSTART:19470313T235308
TZOFFSETFROM:+0306
TZOFFSETTO:+0300
RRULE:FREQ=YEARLY;BYDAY=2TH;BYMONTH=3
TZNAME:+03
END:STANDARD
END:VTIMEZONE
BEGIN:VEVENT
DTSTAMP:20250315T205024Z
UID:1BF3A0DF-796A-4990-878B-379AB76ADB65
DTSTART;TZID=Asia/Riyadh:20240811T103100
DTEND;TZID=Asia/Riyadh:20240811T173100
DESCRIPTION:We announce the participation of our students from Yarmouk Univ
 ersity in the IEEE Student and Young Professional (SYP) Congress 2024\, he
 ld this year in Grenoble\, France.\n\nRepresenting IEEE Yarmouk University
  Student Branch at this event were:\n\n- Ali Al-Jawahreh – Branch Chair\
 n- Wanas Al-Omari – Vice Chair\n- Nagham Al-Subuh – Public Relations &amp;
  Social Media Officer\n- Qusai Mashraqi – Chair of the Computer Society\
 n- Atab Obeidat – Vice Chair of the Computer Society\n\nThroughout the c
 ongress\, our representatives participated in various sessions\, workshops
 \, and networking events\, demonstrating exceptional engagement and profes
 sionalism.\n\nDuring their participation\, they attended specialized techn
 ical and practical training workshops in engineering and technology fields
 . They also conducted field visits to leading laboratories and companies\,
  gaining firsthand exposure to the latest advancements and industry practi
 ces.\n\nAdditionally\, the team showcased the key activities and achieveme
 nts of IEEE Yarmouk University Student Branch\, highlighting both technica
 l and non-technical initiatives. Their presentation was well-received by r
 esearchers and distinguished academics attending the congress.\n\n[][][][]
 [][][][]\n\nCo-sponsored by: Zaid Bataineh\n\nparis\, Pays-de-la Loire\, F
 rance
LOCATION:paris\, Pays-de-la Loire\, France
ORGANIZER:alijowahreh@gmail.com
SEQUENCE:21
SUMMARY:YARMOUK UNIVERSITY IEEE STUDENTS PARTICIPATE IN SYP 2024 – FRANCE
  🇫🇷
URL;VALUE=URI:https://events.vtools.ieee.org/m/466588
X-ALT-DESC:Description: &lt;br /&gt;&lt;p&gt;We announce the participation of our stude
 nts from Yarmouk University in the&amp;nbsp\;&lt;strong&gt;IEEE Student and Young Pr
 ofessional (SYP) Congress 2024&lt;/strong&gt;\, held this year in &lt;strong&gt;Grenob
 le\, France&lt;/strong&gt;.&amp;nbsp\;&lt;/p&gt;\n&lt;p&gt;Representing IEEE Yarmouk University 
 Student Branch at this event were:&lt;/p&gt;\n&lt;ul&gt;\n&lt;li&gt;&lt;strong&gt;Ali Al-Jawahreh&lt;
 /strong&gt; &amp;ndash\; Branch Chair&lt;/li&gt;\n&lt;li&gt;&lt;strong&gt;Wanas Al-Omari&lt;/strong&gt; &amp;
 ndash\; Vice Chair&lt;/li&gt;\n&lt;li&gt;&lt;strong&gt;Nagham Al-Subuh&lt;/strong&gt; &amp;ndash\; Pub
 lic Relations &amp;amp\; Social Media Officer&lt;/li&gt;\n&lt;li&gt;&lt;strong&gt;Qusai Mashraqi
 &lt;/strong&gt; &amp;ndash\; Chair of the Computer Society&lt;/li&gt;\n&lt;li&gt;&lt;strong&gt;Atab Ob
 eidat&lt;/strong&gt; &amp;ndash\; Vice Chair of the Computer Society&lt;/li&gt;\n&lt;/ul&gt;\n&lt;p
 &gt;Throughout the congress\, our representatives participated in various ses
 sions\, workshops\, and networking events\, demonstrating exceptional enga
 gement and professionalism.&lt;/p&gt;\n&lt;p&gt;During their participation\, they atte
 nded specialized &lt;strong&gt;technical and practical training workshops&lt;/stron
 g&gt; in engineering and technology fields. They also conducted field visits 
 to &lt;strong&gt;leading laboratories and companies&lt;/strong&gt;\, gaining firsthand
  exposure to the latest advancements and industry practices.&lt;/p&gt;\n&lt;p&gt;Addit
 ionally\, the team &lt;strong&gt;showcased the key activities and achievements&lt;/
 strong&gt; of IEEE Yarmouk University Student Branch\, highlighting both tech
 nical and non-technical initiatives. Their presentation was well-received 
 by researchers and distinguished academics attending the congress.&lt;/p&gt;\n&lt;p
 &gt;&lt;img src=&quot;https://events.vtools.ieee.org/vtools_ui/media/display/e0d6df35
 -96e6-41d7-b30e-7efbd7c062b4&quot; alt=&quot;&quot; width=&quot;60&quot; height=&quot;60&quot;&gt;&lt;img src=&quot;http
 s://events.vtools.ieee.org/vtools_ui/media/display/6202c0f6-935a-4c33-a70a
 -5042f903b95c&quot; alt=&quot;&quot; width=&quot;60&quot; height=&quot;60&quot;&gt;&lt;img src=&quot;https://events.vtoo
 ls.ieee.org/vtools_ui/media/display/19f3af6e-8803-4343-8a8e-03a1244afc79&quot; 
 alt=&quot;&quot; width=&quot;60&quot; height=&quot;60&quot;&gt;&lt;img src=&quot;https://events.vtools.ieee.org/vto
 ols_ui/media/display/9f87e3e9-0225-4d84-ba40-df3da767e54e&quot; alt=&quot;&quot; width=&quot;6
 0&quot; height=&quot;60&quot;&gt;&lt;img src=&quot;https://events.vtools.ieee.org/vtools_ui/media/di
 splay/d722163c-7057-4bc1-a4ef-c346af65e25d&quot; alt=&quot;&quot; width=&quot;108&quot; height=&quot;108
 &quot;&gt;&lt;img src=&quot;https://events.vtools.ieee.org/vtools_ui/media/display/da5cc46
 3-2eab-446f-9cc1-742647ccfcba&quot; alt=&quot;&quot; width=&quot;108&quot; height=&quot;108&quot;&gt;&lt;img src=&quot;h
 ttps://events.vtools.ieee.org/vtools_ui/media/display/002ca939-28c1-4aba-a
 e9f-522384a0bc47&quot; alt=&quot;&quot; width=&quot;108&quot; height=&quot;108&quot;&gt;&lt;img src=&quot;https://events
 .vtools.ieee.org/vtools_ui/media/display/7baa4c5e-0eec-421c-9cfa-6be658668
 dff&quot; alt=&quot;&quot; width=&quot;108&quot; height=&quot;108&quot;&gt;&lt;/p&gt;
END:VEVENT
END:VCALENDAR

