BEGIN:VCALENDAR
VERSION:2.0
PRODID:IEEE vTools.Events//EN
CALSCALE:GREGORIAN
BEGIN:VTIMEZONE
TZID:America/Chicago
BEGIN:DAYLIGHT
DTSTART:20250309T030000
TZOFFSETFROM:-0600
TZOFFSETTO:-0500
RRULE:FREQ=YEARLY;BYDAY=2SU;BYMONTH=3
TZNAME:CDT
END:DAYLIGHT
BEGIN:STANDARD
DTSTART:20241103T010000
TZOFFSETFROM:-0500
TZOFFSETTO:-0600
RRULE:FREQ=YEARLY;BYDAY=1SU;BYMONTH=11
TZNAME:CST
END:STANDARD
END:VTIMEZONE
BEGIN:VEVENT
DTSTAMP:20250304T150410Z
UID:6EDE26D0-B9B2-4555-B615-684FC56B93A6
DTSTART;TZID=America/Chicago:20250303T174500
DTEND;TZID=America/Chicago:20250303T190000
DESCRIPTION:Abstract: Aircraft electrification represents a prominent advan
 cement in the aviation industry which is aiming to improve energy efficien
 cy and minimize carbon footprint. Electric motors have a crucial role in t
 he electric propulsion system to enable such transformation. This discussi
 on will focus on exploring current trends\, design considerations\, perfor
 mance needs and modeling methods of electric motors used in aircraft elect
 rification.\n\nSpeaker(s): Dheeraj\n\nAgenda: \n17.45 Pizza and networking
 \n\n18.00 Administrative\n\n18.05 Presentation on Aircraft Electrification
 \n\n18.50 Q&amp;A\n\nRoom: 1270\, Bldg: Mechanical Engineering\, 1513 Engineer
 ing Drive\, Madison\, Wisconsin\, United States
LOCATION:Room: 1270\, Bldg: Mechanical Engineering\, 1513 Engineering Drive
 \, Madison\, Wisconsin\, United States
ORGANIZER:michael.stemper@gmail.com
SEQUENCE:2
SUMMARY:Electric Propulsion Design Considerations for Aircraft Electrificat
 ion
URL;VALUE=URI:https://events.vtools.ieee.org/m/466789
X-ALT-DESC:Description: &lt;br /&gt;&lt;p&gt;Abstract: Aircraft electrification represe
 nts a prominent advancement in the aviation industry which is aiming to im
 prove energy efficiency and minimize carbon footprint. Electric motors hav
 e a crucial role in the electric propulsion system to enable such transfor
 mation. This discussion will focus on exploring current trends\, design co
 nsiderations\, performance needs and modeling methods of electric motors u
 sed in aircraft electrification.&lt;/p&gt;&lt;br /&gt;&lt;br /&gt;Agenda: &lt;br /&gt;&lt;p&gt;17.45 Piz
 za and networking&lt;/p&gt;\n&lt;p&gt;18.00 Administrative&lt;/p&gt;\n&lt;p&gt;18.05 Presentation 
 on Aircraft Electrification&lt;/p&gt;\n&lt;p&gt;18.50 Q&amp;amp\;A&lt;/p&gt;
END:VEVENT
END:VCALENDAR

