BEGIN:VCALENDAR
VERSION:2.0
PRODID:IEEE vTools.Events//EN
CALSCALE:GREGORIAN
BEGIN:VTIMEZONE
TZID:America/New_York
BEGIN:DAYLIGHT
DTSTART:20250309T030000
TZOFFSETFROM:-0500
TZOFFSETTO:-0400
RRULE:FREQ=YEARLY;BYDAY=2SU;BYMONTH=3
TZNAME:EDT
END:DAYLIGHT
BEGIN:STANDARD
DTSTART:20241103T010000
TZOFFSETFROM:-0400
TZOFFSETTO:-0500
RRULE:FREQ=YEARLY;BYDAY=1SU;BYMONTH=11
TZNAME:EST
END:STANDARD
END:VTIMEZONE
BEGIN:VEVENT
DTSTAMP:20250208T233959Z
UID:E28130FC-C675-454A-A9DE-559C018471FA
DTSTART;TZID=America/New_York:20250205T160000
DTEND;TZID=America/New_York:20250205T173000
DESCRIPTION:Students met to discuss and plan the robot for competing in har
 dware competition for Southeast Con.\n\nCo-sponsored by: Florida Polytechn
 ic University\n\nRoom: BARC-1123\, Bldg: Barnett Applied Research Center\,
  4700 Polytechnic Circle\, Lakeland\, Florida\, United States\, 33805
LOCATION:Room: BARC-1123\, Bldg: Barnett Applied Research Center\, 4700 Pol
 ytechnic Circle\, Lakeland\, Florida\, United States\, 33805
ORGANIZER:tsahil@outlook.com
SEQUENCE:5
SUMMARY:RAS Southeast Con Project Meetings
URL;VALUE=URI:https://events.vtools.ieee.org/m/466825
X-ALT-DESC:Description: &lt;br /&gt;&lt;p&gt;Students met to discuss and plan the robot
  for competing in hardware competition for Southeast Con.&lt;/p&gt;
END:VEVENT
END:VCALENDAR

