BEGIN:VCALENDAR
VERSION:2.0
PRODID:IEEE vTools.Events//EN
CALSCALE:GREGORIAN
BEGIN:VTIMEZONE
TZID:Asia/Kolkata
BEGIN:STANDARD
DTSTART:19451014T230000
TZOFFSETFROM:+0630
TZOFFSETTO:+0530
TZNAME:IST
END:STANDARD
END:VTIMEZONE
BEGIN:VEVENT
DTSTAMP:20250329T080803Z
UID:2DECD67C-800E-43E4-B024-D6C4C61734B3
DTSTART;TZID=Asia/Kolkata:20241008T183000
DTEND;TZID=Asia/Kolkata:20241008T193000
DESCRIPTION:Distinguished Lecture Program\n\n1. Introduction\n\nThe IEEE IA
 /IE/PELS Jt. Chapter Kerala\, in collaboration with IEEE PELS SBC NSSCE\, 
 proudly hosted a Distinguished Lecture Program featuring Dr. Xu She. The s
 ession focused on ‘System Thinking and Its Roles in Innovation of Power 
 Electronics’\, providing valuable insights into the evolving landscape o
 f power electronics and its innovative applications.\n--------------------
 -------------------------------------------\n\n2. Event Details\n\n-\nEven
 t Name: Distinguished Lecture Program\n\n-\nTopic: System Thinking and Its
  Roles in Innovation of Power Electronics\n\n-\nSpeaker: Dr. Xu She\, IEEE
  Fellow &amp; Senior Director of Engineering at Lunar Energy\n\n-\nOrganizers:
  IEEE IA/IE/PELS Jt. Chapter Kerala &amp; IEEE PELS SBC NSSCE\n\n-\nDate &amp; Tim
 e: 8 October 2024\, 6:30 PM - 7:30 PM\n\n-\nVenue: NSSC Palakkad (Conducte
 d over Google Meet)\n\n---------------------------------------------------
 ------------\n\n3. Key Highlights\n\n-\nIntroduction to System Thinking: X
 u She elaborated on the principles of system thinking and its significance
  in modern engineering disciplines.\n\n-\nInnovation in Power Electronics:
  The session explored how system thinking fosters innovation\, efficiency\
 , and problem-solving in power electronics.\n\n-\nReal-World Applications:
  Case studies and real-world applications were discussed\, showcasing adva
 ncements in power electronic systems.\n\n-\nInteractive Q&amp;A Session: Parti
 cipants engaged in an insightful discussion\, clarifying doubts and explor
 ing emerging research trends.\n\n-----------------------------------------
 ----------------------\n\n4. Conclusion\n\nThe Distinguished Lecture Progr
 am successfully provided attendees with a comprehensive understanding of s
 ystem thinking and its pivotal role in innovating power electronics. The c
 ollaboration between IEEE IA/IE/PELS Jt. Chapter Kerala and IEEE PELS SBC 
 NSSCE ensured a platform for knowledge exchange and professional networkin
 g. The session was highly beneficial for students\, researchers\, and prof
 essionals seeking to expand their expertise in the field of power electron
 ics.\n---------------------------------------------------------------\n\nC
 o-sponsored by: IEEE IAS SBC NSSCE Palakkad\n\nSpeaker(s): XU She\, \n\nVi
 rtual: https://events.vtools.ieee.org/m/466940
LOCATION:Virtual: https://events.vtools.ieee.org/m/466940
ORGANIZER:deepakmnair89@gmail.com
SEQUENCE:13
SUMMARY:IEEE PELS Distinguished Lecture Program on &quot; System Thinking and It
 s Roles in Innovation of Power Electronics&quot;
URL;VALUE=URI:https://events.vtools.ieee.org/m/466940
X-ALT-DESC:Description: &lt;br /&gt;&lt;p data-pm-slice=&quot;1 1 []&quot;&gt;&lt;strong&gt;Distinguish
 ed Lecture Program&lt;/strong&gt;&lt;/p&gt;\n&lt;h3&gt;&lt;strong&gt;1. Introduction&lt;/strong&gt;&lt;/h3&gt;
 \n&lt;p&gt;The &lt;strong&gt;IEEE IA/IE/PELS Jt. Chapter Kerala&lt;/strong&gt;\, in collabor
 ation with &lt;strong&gt;IEEE PELS SBC NSSCE&lt;/strong&gt;\, proudly hosted a &lt;strong
 &gt;Distinguished Lecture Program&lt;/strong&gt; featuring Dr. &lt;strong&gt;Xu She&lt;/stro
 ng&gt;. The session focused on &lt;strong&gt;&amp;lsquo\;System Thinking and Its Roles 
 in Innovation of Power Electronics&amp;rsquo\;&lt;/strong&gt;\, providing valuable i
 nsights into the evolving landscape of power electronics and its innovativ
 e applications.&lt;/p&gt;\n&lt;div&gt;&lt;hr&gt;&lt;/div&gt;\n&lt;h3&gt;&lt;strong&gt;2. Event Details&lt;/strong
 &gt;&lt;/h3&gt;\n&lt;ul data-spread=&quot;false&quot;&gt;\n&lt;li&gt;\n&lt;p&gt;&lt;strong&gt;Event Name:&lt;/strong&gt; Di
 stinguished Lecture Program&lt;/p&gt;\n&lt;/li&gt;\n&lt;li&gt;\n&lt;p&gt;&lt;strong&gt;Topic:&lt;/strong&gt; S
 ystem Thinking and Its Roles in Innovation of Power Electronics&lt;/p&gt;\n&lt;/li&gt;
 \n&lt;li&gt;\n&lt;p&gt;&lt;strong&gt;Speaker:&lt;/strong&gt; Dr. Xu She\, IEEE Fellow &amp;amp\; Senio
 r Director of Engineering at Lunar Energy&lt;/p&gt;\n&lt;/li&gt;\n&lt;li&gt;\n&lt;p&gt;&lt;strong&gt;Org
 anizers:&lt;/strong&gt; IEEE IA/IE/PELS Jt. Chapter Kerala &amp;amp\; IEEE PELS SBC 
 NSSCE&lt;/p&gt;\n&lt;/li&gt;\n&lt;li&gt;\n&lt;p&gt;&lt;strong&gt;Date &amp;amp\; Time:&lt;/strong&gt; 8 October 20
 24\, 6:30 PM - 7:30 PM&lt;/p&gt;\n&lt;/li&gt;\n&lt;li&gt;\n&lt;p&gt;&lt;strong&gt;Venue:&lt;/strong&gt; NSSC P
 alakkad (Conducted over Google Meet)&lt;/p&gt;\n&lt;/li&gt;\n&lt;/ul&gt;\n&lt;div&gt;&lt;hr&gt;&lt;/div&gt;\n&lt;
 h3&gt;&lt;strong&gt;3. Key Highlights&lt;/strong&gt;&lt;/h3&gt;\n&lt;ul data-spread=&quot;false&quot;&gt;\n&lt;li&gt;
 \n&lt;p&gt;&lt;strong&gt;Introduction to System Thinking&lt;/strong&gt;: Xu She elaborated o
 n the principles of system thinking and its significance in modern enginee
 ring disciplines.&lt;/p&gt;\n&lt;/li&gt;\n&lt;li&gt;\n&lt;p&gt;&lt;strong&gt;Innovation in Power Electro
 nics&lt;/strong&gt;: The session explored how system thinking fosters innovation
 \, efficiency\, and problem-solving in power electronics.&lt;/p&gt;\n&lt;/li&gt;\n&lt;li&gt;
 \n&lt;p&gt;&lt;strong&gt;Real-World Applications&lt;/strong&gt;: Case studies and real-world
  applications were discussed\, showcasing advancements in power electronic
  systems.&lt;/p&gt;\n&lt;/li&gt;\n&lt;li&gt;\n&lt;p&gt;&lt;strong&gt;Interactive Q&amp;amp\;A Session&lt;/stron
 g&gt;: Participants engaged in an insightful discussion\, clarifying doubts a
 nd exploring emerging research trends.&lt;/p&gt;\n&lt;/li&gt;\n&lt;/ul&gt;\n&lt;div&gt;&lt;hr&gt;&lt;/div&gt;\
 n&lt;h3&gt;&lt;strong&gt;4. Conclusion&lt;/strong&gt;&lt;/h3&gt;\n&lt;p&gt;The &lt;strong&gt;Distinguished Lec
 ture Program&lt;/strong&gt; successfully provided attendees with a comprehensive
  understanding of &lt;strong&gt;system thinking&lt;/strong&gt; and its pivotal role in
  &lt;strong&gt;innovating power electronics&lt;/strong&gt;. The collaboration between 
 &lt;strong&gt;IEEE IA/IE/PELS Jt. Chapter Kerala and IEEE PELS SBC NSSCE&lt;/strong
 &gt; ensured a platform for knowledge exchange and professional networking. T
 he session was highly beneficial for students\, researchers\, and professi
 onals seeking to expand their expertise in the field of power electronics.
 &lt;/p&gt;\n&lt;div&gt;&lt;hr&gt;&lt;/div&gt;\n&lt;p&gt;&lt;strong id=&quot;docs-internal-guid-7d23079c-7fff-213
 f-90fc-e8a8cad08c47&quot;&gt;&lt;img src=&quot;https://lh7-rt.googleusercontent.com/slides
 z/AGV_vUeq7ZLyGK3xvwu8Vny2vECqbCkptiD9OdjahAoJYTEWvKMky8q7Zzz502Sv_GSG1FYl
 Z72vqCZGpeYEYQgCRhb6KPDs028HAIGrhieugO6RNtwLkua__Por_KSOI2LChj_jfcMn8w=s20
 48?key=y1oJjxI_t3OnZ9-vcefS3Q&quot; width=&quot;532px\;&quot; height=&quot;482px\;&quot;&gt;&lt;/strong&gt;&lt;
 /p&gt;
END:VEVENT
END:VCALENDAR

