BEGIN:VCALENDAR
VERSION:2.0
PRODID:IEEE vTools.Events//EN
CALSCALE:GREGORIAN
BEGIN:VTIMEZONE
TZID:America/New_York
BEGIN:DAYLIGHT
DTSTART:20250309T030000
TZOFFSETFROM:-0500
TZOFFSETTO:-0400
RRULE:FREQ=YEARLY;BYDAY=2SU;BYMONTH=3
TZNAME:EDT
END:DAYLIGHT
BEGIN:STANDARD
DTSTART:20241103T010000
TZOFFSETFROM:-0400
TZOFFSETTO:-0500
RRULE:FREQ=YEARLY;BYDAY=1SU;BYMONTH=11
TZNAME:EST
END:STANDARD
END:VTIMEZONE
BEGIN:VEVENT
DTSTAMP:20260223T024037Z
UID:9DD4C71C-249C-4E0F-9828-2D8A8CEDDB81
DTSTART;TZID=America/New_York:20250218T180000
DTEND;TZID=America/New_York:20250218T200000
DESCRIPTION:Come join us at the 2025 Engineer&#39;s Week Banquet with the Charl
 eston Engineers Joint Council. This year the banquet will feature Tonya M.
  Matthews\, Ph.D.\, President &amp; CEO of the International African American 
 Museum as keynote speaker. You can find information about the banquet\, it
 s history and more at [charlestonejc.org](http://charlestonejc.org/).\n\nA
 dult admission is $55 and student admission is $30.\n\nRoom: Buyer Auditor
 ium\, Bldg: Mark Clark Hall\, The Citadel\, Charleston\, South Carolina\, 
 United States
LOCATION:Room: Buyer Auditorium\, Bldg: Mark Clark Hall\, The Citadel\, Cha
 rleston\, South Carolina\, United States
ORGANIZER:derik.pack@gmail.com
SEQUENCE:19
SUMMARY:CEJC Engineers Week Banquet
URL;VALUE=URI:https://events.vtools.ieee.org/m/467015
X-ALT-DESC:Description: &lt;br /&gt;&lt;p&gt;Come join us at the 2025 Engineer&#39;s Week B
 anquet with the Charleston Engineers Joint Council. This year the banquet 
 will feature Tonya M. Matthews\, Ph.D.\, President &amp;amp\; CEO of the Inter
 national African American Museum as keynote speaker.&amp;nbsp\; You can find i
 nformation about the banquet\, its history and more at &lt;a href=&quot;http://cha
 rlestonejc.org/&quot; target=&quot;_blank&quot; rel=&quot;noopener&quot; data-saferedirecturl=&quot;http
 s://www.google.com/url?q=http://charlestonejc.org/&amp;amp\;source=gmail&amp;amp\;
 ust=1738877941596000&amp;amp\;usg=AOvVaw2aEw2xoAFXigpu3B9sbDF5&quot;&gt;charlestonejc.
 org&lt;/a&gt;. &amp;nbsp\;&lt;/p&gt;\n&lt;p&gt;Adult admission is $55 and student admission is $
 30.&lt;/p&gt;
END:VEVENT
END:VCALENDAR

