BEGIN:VCALENDAR
VERSION:2.0
PRODID:IEEE vTools.Events//EN
CALSCALE:GREGORIAN
BEGIN:VTIMEZONE
TZID:Europe/Paris
BEGIN:DAYLIGHT
DTSTART:20250330T030000
TZOFFSETFROM:+0100
TZOFFSETTO:+0200
RRULE:FREQ=YEARLY;BYDAY=-1SU;BYMONTH=3
TZNAME:CEST
END:DAYLIGHT
BEGIN:STANDARD
DTSTART:20241027T020000
TZOFFSETFROM:+0200
TZOFFSETTO:+0100
RRULE:FREQ=YEARLY;BYDAY=-1SU;BYMONTH=10
TZNAME:CET
END:STANDARD
END:VTIMEZONE
BEGIN:VEVENT
DTSTAMP:20250819T063559Z
UID:59116597-5344-459E-9BE1-828F830FA37F
DTSTART;TZID=Europe/Paris:20250215T080000
DTEND;TZID=Europe/Paris:20250216T170000
DESCRIPTION:The AI Summit\, a two-day intensive training on deep learning\,
  is scheduled to take place on February 15-16\, 2025\, at the Faculty of S
 cience in Gabes (FSG). This event will be led by Dr. Amal Jlassi\, an este
 emed NVIDIA Ambassador\, PhD in Computer Science\, and AI Specialist.\n\nO
 ver the course of 12 hours\, the training will provide participants with a
  comprehensive understanding of deep learning fundamentals\, practical app
 lications\, and hands-on sessions with NVIDIA’s cutting-edge AI technolo
 gies. The attendees\, comprising students and professionals\, will gain va
 luable insights into deep learning architectures\, model optimization\, an
 d real-world AI implementations.\n\nThe event will be structured into morn
 ing and evening sessions\, each followed by interactive Q&amp;A discussions. P
 articipants will actively engage in coding exercises\, leveraging NVIDIA G
 PUs for accelerated computing tasks. The training will emphasize both theo
 retical concepts and hands-on implementation\, ensuring a well-rounded lea
 rning experience.\n\nThe AI Summit will conclude with an assessment\, afte
 r which participants will receive an NVIDIA-certified training certificate
 . Feedback from attendees is expected to highlight the quality of instruct
 ion\, the depth of content\, and the opportunity to interact with an indus
 try expert.\n\nThis training event aims to enhance participants&#39; technical
  skills and foster networking opportunities among AI enthusiasts\, paving 
 the way for future collaborations in the field of artificial intelligence.
 \n\n[]\n\nFSG\, Gabes\, Gabes\, Tunisia
LOCATION:FSG\, Gabes\, Gabes\, Tunisia
ORGANIZER:mouhib.zaabi@ieee.org
SEQUENCE:21
SUMMARY:AI Summit
URL;VALUE=URI:https://events.vtools.ieee.org/m/467027
X-ALT-DESC:Description: &lt;br /&gt;&lt;p data-pm-slice=&quot;1 1 []&quot;&gt;The AI Summit\, a t
 wo-day intensive training on deep learning\, is scheduled to take place on
  &lt;strong&gt;February 15-16\, 2025&lt;/strong&gt;\, at the Faculty of Science in Gab
 es (FSG). This event will be led by &lt;strong&gt;Dr. Amal Jlassi&lt;/strong&gt;\, an 
 esteemed &lt;strong&gt;NVIDIA Ambassador&lt;/strong&gt;\, PhD in Computer Science\, an
 d AI Specialist.&lt;/p&gt;\n&lt;p&gt;Over the course of &lt;strong&gt;12 hours&lt;/strong&gt;\, th
 e training will provide participants with a comprehensive understanding of
  deep learning fundamentals\, practical applications\, and hands-on sessio
 ns with NVIDIA&amp;rsquo\;s cutting-edge AI technologies. The attendees\, comp
 rising students and professionals\, will gain valuable insights into deep 
 learning architectures\, model optimization\, and real-world AI implementa
 tions.&lt;/p&gt;\n&lt;p&gt;The event will be structured into morning and evening sessi
 ons\, each followed by interactive Q&amp;amp\;A discussions. Participants will
  actively engage in coding exercises\, leveraging &lt;strong&gt;NVIDIA GPUs&lt;/str
 ong&gt; for accelerated computing tasks. The training will emphasize both the
 oretical concepts and hands-on implementation\, ensuring a well-rounded le
 arning experience.&lt;/p&gt;\n&lt;p&gt;The AI Summit will conclude with an &lt;strong&gt;ass
 essment&lt;/strong&gt;\, after which participants will receive an &lt;strong&gt;NVIDIA
 -certified training certificate&lt;/strong&gt;. Feedback from attendees is expec
 ted to highlight the quality of instruction\, the depth of content\, and t
 he opportunity to interact with an industry expert.&lt;/p&gt;\n&lt;p&gt;This training 
 event aims to enhance participants&#39; technical skills and foster networking
  opportunities among AI enthusiasts\, paving the way for future collaborat
 ions in the field of artificial intelligence.&lt;/p&gt;\n&lt;p&gt;&amp;nbsp\;&lt;/p&gt;\n&lt;p&gt;&lt;img
  src=&quot;https://events.vtools.ieee.org/vtools_ui/media/display/e9bd7f66-fd30
 -4f17-9b65-081d5c74375e&quot; alt=&quot;&quot; width=&quot;1130&quot; height=&quot;753&quot;&gt;&lt;/p&gt;
END:VEVENT
END:VCALENDAR

