BEGIN:VCALENDAR
VERSION:2.0
PRODID:IEEE vTools.Events//EN
CALSCALE:GREGORIAN
BEGIN:VTIMEZONE
TZID:Asia/Kolkata
BEGIN:STANDARD
DTSTART:19451014T230000
TZOFFSETFROM:+0630
TZOFFSETTO:+0530
TZNAME:IST
END:STANDARD
END:VTIMEZONE
BEGIN:VEVENT
DTSTAMP:20250309T082223Z
UID:4AC2C071-DB88-4205-9047-C6E7C38B15FE
DTSTART;TZID=Asia/Kolkata:20250208T203000
DTEND;TZID=Asia/Kolkata:20250208T220000
DESCRIPTION:Let&#39;s explore tomorrow&#39;s tech!!\n\nEmerge into the future of te
 chnology at “Tech Xplore: Unveiling The Next Era of Technology” organi
 zed by Silver Oak University IEEE Student Branch and Silver Oak University
  IEEE Computer Society Student Branch Chapter.\n\nSeize this opportunity t
 o engage with Mrs. Jyotika Athavale\, President Emeritus\, IEEE Computer S
 ociety. Tune into this webinar where we dive into the future of technology
  guided by her visionary foresight!\n\n[]\n\nSpeaker(s): Mrs. Jyotika Atha
 vale\n\nVirtual: https://events.vtools.ieee.org/m/467171
LOCATION:Virtual: https://events.vtools.ieee.org/m/467171
ORGANIZER:ieee.fbc@socet.edu.in
SEQUENCE:77
SUMMARY:Tech Xplore: Unveiling The Next Era of Technology
URL;VALUE=URI:https://events.vtools.ieee.org/m/467171
X-ALT-DESC:Description: &lt;br /&gt;&lt;p style=&quot;text-align: justify\;&quot;&gt;Let&#39;s explor
 e tomorrow&#39;s tech!!&lt;/p&gt;\n&lt;p style=&quot;text-align: justify\;&quot;&gt;Emerge into the 
 future of technology at &amp;ldquo\;&lt;strong&gt;Tech Xplore: Unveiling The Next Er
 a of Technology&lt;/strong&gt;&amp;rdquo\; organized by&lt;strong&gt; Silver Oak Universit
 y IEEE Student Branch &lt;/strong&gt;and&lt;strong&gt; Silver Oak University IEEE Comp
 uter Society Student Branch Chapter.&lt;/strong&gt;&lt;/p&gt;\n&lt;p style=&quot;text-align: j
 ustify\;&quot;&gt;Seize this opportunity to engage with &lt;strong&gt;Mrs. Jyotika Athav
 ale&lt;/strong&gt;\,&lt;em&gt; President Emeritus\, IEEE Computer Society&lt;/em&gt;. Tune i
 nto this webinar where we dive into the future of technology guided by her
  visionary foresight!&amp;nbsp\;&lt;/p&gt;\n&lt;p&gt;&lt;img style=&quot;display: block\; margin-l
 eft: auto\; margin-right: auto\;&quot; src=&quot;https://events.vtools.ieee.org/vtoo
 ls_ui/media/display/05a4ff9c-a722-491e-ad69-2f002a1b9ea8&quot; alt=&quot;&quot; width=&quot;49
 0&quot; height=&quot;490&quot;&gt;&lt;/p&gt;
END:VEVENT
END:VCALENDAR

