BEGIN:VCALENDAR
VERSION:2.0
PRODID:IEEE vTools.Events//EN
CALSCALE:GREGORIAN
BEGIN:VTIMEZONE
TZID:Europe/Dublin
BEGIN:DAYLIGHT
DTSTART:20250330T020000
TZOFFSETFROM:+0000
TZOFFSETTO:+0100
RRULE:FREQ=YEARLY;BYDAY=-1SU;BYMONTH=3
TZNAME:IST
END:DAYLIGHT
BEGIN:STANDARD
DTSTART:20241027T010000
TZOFFSETFROM:+0100
TZOFFSETTO:+0000
RRULE:FREQ=YEARLY;BYDAY=-1SU;BYMONTH=10
TZNAME:GMT
END:STANDARD
END:VTIMEZONE
BEGIN:VEVENT
DTSTAMP:20250214T202608Z
UID:72F3FCC7-D49E-421C-85A1-DA050F22F872
DTSTART;TZID=Europe/Dublin:20250211T110000
DTEND;TZID=Europe/Dublin:20250211T121500
DESCRIPTION:Prof. Hatice Gunes (Professor of Affective Intelligence &amp; Robot
 ics\, University of Cambridge) will present “Social Alignment in Robotic
 s: Promoting Human Wellbeing Through Adaptive Robotic Coaches” at 11am (
 UTC) on 11 February 2025.\n\nIEEE UK and Ireland RAS Chapter is cooperatin
 g with a number of IEEE OUs including IEEE UK and Ireland Women in Enginee
 ring Affinity Group and IEEE UK and Ireland SSIT Chapter to organise this 
 Guest Lecture as a joint Webinar on 11 February as part of International D
 ay of Women and Girls in Science.\n\nRegistration\n\nIEEE and non-IEEE Mem
 bers are invited to [Register](https://events.vtools.ieee.org/m/467185) an
 d participate.\n\nIEEE Members should include their IEEE Membership Number
  when registering.\n\nAccess to online Meeting\n\n[Registered](https://eve
 nts.vtools.ieee.org/m/467185) participants will be provided with the link 
 prior to the event.\n\nGuest Lecture Focus\n\nAbstract: The field of socia
 l robotics increasingly acknowledges the potential of robots to align with
  human needs\, serving as collaborative agents in promoting physical\, men
 tal\, and emotional well-being. At the Cambridge Affective Intelligence an
 d Robotics Lab (AFAR)\, we have explored this potential since 2019\, suppo
 rted by a 5-year grant from the UK Engineering and Physical Sciences Resea
 rch Council (EPSRC).\n\nOur work focuses on designing robotic coaches that
  socially align with human behaviours and goals to enhance mental well-bei
 ng. This effort has involved:\n\n· Collaborations with human coaches &amp; pr
 ofessionals to ground the robot’s actions in established practices.\n\n
 · User-centred research to understand user expectations\, perceptions\, a
 nd feedback.\n\n· Development of adaptive AI that responds in real-time t
 o verbal and nonverbal user behaviours.\n\nIn this talk\, I will share our
  journey of transitioning robotic coaches from lab environments to real-wo
 rld applications\, discussing how social alignment in robotics enhances en
 gagement and efficacy. Through case studies\, I will highlight challenges 
 and opportunities in using socially adaptive robots for well-being\, inclu
 ding strategies for short- and long-term adaptation and insights into user
  expectations shaping the future of research in this domain.\n\nSpeaker(s)
 : Prof. Hatice Gunes\, \n\nAgenda: \n11:00 (UTC) Welcome and Introduction 
 to Guest Speaker\n\n11:05 Lecture\n\n12:00 Questions and Discussions\n\nVi
 rtual: https://events.vtools.ieee.org/m/467185
LOCATION:Virtual: https://events.vtools.ieee.org/m/467185
ORGANIZER:figueredo@ieee.org
SEQUENCE:14
SUMMARY:RAS Lecture Social Alignment in Robotics: Promoting Human Wellbeing
  Through Adaptive Robotic Coaches\, Prof. Hatice Gunes
URL;VALUE=URI:https://events.vtools.ieee.org/m/467185
X-ALT-DESC:Description: &lt;br /&gt;&lt;p class=&quot;MsoNormal&quot; style=&quot;margin-bottom: 6.
 0pt\; line-height: normal\;&quot;&gt;&lt;span style=&quot;font-family: arial\, helvetica\,
  sans-serif\;&quot;&gt;&lt;strong&gt;Prof. Hatice Gunes&lt;/strong&gt; (Professor of Affective
  Intelligence &amp;amp\; Robotics\, University of Cambridge) will present &amp;ldq
 uo\;&lt;strong&gt;&lt;em&gt;Social Alignment in Robotics: Promoting Human Wellbeing Th
 rough Adaptive Robotic Coaches&lt;/em&gt;&lt;/strong&gt;&amp;rdquo\; at 11am (UTC) on &lt;str
 ong&gt;11 February 2025.&lt;/strong&gt;&lt;/span&gt;&lt;/p&gt;\n&lt;p class=&quot;MsoNormal&quot; style=&quot;mar
 gin-bottom: 6.0pt\; line-height: normal\;&quot;&gt;&lt;span style=&quot;font-family: arial
 \, helvetica\, sans-serif\;&quot;&gt;&lt;strong&gt;IEEE UK and Ireland RAS Chapter&lt;/stro
 ng&gt; is cooperating with a number of IEEE OUs including &lt;strong&gt;&lt;em&gt;IEEE UK
  and Ireland Women in Engineering Affinity Group&lt;/em&gt;&lt;/strong&gt; and &lt;strong
 &gt;&lt;em&gt;IEEE UK and Ireland SSIT Chapter&lt;/em&gt;&lt;/strong&gt; to organise this Guest
  Lecture as a joint Webinar on 11 February as part of &lt;strong&gt;&lt;em&gt;Internat
 ional Day of Women and Girls in Science.&lt;/em&gt;&lt;/strong&gt;&lt;/span&gt;&lt;/p&gt;\n&lt;p clas
 s=&quot;MsoNormal&quot; style=&quot;margin-bottom: 6.0pt\; line-height: normal\;&quot;&gt;&lt;span s
 tyle=&quot;font-family: arial\, helvetica\, sans-serif\;&quot;&gt;&lt;strong&gt;Registration&lt;
 /strong&gt;&lt;/span&gt;&lt;/p&gt;\n&lt;p class=&quot;MsoNormal&quot; style=&quot;margin-bottom: 6.0pt\; li
 ne-height: normal\;&quot;&gt;&lt;span style=&quot;font-family: arial\, helvetica\, sans-se
 rif\;&quot;&gt;IEEE and non-IEEE Members are invited to &lt;a href=&quot;https://events.vt
 ools.ieee.org/m/467185&quot; target=&quot;_blank&quot; rel=&quot;noopener&quot;&gt;Register&lt;/a&gt; and pa
 rticipate.&lt;/span&gt;&lt;/p&gt;\n&lt;p class=&quot;MsoNormal&quot; style=&quot;margin-bottom: 6.0pt\; 
 line-height: normal\;&quot;&gt;&lt;span style=&quot;font-family: arial\, helvetica\, sans-
 serif\;&quot;&gt;IEEE Members should include their IEEE Membership Number when reg
 istering.&lt;/span&gt;&lt;/p&gt;\n&lt;p class=&quot;MsoNormal&quot; style=&quot;margin-bottom: 6.0pt\; l
 ine-height: normal\;&quot;&gt;&lt;span style=&quot;font-family: arial\, helvetica\, sans-s
 erif\;&quot;&gt;&lt;strong&gt;Access to online Meeting&lt;/strong&gt;&lt;/span&gt;&lt;/p&gt;\n&lt;p class=&quot;Ms
 oNormal&quot; style=&quot;margin-bottom: 6.0pt\; line-height: normal\;&quot;&gt;&lt;span style=
 &quot;font-family: arial\, helvetica\, sans-serif\;&quot;&gt;&lt;a href=&quot;https://events.vt
 ools.ieee.org/m/467185&quot; target=&quot;_blank&quot; rel=&quot;noopener&quot;&gt;Registered&lt;/a&gt; part
 icipants will be provided with the link prior to the event.&lt;/span&gt;&lt;/p&gt;\n&lt;p
  class=&quot;MsoNormal&quot; style=&quot;margin-bottom: 6.0pt\; line-height: normal\;&quot;&gt;&lt;s
 pan style=&quot;font-family: arial\, helvetica\, sans-serif\;&quot;&gt;&lt;strong&gt;Guest Le
 cture Focus&lt;/strong&gt;&lt;/span&gt;&lt;/p&gt;\n&lt;p class=&quot;MsoNormal&quot; style=&quot;margin-bottom
 : 6.0pt\; line-height: normal\;&quot;&gt;&lt;span style=&quot;font-family: arial\, helveti
 ca\, sans-serif\;&quot;&gt;Abstract: The field of social robotics increasingly ack
 nowledges the potential of robots to align with human needs\, serving as c
 ollaborative agents in promoting physical\, mental\, and emotional well-be
 ing. At the Cambridge Affective Intelligence and Robotics Lab (AFAR)\, we 
 have explored this potential since 2019\, supported by a 5-year grant from
  the UK Engineering and Physical Sciences Research Council (EPSRC).&lt;/span&gt;
 &lt;/p&gt;\n&lt;p class=&quot;MsoNormal&quot; style=&quot;margin-bottom: 3.0pt\; line-height: norm
 al\;&quot;&gt;&lt;span style=&quot;font-family: arial\, helvetica\, sans-serif\;&quot;&gt;Our work
  focuses on designing robotic coaches that socially align with human behav
 iours and goals to enhance mental well-being. This effort has involved:&lt;/s
 pan&gt;&lt;/p&gt;\n&lt;p class=&quot;MsoListParagraph&quot; style=&quot;text-indent: -18.0pt\; line-h
 eight: normal\; mso-list: l0 level1 lfo1\; margin: 0cm 0cm 3.0pt 14.2pt\;&quot;
 &gt;&lt;span style=&quot;font-family: arial\, helvetica\, sans-serif\;&quot;&gt;&lt;!-- [if !sup
 portLists]--&gt;&lt;span style=&quot;mso-list: Ignore\;&quot;&gt;&amp;middot\;&lt;span style=&quot;font-s
 tyle: normal\; font-variant: normal\; font-size-adjust: none\; font-kernin
 g: auto\; font-optical-sizing: auto\; font-feature-settings: normal\; font
 -variation-settings: normal\; font-weight: normal\; font-stretch: normal\;
  font-size: 7pt\; line-height: normal\;&quot;&gt;&amp;nbsp\;&amp;nbsp\;&amp;nbsp\;&amp;nbsp\;&amp;nbsp
 \;&amp;nbsp\; &lt;/span&gt;&lt;/span&gt;&lt;!--[endif]--&gt;Collaborations with human coaches &amp;a
 mp\; professionals to ground the robot&amp;rsquo\;s actions in established pra
 ctices.&lt;/span&gt;&lt;/p&gt;\n&lt;p class=&quot;MsoListParagraph&quot; style=&quot;text-indent: -18.0p
 t\; line-height: normal\; mso-list: l0 level1 lfo1\; margin: 0cm 0cm 3.0pt
  14.2pt\;&quot;&gt;&lt;span style=&quot;font-family: arial\, helvetica\, sans-serif\;&quot;&gt;&lt;!-
 - [if !supportLists]--&gt;&lt;span style=&quot;mso-list: Ignore\;&quot;&gt;&amp;middot\;&lt;span sty
 le=&quot;font-style: normal\; font-variant: normal\; font-size-adjust: none\; f
 ont-kerning: auto\; font-optical-sizing: auto\; font-feature-settings: nor
 mal\; font-variation-settings: normal\; font-weight: normal\; font-stretch
 : normal\; font-size: 7pt\; line-height: normal\;&quot;&gt;&amp;nbsp\;&amp;nbsp\;&amp;nbsp\;&amp;n
 bsp\;&amp;nbsp\;&amp;nbsp\; &lt;/span&gt;&lt;/span&gt;&lt;!--[endif]--&gt;User-centred research to u
 nderstand user expectations\, perceptions\, and feedback.&lt;/span&gt;&lt;/p&gt;\n&lt;p c
 lass=&quot;MsoListParagraph&quot; style=&quot;text-indent: -18.0pt\; line-height: normal\
 ; mso-list: l0 level1 lfo1\; margin: 0cm 0cm 6.0pt 14.2pt\;&quot;&gt;&lt;span style=&quot;
 font-family: arial\, helvetica\, sans-serif\;&quot;&gt;&lt;!-- [if !supportLists]--&gt;&lt;
 span style=&quot;mso-list: Ignore\;&quot;&gt;&amp;middot\;&lt;span style=&quot;font-style: normal\;
  font-variant: normal\; font-size-adjust: none\; font-kerning: auto\; font
 -optical-sizing: auto\; font-feature-settings: normal\; font-variation-set
 tings: normal\; font-weight: normal\; font-stretch: normal\; font-size: 7p
 t\; line-height: normal\;&quot;&gt;&amp;nbsp\;&amp;nbsp\;&amp;nbsp\;&amp;nbsp\;&amp;nbsp\;&amp;nbsp\; &lt;/sp
 an&gt;&lt;/span&gt;&lt;!--[endif]--&gt;Development of adaptive AI that responds in real-t
 ime to verbal and nonverbal user behaviours.&lt;/span&gt;&lt;/p&gt;\n&lt;p class=&quot;MsoNorm
 al&quot; style=&quot;margin-bottom: 6.0pt\; line-height: normal\;&quot;&gt;&lt;span style=&quot;font
 -family: arial\, helvetica\, sans-serif\;&quot;&gt;In this talk\, I will share our
  journey of transitioning robotic coaches from lab environments to real-wo
 rld applications\, discussing how social alignment in robotics enhances en
 gagement and efficacy. Through case studies\, I will highlight challenges 
 and opportunities in using socially adaptive robots for well-being\, inclu
 ding strategies for short- and long-term adaptation and insights into user
  expectations shaping the future of research in this domain.&lt;/span&gt;&lt;/p&gt;&lt;br
  /&gt;&lt;br /&gt;Agenda: &lt;br /&gt;&lt;p class=&quot;MsoNormal&quot; style=&quot;margin-bottom: 6.0pt\; 
 line-height: normal\;&quot;&gt;&lt;span style=&quot;font-family: arial\, helvetica\, sans-
 serif\;&quot;&gt;11:00 (UTC) Welcome and Introduction to Guest Speaker&lt;/span&gt;&lt;/p&gt;\
 n&lt;p class=&quot;MsoNormal&quot; style=&quot;margin-bottom: 6.0pt\; line-height: normal\;&quot;
 &gt;&lt;span style=&quot;font-family: arial\, helvetica\, sans-serif\;&quot;&gt;11:05 Lecture
 &lt;/span&gt;&lt;/p&gt;\n&lt;p class=&quot;MsoNormal&quot; style=&quot;margin-bottom: 6.0pt\; line-heigh
 t: normal\;&quot;&gt;&lt;span style=&quot;font-family: arial\, helvetica\, sans-serif\;&quot;&gt;1
 2:00 Questions and Discussions&lt;/span&gt;&lt;/p&gt;
END:VEVENT
END:VCALENDAR

