BEGIN:VCALENDAR
VERSION:2.0
PRODID:IEEE vTools.Events//EN
CALSCALE:GREGORIAN
BEGIN:VTIMEZONE
TZID:US/Eastern
BEGIN:DAYLIGHT
DTSTART:20170312T030000
TZOFFSETFROM:-0500
TZOFFSETTO:-0400
RRULE:FREQ=YEARLY;BYDAY=2SU;BYMONTH=3
TZNAME:EDT
END:DAYLIGHT
BEGIN:STANDARD
DTSTART:20171105T010000
TZOFFSETFROM:-0400
TZOFFSETTO:-0500
RRULE:FREQ=YEARLY;BYDAY=1SU;BYMONTH=11
TZNAME:EST
END:STANDARD
END:VTIMEZONE
BEGIN:VEVENT
DTSTAMP:20171017T195857Z
UID:057DA7D3-8BF5-11E7-8752-0050568D2FB3
DTSTART;TZID=US/Eastern:20171018T120000
DTEND;TZID=US/Eastern:20171018T130000
DESCRIPTION:Two major players in a smart grid are renewables and flexible c
 onsumption. The former is necessitated by global concerns of sustainabilit
 y and greenhouse gas emissions\, and dwindling resources of fossil fuels. 
 The latter is enabled through the feasibility of fast and large-scale comm
 unication and the growing acceptance and economic potential of flexible co
 nsumption. Introduction of these two players brings with it a host of chal
 lenges\, many of which stem from the introduction of complex and uncertain
  dynamics at various time-scales. In order to assess the impact of these d
 ynamics\, and realize the desired goals of a smart grid\, of delivering af
 fordable and reliable power to all end-users\, an end-to-end framework tha
 t is dynamic\, and allows the deployment of various analysis and synthesis
  tools of stability\, estimation\, optimization\, and control is needed. T
 his framework should not only encompass the physically relevant\, and trad
 itional timescales of frequency and voltage control\, but economically rel
 evant market-based decisions for planning and economic dispatch. More impo
 rtantly\, this framework should address the interactions between the forme
 r active-control components that manipulate physical variables and the lat
 ter transactive-control components that manipulate economic variables. In 
 this talk\, recent results developed in the AAC laboratory at MIT related 
 to the development of such a dynamic framework will be presented.\n\nCo-sp
 onsored by: Temple University\n\nSpeaker(s): DR. ANURADHA ANNASWAMY\, \, D
 R. ANURADHA ANNASWAMY\, \n\nAgenda: \nIEEE Control System Society\, Distin
 guished Lecture\n\nRoom: 301\, Bldg: Engineering Building\, 1947 N. 12th S
 t\, Temple University\, Philadelphia\, Pennsylvania\, United States\, 1912
 2
LOCATION:Room: 301\, Bldg: Engineering Building\, 1947 N. 12th St\, Temple 
 University\, Philadelphia\, Pennsylvania\, United States\, 19122
ORGANIZER:ziauddin.ahmad.us@ieee.org
SEQUENCE:3
SUMMARY:A DYNAMIC FRAMEWORK FOR INTEGRATION OF RENEWABLES IN SMART GRIDS
URL;VALUE=URI:https://events.vtools.ieee.org/m/46719
X-ALT-DESC:Description: &lt;br /&gt;&lt;p&gt;Two major players in a smart grid are rene
 wables and flexible consumption. The former is necessitated by global conc
 erns of sustainability and greenhouse gas emissions\, and dwindling resour
 ces of fossil fuels. The latter is enabled through the feasibility of fast
  and large-scale communication and the growing acceptance and economic pot
 ential of flexible consumption. Introduction of these two players brings w
 ith it a host of challenges\, many of which stem from the introduction of 
 complex and uncertain dynamics at various time-scales. In order to assess 
 the impact of these dynamics\, and realize the desired goals of a smart gr
 id\, of delivering affordable and reliable power to all end-users\, an end
 -to-end framework that is dynamic\, and allows the deployment of various a
 nalysis and synthesis tools of stability\, estimation\, optimization\, and
  control is needed. This framework should not only encompass the physicall
 y relevant\, and traditional timescales of frequency and voltage control\,
  but economically relevant market-based decisions for planning and economi
 c dispatch. More importantly\, this framework should address the interacti
 ons between the former active-control components that manipulate physical 
 variables and the latter transactive-control components that manipulate ec
 onomic variables. In this talk\, recent results developed in the AAC labor
 atory at MIT related to the development of such a dynamic framework will b
 e presented.&lt;/p&gt;&lt;br /&gt;&lt;br /&gt;Agenda: &lt;br /&gt;&lt;p&gt;IEEE Control System Society\,
  Distinguished Lecture&lt;/p&gt;
END:VEVENT
END:VCALENDAR

