BEGIN:VCALENDAR
VERSION:2.0
PRODID:IEEE vTools.Events//EN
CALSCALE:GREGORIAN
BEGIN:VTIMEZONE
TZID:Asia/Dhaka
BEGIN:DAYLIGHT
DTSTART:20380119T091407
TZOFFSETFROM:+0600
TZOFFSETTO:+0600
RRULE:FREQ=YEARLY;BYDAY=3TU;BYMONTH=1
TZNAME:+06
END:DAYLIGHT
BEGIN:STANDARD
DTSTART:20091231T230000
TZOFFSETFROM:+0700
TZOFFSETTO:+0600
RRULE:FREQ=YEARLY;BYDAY=-1TH;BYMONTH=12
TZNAME:+06
END:STANDARD
END:VTIMEZONE
BEGIN:VEVENT
DTSTAMP:20250217T181213Z
UID:0F4EB327-6331-4CE1-B9EB-81B83A0AA410
DTSTART;TZID=Asia/Dhaka:20250209T120000
DTEND;TZID=Asia/Dhaka:20250209T150000
DESCRIPTION:Join our inspiring seminar titled &quot;Unlocking Opportunities: Hig
 her Studies in Australia &amp; Sydney Coding Fest 2025.&quot; Here you’ll gain va
 luable insights into the process\, challenges\, and opportunities of study
 ing abroad!\n\n[]\n\nWhy Attend?\n\n🔹Get expert guidance on securing hi
 gher study opportunities in Australia.\n🔹Learn about thesis/research qu
 ality and academic journey strategies.\n🔹Gain first-hand insights from 
 an esteemed researcher and academic mentor.\n🔹Exclusive Insights on Syd
 ney Coding Fest 2025! Learn how this prestigious competition fosters innov
 ation and excellence in coding\, research\, and career growth\n\n🏅Award
  Ceremony: Winners of the Sydney Coding Fest 2024 will be honored with awa
 rds\, certificates\, and grants!\n\n🎤Speaker:\n\nDr. Md Masbaul Alam Po
 lash\nLecturer\, University of Sydney\nAssociate Professor\, Dept. of CSE\
 , JnU\nVisiting Scholar\, Griffith University\n(Feb 2018 - Jun 2018)\n\n
 📅 Event Details:\n\nDate: 9th February 2025 (Sunday)\n\nTime: 12:00 PM 
 - 3:00 PM\n\nVenue: Room No. 601 (5th Floor)\, Shahid Sajid Academic Build
 ing\, Jagannath University (JnU)\n\n📌Don’t miss this golden opportuni
 ty to break barriers and set your success journey in motion! Mark your cal
 endars and be there!\n\nCo-sponsored by: Department of Computer Science an
 d Engineering\, Jagannath University\, Dhaka.\n\nSpeaker(s): Dr. Md Masbau
 l Alam Polash\n\nRoom: 601 (Level-5)\, Bldg: Shahid Sajid Building\, 9-10\
 , Chittaranjan Avenue\, Sadarghat\, Dhaka\, Dhaka\, Bangladesh\, 1100
LOCATION:Room: 601 (Level-5)\, Bldg: Shahid Sajid Building\, 9-10\, Chittar
 anjan Avenue\, Sadarghat\, Dhaka\, Dhaka\, Bangladesh\, 1100
ORGANIZER:selina@cse.jnu.ac.bd
SEQUENCE:18
SUMMARY:Unlocking Opportunities: Higher Studies in Australia &amp; Sydney Codin
 g Fest 2025
URL;VALUE=URI:https://events.vtools.ieee.org/m/467568
X-ALT-DESC:Description: &lt;br /&gt;&lt;div class=&quot;x11i5rnm xat24cr x1mh8g0r x1vvkbs
  xtlvy1s x126k92a&quot; style=&quot;text-align: justify\;&quot;&gt;\n&lt;div dir=&quot;auto&quot;&gt;&lt;span s
 tyle=&quot;font-family: &#39;times new roman&#39;\, times\, serif\; font-size: 14pt\;&quot;&gt;
 Join our inspiring seminar titled &lt;strong&gt;&lt;span style=&quot;color: rgb(186\, 55
 \, 42)\;&quot;&gt;&quot;Unlocking Opportunities: Higher Studies in Australia &amp;amp\; Syd
 ney Coding Fest 2025.&quot; &lt;/span&gt;&lt;/strong&gt;&lt;span style=&quot;color: rgb(186\, 55\, 
 42)\;&quot;&gt;&lt;span style=&quot;color: rgb(0\, 0\, 0)\;&quot;&gt;Here you&amp;rsquo\;ll gain valua
 ble insights into the process\, challenges\, and opportunities of studying
  abroad!&lt;/span&gt;&lt;/span&gt;&lt;/span&gt;&lt;/div&gt;\n&lt;div dir=&quot;auto&quot;&gt;&amp;nbsp\;&lt;/div&gt;\n&lt;div d
 ir=&quot;auto&quot;&gt;&lt;span style=&quot;font-family: &#39;times new roman&#39;\, times\, serif\; fo
 nt-size: 14pt\;&quot;&gt;&lt;span style=&quot;color: rgb(186\, 55\, 42)\;&quot;&gt;&lt;img style=&quot;dis
 play: block\; margin-left: auto\; margin-right: auto\;&quot; src=&quot;https://event
 s.vtools.ieee.org/vtools_ui/media/display/55d268eb-4ff2-4265-abcb-b9b68b9e
 dd4c&quot; alt=&quot;&quot; width=&quot;413&quot; height=&quot;216&quot;&gt;&lt;/span&gt;&lt;/span&gt;&lt;/div&gt;\n&lt;div dir=&quot;auto
 &quot;&gt;&amp;nbsp\;&lt;/div&gt;\n&lt;/div&gt;\n&lt;div class=&quot;x11i5rnm xat24cr x1mh8g0r x1vvkbs xtl
 vy1s x126k92a&quot; style=&quot;text-align: justify\;&quot;&gt;\n&lt;div dir=&quot;auto&quot;&gt;&lt;span style
 =&quot;font-family: &#39;times new roman&#39;\, times\, serif\; font-size: 14pt\;&quot;&gt;&lt;str
 ong&gt;Why Attend?&lt;/strong&gt;&lt;/span&gt;&lt;/div&gt;\n&lt;/div&gt;\n&lt;div class=&quot;x11i5rnm xat24c
 r x1mh8g0r x1vvkbs xtlvy1s x126k92a&quot; style=&quot;text-align: justify\;&quot;&gt;\n&lt;div 
 dir=&quot;auto&quot;&gt;&lt;span style=&quot;font-family: &#39;times new roman&#39;\, times\, serif\; f
 ont-size: 14pt\;&quot;&gt;&lt;span class=&quot;html-span xexx8yu x4uap5 x18d9i69 xkhd6sd x
 1hl2dhg x16tdsg8 x1vvkbs x3nfvp2 x1j61x8r x1fcty0u xdj266r xat24cr xgzva0m
  xhhsvwb xxymvpz xlup9mm x1kky2od&quot;&gt;🔹&lt;/span&gt;Get expert guidance on secur
 ing higher study opportunities in Australia.&lt;/span&gt;&lt;/div&gt;\n&lt;div dir=&quot;auto&quot;
 &gt;&lt;span style=&quot;font-family: &#39;times new roman&#39;\, times\, serif\; font-size: 
 14pt\;&quot;&gt;&lt;span class=&quot;html-span xexx8yu x4uap5 x18d9i69 xkhd6sd x1hl2dhg x1
 6tdsg8 x1vvkbs x3nfvp2 x1j61x8r x1fcty0u xdj266r xat24cr xgzva0m xhhsvwb x
 xymvpz xlup9mm x1kky2od&quot;&gt;🔹&lt;/span&gt;Learn about thesis/research quality an
 d academic journey strategies.&lt;/span&gt;&lt;/div&gt;\n&lt;div dir=&quot;auto&quot;&gt;&lt;span style=&quot;
 font-family: &#39;times new roman&#39;\, times\, serif\; font-size: 14pt\;&quot;&gt;&lt;span 
 class=&quot;html-span xexx8yu x4uap5 x18d9i69 xkhd6sd x1hl2dhg x16tdsg8 x1vvkbs
  x3nfvp2 x1j61x8r x1fcty0u xdj266r xat24cr xgzva0m xhhsvwb xxymvpz xlup9mm
  x1kky2od&quot;&gt;🔹&lt;/span&gt;Gain first-hand insights from an esteemed researcher
  and academic mentor.&lt;/span&gt;&lt;/div&gt;\n&lt;div dir=&quot;auto&quot;&gt;&lt;span style=&quot;font-fami
 ly: &#39;times new roman&#39;\, times\, serif\; font-size: 14pt\;&quot;&gt;&lt;span class=&quot;ht
 ml-span xexx8yu x4uap5 x18d9i69 xkhd6sd x1hl2dhg x16tdsg8 x1vvkbs x3nfvp2 
 x1j61x8r x1fcty0u xdj266r xat24cr xgzva0m xhhsvwb xxymvpz xlup9mm x1kky2od
 &quot;&gt;🔹&lt;/span&gt;Exclusive Insights on Sydney Coding Fest 2025! Learn how this
  prestigious competition fosters innovation and excellence in coding\, res
 earch\, and career growth&lt;/span&gt;&lt;/div&gt;\n&lt;div dir=&quot;auto&quot;&gt;&amp;nbsp\;&lt;/div&gt;\n&lt;/d
 iv&gt;\n&lt;div class=&quot;x11i5rnm xat24cr x1mh8g0r x1vvkbs xtlvy1s x126k92a&quot; style
 =&quot;text-align: justify\;&quot;&gt;\n&lt;div dir=&quot;auto&quot;&gt;&lt;span style=&quot;font-family: &#39;time
 s new roman&#39;\, times\, serif\; font-size: 14pt\;&quot;&gt;&lt;strong&gt;🏅Award Ceremo
 ny:&lt;/strong&gt; Winners of the Sydney Coding Fest 2024 will be honored with a
 wards\, certificates\, and grants!&amp;nbsp\;&lt;/span&gt;&lt;/div&gt;\n&lt;div dir=&quot;auto&quot;&gt;&amp;n
 bsp\;&lt;/div&gt;\n&lt;/div&gt;\n&lt;div class=&quot;x11i5rnm xat24cr x1mh8g0r x1vvkbs xtlvy1s
  x126k92a&quot; style=&quot;text-align: justify\;&quot;&gt;\n&lt;div dir=&quot;auto&quot;&gt;&lt;strong&gt;&lt;span s
 tyle=&quot;font-family: &#39;times new roman&#39;\, times\, serif\; font-size: 14pt\;&quot;&gt;
 🎤Speaker:&lt;/span&gt;&lt;/strong&gt;&lt;/div&gt;\n&lt;/div&gt;\n&lt;div class=&quot;x11i5rnm xat24cr x
 1mh8g0r x1vvkbs xtlvy1s x126k92a&quot; style=&quot;text-align: justify\;&quot;&gt;\n&lt;div dir
 =&quot;auto&quot;&gt;&lt;span style=&quot;font-family: &#39;times new roman&#39;\, times\, serif\; font
 -size: 14pt\;&quot;&gt;Dr. Md Masbaul Alam Polash&lt;/span&gt;&lt;/div&gt;\n&lt;div dir=&quot;auto&quot;&gt;&lt;s
 pan style=&quot;font-family: &#39;times new roman&#39;\, times\, serif\; font-size: 14p
 t\;&quot;&gt;Lecturer\, University of Sydney&lt;/span&gt;&lt;/div&gt;\n&lt;div dir=&quot;auto&quot;&gt;&lt;span s
 tyle=&quot;font-family: &#39;times new roman&#39;\, times\, serif\; font-size: 14pt\;&quot;&gt;
 Associate Professor\, Dept. of CSE\, JnU&lt;/span&gt;&lt;/div&gt;\n&lt;div dir=&quot;auto&quot;&gt;&lt;sp
 an style=&quot;font-family: &#39;times new roman&#39;\, times\, serif\; font-size: 14pt
 \;&quot;&gt;Visiting Scholar\, Griffith University&lt;/span&gt;&lt;/div&gt;\n&lt;div dir=&quot;auto&quot;&gt;&lt;
 span style=&quot;font-family: &#39;times new roman&#39;\, times\, serif\; font-size: 14
 pt\;&quot;&gt;(Feb 2018 - Jun 2018)&lt;/span&gt;&lt;/div&gt;\n&lt;div dir=&quot;auto&quot;&gt;&amp;nbsp\;&lt;/div&gt;\n&lt;
 /div&gt;\n&lt;div class=&quot;x11i5rnm xat24cr x1mh8g0r x1vvkbs xtlvy1s x126k92a&quot; sty
 le=&quot;text-align: justify\;&quot;&gt;\n&lt;div dir=&quot;auto&quot;&gt;&lt;strong&gt;&lt;span style=&quot;font-fam
 ily: &#39;times new roman&#39;\, times\, serif\; font-size: 14pt\;&quot;&gt;&lt;span class=&quot;h
 tml-span xexx8yu x4uap5 x18d9i69 xkhd6sd x1hl2dhg x16tdsg8 x1vvkbs x3nfvp2
  x1j61x8r x1fcty0u xdj266r xat24cr xgzva0m xhhsvwb xxymvpz xlup9mm x1kky2o
 d&quot;&gt;📅&lt;/span&gt; Event Details:&lt;/span&gt;&lt;/strong&gt;&lt;/div&gt;\n&lt;/div&gt;\n&lt;div class=&quot;x
 11i5rnm xat24cr x1mh8g0r x1vvkbs xtlvy1s x126k92a&quot; style=&quot;text-align: just
 ify\;&quot;&gt;\n&lt;div dir=&quot;auto&quot;&gt;&lt;span style=&quot;font-family: &#39;times new roman&#39;\, tim
 es\, serif\; font-size: 14pt\;&quot;&gt;Date: 9th February 2025 (Sunday)&lt;/span&gt;&lt;/d
 iv&gt;\n&lt;/div&gt;\n&lt;div class=&quot;x11i5rnm xat24cr x1mh8g0r x1vvkbs xtlvy1s x126k92
 a&quot; style=&quot;text-align: justify\;&quot;&gt;\n&lt;div dir=&quot;auto&quot;&gt;&lt;span style=&quot;font-famil
 y: &#39;times new roman&#39;\, times\, serif\; font-size: 14pt\;&quot;&gt;Time: 12:00 PM -
  3:00 PM&lt;/span&gt;&lt;/div&gt;\n&lt;/div&gt;\n&lt;div class=&quot;x11i5rnm xat24cr x1mh8g0r x1vvk
 bs xtlvy1s x126k92a&quot; style=&quot;text-align: justify\;&quot;&gt;\n&lt;div dir=&quot;auto&quot;&gt;&lt;span
  style=&quot;font-family: &#39;times new roman&#39;\, times\, serif\; font-size: 14pt\;
 &quot;&gt;Venue: Room No. 601 (5th Floor)\, Shahid Sajid Academic Building\, Jagan
 nath University (JnU)&lt;/span&gt;&lt;/div&gt;\n&lt;/div&gt;\n&lt;div class=&quot;x11i5rnm xat24cr x
 1mh8g0r x1vvkbs xtlvy1s x126k92a&quot; style=&quot;text-align: justify\;&quot;&gt;\n&lt;div dir
 =&quot;auto&quot;&gt;&amp;nbsp\;&lt;/div&gt;\n&lt;/div&gt;\n&lt;div class=&quot;x11i5rnm xat24cr x1mh8g0r x1vvk
 bs xtlvy1s x126k92a&quot; style=&quot;text-align: justify\;&quot;&gt;\n&lt;div dir=&quot;auto&quot;&gt;&lt;span
  style=&quot;font-family: &#39;times new roman&#39;\, times\, serif\; font-size: 14pt\;
 &quot;&gt;&lt;span class=&quot;html-span xexx8yu x4uap5 x18d9i69 xkhd6sd x1hl2dhg x16tdsg8
  x1vvkbs x3nfvp2 x1j61x8r x1fcty0u xdj266r xat24cr xgzva0m xhhsvwb xxymvpz
  xlup9mm x1kky2od&quot;&gt;📌&lt;/span&gt;Don&amp;rsquo\;t miss this golden opportunity to
  break barriers and set your success journey in motion! &lt;/span&gt;&lt;span class
 =&quot;html-span xexx8yu x4uap5 x18d9i69 xkhd6sd x1hl2dhg x16tdsg8 x1vvkbs x3nf
 vp2 x1j61x8r x1fcty0u xdj266r xat24cr xgzva0m xhhsvwb xxymvpz xlup9mm x1kk
 y2od&quot; style=&quot;font-family: &#39;times new roman&#39;\, times\, serif\; font-size: 1
 4pt\;&quot;&gt;Mark&lt;/span&gt;&lt;span style=&quot;font-family: &#39;times new roman&#39;\, times\, se
 rif\; font-size: 14pt\;&quot;&gt;&amp;nbsp\;your calendars and be there!&lt;/span&gt;&lt;/div&gt;\
 n&lt;/div&gt;
END:VEVENT
END:VCALENDAR

