BEGIN:VCALENDAR
VERSION:2.0
PRODID:IEEE vTools.Events//EN
CALSCALE:GREGORIAN
BEGIN:VTIMEZONE
TZID:Europe/Paris
BEGIN:DAYLIGHT
DTSTART:20250330T030000
TZOFFSETFROM:+0100
TZOFFSETTO:+0200
RRULE:FREQ=YEARLY;BYDAY=-1SU;BYMONTH=3
TZNAME:CEST
END:DAYLIGHT
BEGIN:STANDARD
DTSTART:20241027T020000
TZOFFSETFROM:+0200
TZOFFSETTO:+0100
RRULE:FREQ=YEARLY;BYDAY=-1SU;BYMONTH=10
TZNAME:CET
END:STANDARD
END:VTIMEZONE
BEGIN:VEVENT
DTSTAMP:20250211T182104Z
UID:C453376D-4B1A-4DB9-8DEF-22DF7742F7B7
DTSTART;TZID=Europe/Paris:20250125T080000
DTEND;TZID=Europe/Paris:20250125T180000
DESCRIPTION:DATALEADERS 1.0 was an internal competition collaboratively org
 anized by IEEE ENSI SB\, IEEE ENSI CIS SBC\, IEEE ENSIT SB\, and IEEE ENSI
 T CS SBC. The competition was exclusively designed for first-year engineer
 ing students from ENSI and ENSIT\, focusing on artificial intelligence. Th
 is event aimed to introduce participants to the structure of hackathons\, 
 enhance their problem-solving skills\, and foster collaboration among stud
 ents.\n\nCompetition Overview\nThe competition featured teams of 1 to 3 me
 mbers\, encouraging students to work together and develop AI-based solutio
 ns. The challenge required participants to analyze and solve a problem usi
 ng artificial intelligence techniques\, testing their creativity\, technic
 al skills\, and teamwork.\n\nThe jury carefully evaluated the solutions ba
 sed on their innovation\, feasibility\, and technical execution. Following
  this assessment\, the top six teams were selected to pitch their ideas in
  a Q&amp;A session\, providing them with valuable experience in presenting and
  defending their solutions.\n\nWinning Teams\nAfter an intense round of co
 mpetition\, two teams emerged as the winners:\n\n-\nPowerPuffBoys – Firs
 t place\, awarded 150 TND\n\n-\nStage Shifters – Second place\, awarded 
 100 TND\n\n[]\n\n[]\n\nSignificance of Collaboration :\nDATALEADERS 1.0 hi
 ghlighted the importance of collaboration between different IEEE Student B
 ranches\, allowing students from both ENSI and ENSIT to interact and learn
  from each other. By working together\, the organizing teams successfully 
 created a dynamic environment where participants could engage in hands-on 
 learning\, develop AI solutions\, and experience the competitive nature of
  hackathons.\n\nConclusion\nDATALEADERS 1.0 was a successful initiative th
 at not only introduced students to AI competitions but also strengthened c
 ollaboration among different IEEE branches. The event served as an excelle
 nt platform for students to challenge themselves\, enhance their analytica
 l skills\, and gain exposure to hackathon-style competitions. With its pos
 itive impact\, this competition sets the stage for future interdisciplinar
 y collaborations and more engaging technical events.\n\nSpeaker(s): \, \, 
 \n\nR377+FGR، Campus Universitaire de\, Manouba 2010\, Tunis\, Manouba\, 
 Tunisia\, 2021
LOCATION:R377+FGR، Campus Universitaire de\, Manouba 2010\, Tunis\, Manoub
 a\, Tunisia\, 2021
ORGANIZER:ieee.sb@ensi-uma.tn
SEQUENCE:6
SUMMARY:DATALEADERS 1.0
URL;VALUE=URI:https://events.vtools.ieee.org/m/468081
X-ALT-DESC:Description: &lt;br /&gt;&lt;p data-pm-slice=&quot;1 1 []&quot;&gt;&lt;strong&gt;&lt;span style
 =&quot;color: rgb(10\, 30\, 145)\;&quot;&gt;DATALEADERS 1.0&lt;/span&gt;&lt;/strong&gt; was an inte
 rnal competition collaboratively organized by &lt;span style=&quot;color: rgb(0\, 
 0\, 0)\;&quot;&gt;&lt;strong&gt;IEEE ENSI SB\, IEEE ENSI CIS SBC\, IEEE ENSIT SB\, and I
 EEE ENSIT CS SBC&lt;/strong&gt;. &lt;/span&gt;The competition was exclusively designed
  for&lt;span style=&quot;color: rgb(0\, 0\, 0)\;&quot;&gt; &lt;strong&gt;first-year engineering 
 students&lt;/strong&gt;&lt;/span&gt; from ENSI and ENSIT\, focusing on &lt;strong&gt;artific
 ial intelligence&lt;/strong&gt;. This event aimed to introduce participants to t
 he structure of &lt;span style=&quot;color: rgb(0\, 0\, 0)\;&quot;&gt;&lt;strong&gt;hackathons&lt;/
 strong&gt;&lt;/span&gt;\, enhance their problem-solving skills\, and foster collabo
 ration among students.&lt;/p&gt;\n&lt;p&gt;&lt;span style=&quot;color: rgb(5\, 21\, 111)\;&quot;&gt;&lt;s
 trong&gt;Competition Overview&lt;/strong&gt;&lt;/span&gt;&lt;br&gt;The competition featured tea
 ms of &lt;span style=&quot;color: rgb(0\, 0\, 0)\;&quot;&gt;&lt;strong&gt;1 to 3 members&lt;/strong
 &gt;&lt;/span&gt;\, encouraging students to work together and develop AI-based solu
 tions. The challenge required participants to analyze and solve a problem 
 using artificial intelligence techniques\, testing their creativity\, tech
 nical skills\, and teamwork.&lt;/p&gt;\n&lt;p&gt;The jury carefully evaluated the solu
 tions based on their innovation\, feasibility\, and technical execution. F
 ollowing this assessment\, the &lt;span style=&quot;color: rgb(0\, 0\, 0)\;&quot;&gt;&lt;stro
 ng&gt;top six teams&lt;/strong&gt; &lt;/span&gt;were selected to pitch their ideas in a Q
 &amp;amp\;A session\, providing them with valuable experience in presenting an
 d defending their solutions.&lt;/p&gt;\n&lt;p&gt;&lt;span style=&quot;color: rgb(5\, 21\, 111)
 \;&quot;&gt;&lt;strong&gt;Winning Teams&lt;/strong&gt;&lt;/span&gt;&lt;br&gt;After an intense round of com
 petition\, two teams emerged as the winners:&lt;/p&gt;\n&lt;ol start=&quot;1&quot; data-sprea
 d=&quot;false&quot;&gt;\n&lt;li&gt;\n&lt;p&gt;&lt;span style=&quot;color: rgb(0\, 0\, 0)\;&quot;&gt;&lt;strong&gt;PowerPu
 ffBoys&lt;/strong&gt;&lt;/span&gt; &amp;ndash\; First place\, awarded &lt;span style=&quot;color: 
 rgb(0\, 0\, 0)\;&quot;&gt;&lt;strong&gt;150 TND&lt;/strong&gt;&lt;/span&gt;&lt;/p&gt;\n&lt;/li&gt;\n&lt;li&gt;\n&lt;p&gt;&lt;sp
 an style=&quot;color: rgb(0\, 0\, 0)\;&quot;&gt;&lt;strong&gt;Stage Shifters&lt;/strong&gt;&lt;/span&gt; 
 &amp;ndash\; Second place\, awarded &lt;span style=&quot;color: rgb(0\, 0\, 0)\;&quot;&gt;&lt;str
 ong&gt;100 TND&lt;/strong&gt;&lt;/span&gt;&lt;/p&gt;\n&lt;/li&gt;\n&lt;/ol&gt;\n&lt;p&gt;&lt;span style=&quot;color: rgb(
 0\, 0\, 0)\;&quot;&gt;&lt;strong&gt;&lt;img style=&quot;display: block\; margin-left: auto\; mar
 gin-right: auto\;&quot; src=&quot;https://events.vtools.ieee.org/vtools_ui/media/dis
 play/24ec6aef-1691-4c51-bfca-0d54047387e3&quot; alt=&quot;&quot; width=&quot;700&quot; height=&quot;500&quot;
 &gt;&lt;/strong&gt;&lt;/span&gt;&lt;/p&gt;\n&lt;p&gt;&lt;span style=&quot;color: rgb(0\, 0\, 0)\;&quot;&gt;&lt;strong&gt;&lt;i
 mg style=&quot;display: block\; margin-left: auto\; margin-right: auto\;&quot; src=&quot;
 https://events.vtools.ieee.org/vtools_ui/media/display/5d46da58-53b5-4e8b-
 9d5e-00929e2990b4&quot; alt=&quot;&quot; width=&quot;700&quot; height=&quot;500&quot;&gt;&lt;/strong&gt;&lt;/span&gt;&lt;/p&gt;\n&lt;
 p&gt;&amp;nbsp\;&lt;/p&gt;\n&lt;p&gt;&lt;span style=&quot;color: rgb(5\, 21\, 111)\;&quot;&gt;&lt;strong&gt;Signifi
 cance of Collaboration :&lt;/strong&gt;&lt;/span&gt;&lt;br&gt;DATALEADERS 1.0 highlighted th
 e importance of collaboration between different&lt;span style=&quot;color: rgb(0\,
  0\, 0)\;&quot;&gt; &lt;strong&gt;IEEE Student Branches&lt;/strong&gt;\,&lt;/span&gt; allowing stude
 nts from both ENSI and ENSIT to interact and learn from each other. By wor
 king together\, the organizing teams successfully created a dynamic enviro
 nment where participants could engage in hands-on learning\, develop AI so
 lutions\, and experience the competitive nature of hackathons.&lt;/p&gt;\n&lt;p&gt;&lt;sp
 an style=&quot;color: rgb(5\, 21\, 111)\;&quot;&gt;&lt;strong&gt;Conclusion&lt;/strong&gt;&lt;/span&gt;&lt;b
 r&gt;DATALEADERS 1.0 was a successful initiative that not only introduced stu
 dents to AI competitions but also strengthened collaboration among differe
 nt IEEE branches. The event served as an excellent platform for students t
 o challenge themselves\, enhance their analytical skills\, and gain exposu
 re to hackathon-style competitions. With its positive impact\, this compet
 ition sets the stage for future interdisciplinary collaborations and more 
 engaging technical events.&lt;/p&gt;\n&lt;p&gt;&amp;nbsp\;&lt;/p&gt;
END:VEVENT
END:VCALENDAR

