BEGIN:VCALENDAR
VERSION:2.0
PRODID:IEEE vTools.Events//EN
CALSCALE:GREGORIAN
BEGIN:VTIMEZONE
TZID:America/Chicago
BEGIN:DAYLIGHT
DTSTART:20250309T030000
TZOFFSETFROM:-0600
TZOFFSETTO:-0500
RRULE:FREQ=YEARLY;BYDAY=2SU;BYMONTH=3
TZNAME:CDT
END:DAYLIGHT
BEGIN:STANDARD
DTSTART:20251102T010000
TZOFFSETFROM:-0500
TZOFFSETTO:-0600
RRULE:FREQ=YEARLY;BYDAY=1SU;BYMONTH=11
TZNAME:CST
END:STANDARD
END:VTIMEZONE
BEGIN:VEVENT
DTSTAMP:20250427T152911Z
UID:E7F6623C-6147-4866-B5A7-DAE8DC9AEC60
DTSTART;TZID=America/Chicago:20250425T113000
DTEND;TZID=America/Chicago:20250425T130000
DESCRIPTION:Joint meeting of EMB and LMAG with tour of the Central Texas Wi
 ng of the Commemorative Air Force in San Marcos.\n\nMeals will be box lunc
 h. There is a $10.00 charge for each registrant. Guests and non-members ch
 arge is $15.00 and Students are $5.00. Remainder of the tab will be picked
  up by the EMB and LMAG\n\nWe accept Cash or Check\, no credit cards. Exac
 t amounts preferable.\n\nCentral Texas Wing Museum houses seven CAF aircra
 ft for which the Wing has maintenance and restoration responsibility: a ve
 ry-rare flying Bell P-39Q Airacobra Miss Connie\, the NAA B-25J Yellow Ros
 e\, a Vultee BT-13 Valiant\, and a Cessna U-3A Administrator\, Beech C-45 
 Expeditor Lone Star Lady\, the NAA AT-6 Texan\, and the Douglas Sktrain [C
 -47 That&#39;s All Brother.](https://thatsallbrother.org/) You can also visit 
 the museum and gift shop or attend one of the events.\n\nThe museum is ope
 n Monday\, Wednesday\, Friday and Saturday each week from 9:00 am to 4:00 
 pm. Admission is free\, but donations help keep em flying!\n\nSpeaker(s): 
 Dr. Dawn Roberson\, \n\nAgenda: \n11:30-12:00 PM: Networking session /Open
  Meeting\n\n12:00-12:30 PM: Lunch\n\n12:30-1:30 PM: Tour\n\n1:30 PM: Wrap 
 up and closing remarks\n\n1841 Airport Road\, Bldg 2249\, San Marcos\, Tex
 as\, United States
LOCATION:1841 Airport Road\, Bldg 2249\, San Marcos\, Texas\, United States
ORGANIZER:heena.rathore@ieee.org
SEQUENCE:16
SUMMARY:Tour of the Commemorative Air Force Central Texas Wing
URL;VALUE=URI:https://events.vtools.ieee.org/m/468154
X-ALT-DESC:Description: &lt;br /&gt;&lt;p&gt;Joint meeting of EMB and LMAG with tour of
  the Central Texas Wing of the Commemorative Air Force in San Marcos.&lt;/p&gt;\
 n&lt;p&gt;&lt;strong&gt;Meals will be box lunch. &amp;nbsp\;There is a $10.00 charge for e
 ach registrant.&amp;nbsp\; Guests and non-members charge is $15.00 and Student
 s are $5.00. Remainder of the tab will be picked up by the EMB and LMAG&lt;/s
 trong&gt;&lt;/p&gt;\n&lt;p&gt;&lt;strong&gt;We accept Cash or Check\, no credit cards&lt;/strong&gt;.
 &amp;nbsp\; &lt;strong&gt;Exact amounts preferable.&lt;/strong&gt;&lt;/p&gt;\n&lt;p&gt;&amp;nbsp\;&lt;/p&gt;\n&lt;p
 &gt;&lt;strong&gt;Central Texas Wing Museum houses seven CAF aircraft for which the
  Wing has maintenance and restoration responsibility: a very-rare flying B
 ell P-39Q Airacobra&amp;nbsp\;&lt;span class=&quot;wixui-rich-text__text&quot;&gt;Miss Connie&lt;
 /span&gt;\, the NAA B-25J &lt;span class=&quot;wixui-rich-text__text&quot;&gt;Yellow Rose&lt;/sp
 an&gt;\, a Vultee BT-13 Valiant\, and a Cessna U-3A Administrator\, Beech C-4
 5 Expeditor&amp;nbsp\;&lt;span class=&quot;wixui-rich-text__text&quot;&gt;Lone Star Lady\,&lt;/sp
 an&gt; the NAA AT-6 Texan\, and the Douglas Sktrain&amp;nbsp\;&lt;span class=&quot;wixui-
 rich-text__text&quot;&gt;&lt;a class=&quot;wixui-rich-text__text&quot; href=&quot;https://thatsallbr
 other.org/&quot; target=&quot;_blank&quot; rel=&quot;noreferrer noopener&quot;&gt;C-47 That&#39;s All Brot
 her.&amp;nbsp\;&lt;/a&gt;&lt;/span&gt; You can also visit the museum and gift shop or atte
 nd one of the events.&lt;/strong&gt;&lt;/p&gt;\n&lt;p&gt;&lt;strong&gt;The museum is open Monday\,
  Wednesday\, Friday and Saturday each week from 9:00 am to 4:00 pm. Admiss
 ion is free\, but &amp;nbsp\;donations help keep em flying!&lt;/strong&gt;&lt;/p&gt;\n&lt;p&gt;&amp;
 nbsp\;&lt;/p&gt;&lt;br /&gt;&lt;br /&gt;Agenda: &lt;br /&gt;&lt;p&gt;&amp;nbsp\;&lt;/p&gt;\n&lt;p&gt;11:30-12:00 PM: Net
 working session /Open Meeting&lt;/p&gt;\n&lt;p&gt;12:00-12:30 PM: Lunch&amp;nbsp\;&lt;/p&gt;\n&lt;p
 &gt;12:30-1:30 PM: Tour&lt;/p&gt;\n&lt;p&gt;1:30 PM: Wrap up and closing remarks&lt;/p&gt;
END:VEVENT
END:VCALENDAR

