BEGIN:VCALENDAR
VERSION:2.0
PRODID:IEEE vTools.Events//EN
CALSCALE:GREGORIAN
BEGIN:VTIMEZONE
TZID:Europe/Berlin
BEGIN:DAYLIGHT
DTSTART:20250330T030000
TZOFFSETFROM:+0100
TZOFFSETTO:+0200
RRULE:FREQ=YEARLY;BYDAY=-1SU;BYMONTH=3
TZNAME:CEST
END:DAYLIGHT
BEGIN:STANDARD
DTSTART:20241027T020000
TZOFFSETFROM:+0200
TZOFFSETTO:+0100
RRULE:FREQ=YEARLY;BYDAY=-1SU;BYMONTH=10
TZNAME:CET
END:STANDARD
END:VTIMEZONE
BEGIN:VEVENT
DTSTAMP:20250408T134133Z
UID:E32664D0-F14E-4655-84AF-21697C5ECD4D
DTSTART;TZID=Europe/Berlin:20250219T130000
DTEND;TZID=Europe/Berlin:20250219T160000
DESCRIPTION:In preparation for our event\, Tomorrowland2.0\, we will offer 
 our participants a series of introductory and preparatory sessions designe
 d to enhance their knowledge and familiarize them with the various event c
 oncepts.\n\nThe opening session\, “Introduction to AI”\, served as the
  foundational block for the entire training series and hackathon preparati
 on.\n\nDuring this session\, participants were introduced to the essential
  concepts of artificial intelligence\, including its historical evolution\
 , core principles\, and various applications across industries. Key topics
  such as machine learning basics\, neural networks\, and data processing w
 ere discussed in a clear and engaging manner.\n\nThe session was interacti
 ve\, featuring Q&amp;A segments and illustrative demonstrations that bridged t
 heory and practice. By the end of the session\, participants gained a soli
 d understanding of what AI entails and how its technologies can be leverag
 ed\, setting the stage for deeper explorations in subsequent sessions.\n\n
 Tunisia\, Tunis\, Tunisia
LOCATION:Tunisia\, Tunis\, Tunisia
ORGANIZER:sbc-ensit-cs@ieee.org
SEQUENCE:15
SUMMARY:TomorrowLand : Introduction to AI
URL;VALUE=URI:https://events.vtools.ieee.org/m/468227
X-ALT-DESC:Description: &lt;br /&gt;&lt;p data-start=&quot;147&quot; data-end=&quot;174&quot;&gt;In prepara
 tion for our event\, &lt;span style=&quot;background-color: rgb(194\, 224\, 244)\;
 &quot;&gt;&lt;em&gt;&lt;strong&gt;Tomorrowland2.0&lt;/strong&gt;&lt;/em&gt;&lt;/span&gt;\, we will offer our par
 ticipants a series of introductory and preparatory sessions designed to en
 hance their knowledge and familiarize them with the various event concepts
 .&lt;/p&gt;\n&lt;p data-start=&quot;147&quot; data-end=&quot;174&quot;&gt;&lt;em&gt;The opening session\, &lt;span 
 style=&quot;background-color: rgb(194\, 224\, 244)\;&quot;&gt;&amp;ldquo\;Introduction to A
 I&amp;rdquo\;&lt;/span&gt;&lt;/em&gt;\, served as the foundational block for the entire tr
 aining series and hackathon preparation.&amp;nbsp\;&lt;/p&gt;\n&lt;p data-start=&quot;147&quot; d
 ata-end=&quot;174&quot;&gt;During this session\, participants were introduced to the es
 sential concepts of artificial intelligence\, including its historical evo
 lution\, core principles\, and various applications across industries. Key
  topics such as machine learning basics\, neural networks\, and data proce
 ssing were discussed in a clear and engaging manner.&lt;/p&gt;\n&lt;p data-start=&quot;1
 47&quot; data-end=&quot;174&quot;&gt;The session was interactive\, featuring Q&amp;amp\;A segmen
 ts and illustrative demonstrations that bridged theory and practice. By th
 e end of the session\, participants gained a solid understanding of what A
 I entails and how its technologies can be leveraged\, setting the stage fo
 r deeper explorations in subsequent sessions.&lt;/p&gt;
END:VEVENT
END:VCALENDAR

