BEGIN:VCALENDAR
VERSION:2.0
PRODID:IEEE vTools.Events//EN
CALSCALE:GREGORIAN
BEGIN:VTIMEZONE
TZID:Asia/Riyadh
BEGIN:DAYLIGHT
DTSTART:20380119T061407
TZOFFSETFROM:+0300
TZOFFSETTO:+0300
RRULE:FREQ=YEARLY;BYDAY=3TU;BYMONTH=1
TZNAME:+03
END:DAYLIGHT
BEGIN:STANDARD
DTSTART:19470313T235308
TZOFFSETFROM:+0306
TZOFFSETTO:+0300
RRULE:FREQ=YEARLY;BYDAY=2TH;BYMONTH=3
TZNAME:+03
END:STANDARD
END:VTIMEZONE
BEGIN:VEVENT
DTSTAMP:20250212T173527Z
UID:0E663CD4-A972-47B7-A54C-37DB17A8373E
DTSTART;TZID=Asia/Riyadh:20250101T194800
DTEND;TZID=Asia/Riyadh:20250102T195000
DESCRIPTION:Introduction\n\nAs part of our ongoing media efforts\, we launc
 hed the &quot;Spectrum Summaries&quot; initiative to provide concise\, engaging insi
 ghts from IEEE Spectrum magazine. This initiative aims to keep our communi
 ty updated on technological advancements relevant to the IEEE Computer Soc
 iety&#39;s focus areas.\n\nFor the December 2024 issue\, we curated a selectio
 n of six articles that align with the society&#39;s interests in robotics\, AI
 \, chip design\, and technological innovation. These summaries were shared
  across our social media platforms\, generating engagement and informing o
 ur community about key developments in these fields.\n--------------------
 -------------------------------------------\n\nSelection Process\n\nThe ar
 ticles for the December issue were selected based on their relevance to th
 e following areas:\n\n- Robotics and AI: Exploring advancements in robotic
 s\, AI\, and their societal impacts.\n- Chip Design and Innovation: Unders
 tanding the complexity and innovations in chip design.\n- Ethical AI Polic
 y: Shaping the future of AI policy through ethical frameworks.\n- Technolo
 gical Innovation: Featuring groundbreaking developments like IEEE&#39;s new te
 stbed and the legacy of GPS pioneers.\n-----------------------------------
 ----------------------------\n\nPublished Posts Overview\n\nBelow is a sum
 mary of the selected topics featured in the December 2024 issue of IEEE Sp
 ectrum:\n\n1. Restoring Sight through Technology\n\nThis article focuses o
 n the advancements in technology aimed at restoring sight\, including inno
 vations in artificial vision systems and their impact on people with visua
 l impairments.\n\n2. Aibo Turns 25: Celebrating Sony&#39;s Robotic Dog Legacy 
 in Consumer Robotics\n\nReflecting on 25 years of Sony&#39;s Aibo\, this piece
  explores how the robotic dog revolutionized consumer robotics\, influenci
 ng both entertainment and technological development.\n\n3. Ruzena Bajcsy: 
 A Robotics Pioneer\n\nA tribute to Ruzena Bajcsy\, a pioneering figure in 
 robotics\, highlighting her contributions to the field and the ethical imp
 lications of robotics in society.\n\n4. Chip Design: Complexity and Innova
 tion Unveiled\n\nDelving into the evolving world of chip design\, this art
 icle explains the growing complexity in semiconductor development and the 
 innovations driving it forward.\n\n5. Architecting AI Policy: Arati Prabha
 kar&#39;s Journey in Shaping Ethical AI Advancements\n\nThis article discusses
  Arati Prabhakar&#39;s role in shaping AI policy\, focusing on her work to ens
 ure that AI development remains ethical\, equitable\, and aligned with soc
 ietal values.\n\n6. IEEE&#39;s Game-Changing Testbed\n\nIEEE&#39;s new testbed ini
 tiative is highlighted\, which aims to provide a platform for testing emer
 ging technologies\, fostering innovation\, and accelerating the adoption o
 f new tech in industries.\n\n7. GPS Pioneer and Unsung Hero\n\nHonoring th
 e contributions of the unsung heroes behind GPS technology\, this article 
 celebrates the inventors and developers who shaped the global positioning 
 system.\n---------------------------------------------------------------\n
 \nSummary of Impact\n\nThe December 2024 edition of Spectrum Summaries fea
 tured a range of articles that resonate deeply with the IEEE Computer Soci
 ety&#39;s mission\, including groundbreaking advancements in robotics\, AI\, c
 hip design\, and technology policy. The posts successfully generated engag
 ement\, sparking discussions on the ethical\, technological\, and societal
  implications of these innovations.\n\nBy aligning our content with the IE
 EE Computer Society&#39;s core interests\, we were able to create a meaningful
  dialogue within our community and elevate our presence on social media as
  a hub for cutting-edge technological insights.\n\nVirtual: https://events
 .vtools.ieee.org/m/468298
LOCATION:Virtual: https://events.vtools.ieee.org/m/468298
ORGANIZER:sabbaghalbassam@gmail.com
SEQUENCE:21
SUMMARY:IEEE CS GJU - Spectrum Summaries – December 2024 Issue
URL;VALUE=URI:https://events.vtools.ieee.org/m/468298
X-ALT-DESC:Description: &lt;br /&gt;&lt;h2 data-start=&quot;228&quot; data-end=&quot;249&quot;&gt;&lt;span sty
 le=&quot;font-size: 12pt\;&quot;&gt;&lt;strong data-start=&quot;231&quot; data-end=&quot;247&quot;&gt;Introductio
 n&lt;/strong&gt;&lt;/span&gt;&lt;/h2&gt;\n&lt;p data-start=&quot;250&quot; data-end=&quot;542&quot;&gt;&lt;span style=&quot;fo
 nt-size: 12pt\;&quot;&gt;As part of our ongoing media efforts\, we launched the &lt;s
 trong data-start=&quot;304&quot; data-end=&quot;328&quot;&gt;&quot;Spectrum Summaries&quot;&lt;/strong&gt; initia
 tive to provide concise\, engaging insights from IEEE Spectrum magazine. T
 his initiative aims to keep our community updated on technological advance
 ments relevant to the IEEE Computer Society&#39;s focus areas.&lt;/span&gt;&lt;/p&gt;\n&lt;p 
 data-start=&quot;544&quot; data-end=&quot;870&quot;&gt;&lt;span style=&quot;font-size: 12pt\;&quot;&gt;For the &lt;s
 trong data-start=&quot;552&quot; data-end=&quot;569&quot;&gt;December 2024&lt;/strong&gt; issue\, we cu
 rated a selection of six articles that align with the society&#39;s interests 
 in robotics\, AI\, chip design\, and technological innovation. These summa
 ries were shared across our social media platforms\, generating engagement
  and informing our community about key developments in these fields.&lt;/span
 &gt;&lt;/p&gt;\n&lt;hr data-start=&quot;872&quot; data-end=&quot;875&quot;&gt;\n&lt;h2 data-start=&quot;877&quot; data-end
 =&quot;903&quot;&gt;&lt;span style=&quot;font-size: 12pt\;&quot;&gt;&lt;strong data-start=&quot;880&quot; data-end=&quot;
 901&quot;&gt;Selection Process&lt;/strong&gt;&lt;/span&gt;&lt;/h2&gt;\n&lt;p data-start=&quot;904&quot; data-end=
 &quot;1004&quot;&gt;&lt;span style=&quot;font-size: 12pt\;&quot;&gt;The articles for the December issue
  were selected based on their relevance to the following areas:&lt;/span&gt;&lt;/p&gt;
 \n&lt;ol data-start=&quot;1006&quot; data-end=&quot;1414&quot;&gt;\n&lt;li style=&quot;font-size: 12pt\;&quot; da
 ta-start=&quot;1006&quot; data-end=&quot;1099&quot;&gt;&lt;span style=&quot;font-size: 12pt\;&quot;&gt;&lt;strong da
 ta-start=&quot;1009&quot; data-end=&quot;1029&quot;&gt;Robotics and AI:&lt;/strong&gt; Exploring advanc
 ements in robotics\, AI\, and their societal impacts.&lt;/span&gt;&lt;/li&gt;\n&lt;li sty
 le=&quot;font-size: 12pt\;&quot; data-start=&quot;1100&quot; data-end=&quot;1197&quot;&gt;&lt;span style=&quot;font
 -size: 12pt\;&quot;&gt;&lt;strong data-start=&quot;1103&quot; data-end=&quot;1134&quot;&gt;Chip Design and I
 nnovation:&lt;/strong&gt; Understanding the complexity and innovations in chip d
 esign.&lt;/span&gt;&lt;/li&gt;\n&lt;li style=&quot;font-size: 12pt\;&quot; data-start=&quot;1198&quot; data-e
 nd=&quot;1285&quot;&gt;&lt;span style=&quot;font-size: 12pt\;&quot;&gt;&lt;strong data-start=&quot;1201&quot; data-e
 nd=&quot;1223&quot;&gt;Ethical AI Policy:&lt;/strong&gt; Shaping the future of AI policy thro
 ugh ethical frameworks.&lt;/span&gt;&lt;/li&gt;\n&lt;li style=&quot;font-size: 12pt\;&quot; data-st
 art=&quot;1286&quot; data-end=&quot;1414&quot;&gt;&lt;span style=&quot;font-size: 12pt\;&quot;&gt;&lt;strong data-st
 art=&quot;1289&quot; data-end=&quot;1318&quot;&gt;Technological Innovation:&lt;/strong&gt; Featuring gr
 oundbreaking developments like IEEE&#39;s new testbed and the legacy of GPS pi
 oneers.&lt;/span&gt;&lt;/li&gt;\n&lt;/ol&gt;\n&lt;hr data-start=&quot;1416&quot; data-end=&quot;1419&quot;&gt;\n&lt;h2 da
 ta-start=&quot;1421&quot; data-end=&quot;1454&quot;&gt;&lt;span style=&quot;font-size: 12pt\;&quot;&gt;&lt;strong da
 ta-start=&quot;1424&quot; data-end=&quot;1452&quot;&gt;Published Posts Overview&lt;/strong&gt;&lt;/span&gt;&lt;/
 h2&gt;\n&lt;p data-start=&quot;1455&quot; data-end=&quot;1552&quot;&gt;&lt;span style=&quot;font-size: 12pt\;&quot;&gt;
 Below is a summary of the selected topics featured in the December 2024 is
 sue of IEEE Spectrum:&lt;/span&gt;&lt;/p&gt;\n&lt;h3 data-start=&quot;1554&quot; data-end=&quot;1601&quot;&gt;&lt;s
 pan style=&quot;font-size: 12pt\;&quot;&gt;&lt;strong data-start=&quot;1558&quot; data-end=&quot;1599&quot;&gt;1.
  Restoring Sight through Technology&lt;/strong&gt;&lt;/span&gt;&lt;/h3&gt;\n&lt;p data-start=&quot;1
 602&quot; data-end=&quot;1787&quot;&gt;&lt;span style=&quot;font-size: 12pt\;&quot;&gt;This article focuses 
 on the advancements in technology aimed at restoring sight\, including inn
 ovations in artificial vision systems and their impact on people with visu
 al impairments.&lt;/span&gt;&lt;/p&gt;\n&lt;h3 data-start=&quot;1789&quot; data-end=&quot;1875&quot;&gt;&lt;span st
 yle=&quot;font-size: 12pt\;&quot;&gt;&lt;strong data-start=&quot;1793&quot; data-end=&quot;1873&quot;&gt;2. Aibo 
 Turns 25: Celebrating Sony&#39;s Robotic Dog Legacy in Consumer Robotics&lt;/stro
 ng&gt;&lt;/span&gt;&lt;/h3&gt;\n&lt;p data-start=&quot;1876&quot; data-end=&quot;2052&quot;&gt;&lt;span style=&quot;font-si
 ze: 12pt\;&quot;&gt;Reflecting on 25 years of Sony&#39;s Aibo\, this piece explores ho
 w the robotic dog revolutionized consumer robotics\, influencing both ente
 rtainment and technological development.&lt;/span&gt;&lt;/p&gt;\n&lt;h3 data-start=&quot;2054&quot;
  data-end=&quot;2100&quot;&gt;&lt;span style=&quot;font-size: 12pt\;&quot;&gt;&lt;strong data-start=&quot;2058&quot;
  data-end=&quot;2098&quot;&gt;3. Ruzena Bajcsy: A Robotics Pioneer&lt;/strong&gt;&lt;/span&gt;&lt;/h3&gt;
 \n&lt;p data-start=&quot;2101&quot; data-end=&quot;2260&quot;&gt;&lt;span style=&quot;font-size: 12pt\;&quot;&gt;A t
 ribute to Ruzena Bajcsy\, a pioneering figure in robotics\, highlighting h
 er contributions to the field and the ethical implications of robotics in 
 society.&lt;/span&gt;&lt;/p&gt;\n&lt;h3 data-start=&quot;2262&quot; data-end=&quot;2322&quot;&gt;&lt;span style=&quot;fo
 nt-size: 12pt\;&quot;&gt;&lt;strong data-start=&quot;2266&quot; data-end=&quot;2320&quot;&gt;4. Chip Design:
  Complexity and Innovation Unveiled&lt;/strong&gt;&lt;/span&gt;&lt;/h3&gt;\n&lt;p data-start=&quot;2
 323&quot; data-end=&quot;2486&quot;&gt;&lt;span style=&quot;font-size: 12pt\;&quot;&gt;Delving into the evol
 ving world of chip design\, this article explains the growing complexity i
 n semiconductor development and the innovations driving it forward.&lt;/span&gt;
 &lt;/p&gt;\n&lt;h3 data-start=&quot;2488&quot; data-end=&quot;2585&quot;&gt;&lt;span style=&quot;font-size: 12pt\;
 &quot;&gt;&lt;strong data-start=&quot;2492&quot; data-end=&quot;2583&quot;&gt;5. Architecting AI Policy: Ara
 ti Prabhakar&#39;s Journey in Shaping Ethical AI Advancements&lt;/strong&gt;&lt;/span&gt;&lt;
 /h3&gt;\n&lt;p data-start=&quot;2586&quot; data-end=&quot;2768&quot;&gt;&lt;span style=&quot;font-size: 12pt\;&quot;
 &gt;This article discusses Arati Prabhakar&#39;s role in shaping AI policy\, focu
 sing on her work to ensure that AI development remains ethical\, equitable
 \, and aligned with societal values.&lt;/span&gt;&lt;/p&gt;\n&lt;h3 data-start=&quot;2770&quot; dat
 a-end=&quot;2811&quot;&gt;&lt;span style=&quot;font-size: 12pt\;&quot;&gt;&lt;strong data-start=&quot;2774&quot; dat
 a-end=&quot;2809&quot;&gt;6. IEEE&#39;s Game-Changing Testbed&lt;/strong&gt;&lt;/span&gt;&lt;/h3&gt;\n&lt;p data
 -start=&quot;2812&quot; data-end=&quot;3006&quot;&gt;&lt;span style=&quot;font-size: 12pt\;&quot;&gt;IEEE&#39;s new t
 estbed initiative is highlighted\, which aims to provide a platform for te
 sting emerging technologies\, fostering innovation\, and accelerating the 
 adoption of new tech in industries.&lt;/span&gt;&lt;/p&gt;\n&lt;h3 data-start=&quot;3008&quot; data
 -end=&quot;3048&quot;&gt;&lt;span style=&quot;font-size: 12pt\;&quot;&gt;&lt;strong data-start=&quot;3012&quot; data
 -end=&quot;3046&quot;&gt;7. GPS Pioneer and Unsung Hero&lt;/strong&gt;&lt;/span&gt;&lt;/h3&gt;\n&lt;p data-s
 tart=&quot;3049&quot; data-end=&quot;3216&quot;&gt;&lt;span style=&quot;font-size: 12pt\;&quot;&gt;Honoring the c
 ontributions of the unsung heroes behind GPS technology\, this article cel
 ebrates the inventors and developers who shaped the global positioning sys
 tem.&lt;/span&gt;&lt;/p&gt;\n&lt;hr data-start=&quot;3218&quot; data-end=&quot;3221&quot;&gt;\n&lt;h2 data-start=&quot;3
 223&quot; data-end=&quot;3249&quot;&gt;&lt;span style=&quot;font-size: 12pt\;&quot;&gt;&lt;strong data-start=&quot;3
 226&quot; data-end=&quot;3247&quot;&gt;Summary of Impact&lt;/strong&gt;&lt;/span&gt;&lt;/h2&gt;\n&lt;p data-start
 =&quot;3250&quot; data-end=&quot;3631&quot;&gt;&lt;span style=&quot;font-size: 12pt\;&quot;&gt;The December 2024 
 edition of &lt;strong data-start=&quot;3279&quot; data-end=&quot;3301&quot;&gt;Spectrum Summaries&lt;/s
 trong&gt; featured a range of articles that resonate deeply with the IEEE Com
 puter Society&#39;s mission\, including groundbreaking advancements in robotic
 s\, AI\, chip design\, and technology policy. The posts successfully gener
 ated engagement\, sparking discussions on the ethical\, technological\, an
 d societal implications of these innovations.&lt;/span&gt;&lt;/p&gt;\n&lt;p data-start=&quot;3
 633&quot; data-end=&quot;3864&quot;&gt;&lt;span style=&quot;font-size: 12pt\;&quot;&gt;By aligning our conte
 nt with the IEEE Computer Society&#39;s core interests\, we were able to creat
 e a meaningful dialogue within our community and elevate our presence on s
 ocial media as a hub for cutting-edge technological insights.&lt;/span&gt;&lt;/p&gt;
END:VEVENT
END:VCALENDAR

