BEGIN:VCALENDAR
VERSION:2.0
PRODID:IEEE vTools.Events//EN
CALSCALE:GREGORIAN
BEGIN:VTIMEZONE
TZID:Europe/Madrid
BEGIN:DAYLIGHT
DTSTART:20250330T030000
TZOFFSETFROM:+0100
TZOFFSETTO:+0200
RRULE:FREQ=YEARLY;BYDAY=-1SU;BYMONTH=3
TZNAME:CEST
END:DAYLIGHT
BEGIN:STANDARD
DTSTART:20251026T020000
TZOFFSETFROM:+0200
TZOFFSETTO:+0100
RRULE:FREQ=YEARLY;BYDAY=-1SU;BYMONTH=10
TZNAME:CET
END:STANDARD
END:VTIMEZONE
BEGIN:VEVENT
DTSTAMP:20250606T163054Z
UID:17B0934B-8E9B-4919-837A-8382005D8BC3
DTSTART;TZID=Europe/Madrid:20250601T180000
DTEND;TZID=Europe/Madrid:20250603T180000
DESCRIPTION:On behalf of the Organizing Committee and the Universidad Públ
 ica de Navarra (UPNA)\, we warmly invite you to the International Symposiu
 m on Optical Sensors - ISOS 2025. It is a privilege and a pleasure to host
  for the first time in Pamplona the ISOS symposium\, aimed to be annual ev
 ent for the vibrant optical sensing community. We are working hard to make
  the event an unforgettable scientific and social experience and our inten
 tion is to host a fully in-person event.\n\nThe International Symposium on
  Optical Sensors (ISOS 2025) 2025 continues a series of events that provid
 e a forum aimed to promote scientific exchange and foster close networking
  and collaborative ties among leading international researchers. This conf
 erence has organized thematic symposia covering the frontiers of multidisc
 iplinary research in engineering structure testing\, oil and gas well test
 ing\, environmental testing\, biomedical testing\, and process control. Th
 is congress features distinguished lecturers\, invited speakers as well as
  oral presentations and poster sessions by leading scientists\, experts\, 
 and scholars from around the world\, at the forefront of the application o
 f optical sensing technologies. It provides an excellent forum to present 
 and discuss works on the emerging challenges offered by technology\, in th
 e areas of modeling\, design\, implementation and test of optical sensors.
 \n\nThe technical program will include regular papers with emphasis on eme
 rging topics including\, but not limited to:\n\nFiber Optic Sensors\nInteg
 rated optics Sensors\nOptical Chemical sensors and biosensors\nDistributed
  Optical sensors\nNew concepts in optical sensors\nIndustrial applications
  of Optical Sensors\nAI combined with optical sensing\nOptical sensors net
 works\n\nImportant Dates\n\n-  Deadline for submission: March 31st\, 2025\
 n-  Notification of acceptance: April 15th\, 2025\n-  Registration opens: 
 March 31st\, 2025\n\n-  https://www.unavarra.es/isos2025/submissions?langu
 ageId=1#Form-submissions[Submission form](https://www.unavarra.es/isos2025
 /submissions?languageId=1#Form-submissions)\n-  [Call for papers link](htt
 ps://www.unavarra.es/digitalAssets/283/283736_1call_for_papers.pdf)\n\nWe 
 will also host a student poster competition that gives students the opport
 unity to briefly present their research advances and discuss with the conf
 erence attendees.\n\nThe city of Pamplona\, in northern Spain\, is the cap
 ital of the autonomous region of Navarra. It is a historic destination wor
 ld famous by writer Ernest Hemingway for its bullrunning festival which ta
 kes place every July. It is also the first Spanish city on the French rout
 e of the Camino de Santiago pilgrim’s Way. It is a top culinary destinat
 ion where Michelin-starred chefs share the spotlight with locals preparing
  traditional “pintxos”. The region owns a privileged nature with must-
 do day trips: wineries\, quaint towns of the Baztan Valley in the shadow o
 f the Pyrenees\, explosive colors of the Irati forest at Autumn\, cider ma
 king\, desert caves and the stunning villages along the Camino de Santiago
 .\n\nCo-sponsored by: Public University of Navarra\n\nSpeaker(s): Jean\, I
 gnacio\, Minghong\, Sanket\, Anna\n\nAgenda: \nPROGRAM\n\n·\n\nISOS 2025 
 Detailed information about the technical sessions can be found by download
 ing the following PDF file:\n\n[Complete Technical Program](https://www.un
 avarra.es/digitalAssets/283/283643_1Program.pdf)\n\nRoom: Nicolas García 
 de los Salmones\, Bldg: Los Olivos\, Public University of Navarra\, Campus
  Arrosadia\, Pamplona\, Navarra\, Spain\, 31006
LOCATION:Room: Nicolas García de los Salmones\, Bldg: Los Olivos\, Public 
 University of Navarra\, Campus Arrosadia\, Pamplona\, Navarra\, Spain\, 31
 006
ORGANIZER:isos2025@unavarra.es
SEQUENCE:1
SUMMARY:International Event on Optical Sensors (ISOS) 2025
URL;VALUE=URI:https://events.vtools.ieee.org/m/468605
X-ALT-DESC:Description: &lt;br /&gt;&lt;p&gt;On behalf of the Organizing Committee and 
 the Universidad P&amp;uacute\;blica de Navarra (UPNA)\, we warmly invite you t
 o the International Symposium on Optical Sensors - ISOS 2025. It is a priv
 ilege and a pleasure to host for the first time in Pamplona the ISOS sympo
 sium\, aimed to be annual event for the vibrant optical sensing community.
  We are working hard to make the event an unforgettable scientific and soc
 ial experience and our intention is to host a fully in-person event.&lt;/p&gt;\n
 &lt;p&gt;The International Symposium on Optical Sensors (ISOS 2025)&amp;nbsp\; 2025 
 continues a series of events that provide a forum aimed to promote scienti
 fic exchange and foster close networking and collaborative ties among lead
 ing international researchers. This conference has organized thematic symp
 osia covering the frontiers of multidisciplinary research in engineering s
 tructure testing\, oil and gas well testing\, environmental testing\, biom
 edical testing\, and process control. This congress features distinguished
  lecturers\, invited speakers as well as oral presentations and poster ses
 sions by leading scientists\, experts\, and scholars from around the world
 \, at the forefront of the application of optical sensing technologies. It
  provides an excellent forum to&lt;strong&gt;&amp;nbsp\;present and discuss works on
  the emerging challenges&lt;/strong&gt;&amp;nbsp\;offered by technology\, in the are
 as of modeling\, design\, implementation and test of optical sensors.&lt;/p&gt;\
 n&lt;p&gt;&lt;strong&gt;The technical program will include&lt;/strong&gt;&amp;nbsp\;regular pape
 rs with emphasis on emerging topics including\, but not limited to:&lt;/p&gt;\n&lt;
 p&gt;&amp;nbsp\; &amp;nbsp\; Fiber Optic Sensors&lt;br&gt;&amp;nbsp\; &amp;nbsp\; Integrated optics
  Sensors&lt;br&gt;&amp;nbsp\; &amp;nbsp\; Optical Chemical sensors and biosensors&lt;br&gt;&amp;nb
 sp\; &amp;nbsp\; Distributed Optical sensors&lt;br&gt;&amp;nbsp\; &amp;nbsp\; New concepts i
 n optical sensors&lt;br&gt;&amp;nbsp\; &amp;nbsp\; Industrial applications of Optical Se
 nsors&lt;br&gt;&amp;nbsp\; &amp;nbsp\; AI combined with optical sensing&lt;br&gt;&amp;nbsp\; &amp;nbsp
 \; Optical sensors networks&lt;/p&gt;\n&lt;h2&gt;Important Dates&lt;/h2&gt;\n&lt;ul&gt;\n&lt;li&gt;&amp;nbsp
 \;&amp;nbsp\;&lt;strong&gt;Deadline&amp;nbsp\;&lt;/strong&gt;for submission: March 31st\, 2025
 &lt;/li&gt;\n&lt;li&gt;&amp;nbsp\;&amp;nbsp\;&lt;strong&gt;Notification&amp;nbsp\;&lt;/strong&gt;of acceptance
 : April 15th\, 2025&lt;/li&gt;\n&lt;li&gt;&amp;nbsp\;&amp;nbsp\;&lt;strong&gt;Registration&amp;nbsp\;&lt;/s
 trong&gt;opens: March 31st\, 2025&lt;/li&gt;\n&lt;/ul&gt;\n&lt;ul&gt;\n&lt;li&gt;&amp;nbsp\;&lt;a href=&quot;http
 s://www.unavarra.es/isos2025/submissions?languageId=1#Form-submissions&quot;&gt;&amp;n
 bsp\;&lt;/a&gt;&lt;strong&gt;&lt;a href=&quot;https://www.unavarra.es/isos2025/submissions?lan
 guageId=1#Form-submissions&quot;&gt;Submission form&lt;/a&gt;&amp;nbsp\;&lt;/strong&gt;&lt;/li&gt;\n&lt;li&gt;
 &amp;nbsp\;&lt;a class=&quot;nuevaVentana&quot; href=&quot;https://www.unavarra.es/digitalAssets
 /283/283736_1call_for_papers.pdf&quot;&gt;Call for papers link&lt;/a&gt;&lt;/li&gt;\n&lt;/ul&gt;\n&lt;p
 &gt;We will also host a&lt;strong&gt;&amp;nbsp\;student poster competition&lt;/strong&gt;&amp;nbs
 p\;that gives students the opportunity to briefly present their research a
 dvances and discuss with the conference attendees.&lt;/p&gt;\n&lt;p&gt;The city of Pam
 plona\, in northern Spain\, is the capital of the autonomous region of Nav
 arra. It is a historic destination world famous by writer Ernest Hemingway
  for its bullrunning festival which takes place every July. It is also the
  first Spanish city on the French route of the Camino de Santiago pilgrim&amp;
 rsquo\;s Way. It is a top culinary destination where Michelin-starred chef
 s share the spotlight with locals preparing traditional &amp;ldquo\;pintxos&amp;rd
 quo\;. The region owns a privileged nature with must-do day trips: winerie
 s\, quaint towns of the Baztan Valley in the shadow of the Pyrenees\, expl
 osive colors of the Irati forest at Autumn\, cider making\, desert caves a
 nd the stunning villages along the Camino de Santiago.&lt;/p&gt;\n&lt;div class=&quot;cl
 ear separadorEstrecho columna_24 inicio&quot;&gt;&amp;nbsp\;&lt;/div&gt;&lt;br /&gt;&lt;br /&gt;Agenda: 
 &lt;br /&gt;&lt;p class=&quot;MsoNormal&quot; style=&quot;text-align: center\; margin: 6.0pt 0cm 6
 .0pt 0cm\;&quot; align=&quot;center&quot;&gt;&lt;strong&gt;&lt;span lang=&quot;ES-TRAD&quot; style=&quot;font-size: 
 16.0pt\; mso-bidi-font-size: 12.0pt\;&quot;&gt;PROGRAM&lt;/span&gt;&lt;/strong&gt;&lt;/p&gt;\n&lt;p cla
 ss=&quot;MsoListParagraphCxSpFirst&quot; style=&quot;text-indent: -18.0pt\; mso-list: l0 
 level1 lfo1\;&quot;&gt;&lt;!-- [if !supportLists]--&gt;&lt;span lang=&quot;ES-TRAD&quot; style=&quot;font-
 family: Symbol\; mso-fareast-font-family: Symbol\; mso-bidi-font-family: S
 ymbol\; mso-bidi-font-weight: bold\;&quot;&gt;&lt;span style=&quot;mso-list: Ignore\;&quot;&gt;&amp;mi
 ddot\;&lt;span style=&quot;font: 7.0pt &#39;Times New Roman&#39;\;&quot;&gt; &amp;nbsp\; &amp;nbsp\; &amp;nbsp
 \; &amp;nbsp\;&lt;/span&gt;&lt;/span&gt;&lt;/span&gt;&lt;/p&gt;\n&lt;p&gt;ISOS 2025 Detailed information abo
 ut the technical sessions can be found by downloading the following PDF fi
 le:&lt;/p&gt;\n&lt;p&gt;&lt;a href=&quot;https://www.unavarra.es/digitalAssets/283/283643_1Pro
 gram.pdf&quot;&gt;Complete Technical Program&lt;/a&gt;&lt;/p&gt;
END:VEVENT
END:VCALENDAR

