BEGIN:VCALENDAR
VERSION:2.0
PRODID:IEEE vTools.Events//EN
CALSCALE:GREGORIAN
BEGIN:VTIMEZONE
TZID:America/New_York
BEGIN:DAYLIGHT
DTSTART:20250309T030000
TZOFFSETFROM:-0500
TZOFFSETTO:-0400
RRULE:FREQ=YEARLY;BYDAY=2SU;BYMONTH=3
TZNAME:EDT
END:DAYLIGHT
BEGIN:STANDARD
DTSTART:20241103T010000
TZOFFSETFROM:-0400
TZOFFSETTO:-0500
RRULE:FREQ=YEARLY;BYDAY=1SU;BYMONTH=11
TZNAME:EST
END:STANDARD
END:VTIMEZONE
BEGIN:VEVENT
DTSTAMP:20250309T150411Z
UID:8B3AA850-4FCD-4EEC-B09D-762C94058FA5
DTSTART;TZID=America/New_York:20250305T183000
DTEND;TZID=America/New_York:20250305T203000
DESCRIPTION:Dear All\,\n\nYou are cordially invited to attend the March ExC
 om meeting at NJIT or on Zoom.\n\nFor those attending in person\, the park
 ing will be at the deck at 154 Summit St\, Newark\, NJ 07102.\n\nLooking f
 orward to seeing you all\n\nBest Regards\n\nEmad\n\nRoom: 202 ECEC\, 141 W
 arren St\, The Lewis and Julia P. Kiernan Conference Room\, Newark\, New J
 ersey\, United States\, 07102\, Virtual: https://events.vtools.ieee.org/m/
 469411
LOCATION:Room: 202 ECEC\, 141 Warren St\, The Lewis and Julia P. Kiernan Co
 nference Room\, Newark\, New Jersey\, United States\, 07102\, Virtual: htt
 ps://events.vtools.ieee.org/m/469411
ORGANIZER:enfarag@ieee.org
SEQUENCE:22
SUMMARY:North Jersey March 2025 ExCom Meeting
URL;VALUE=URI:https://events.vtools.ieee.org/m/469411
X-ALT-DESC:Description: &lt;br /&gt;&lt;p&gt;Dear All\,&lt;/p&gt;\n&lt;p&gt;You are cordially invit
 ed to attend the March ExCom meeting at NJIT or on Zoom.&lt;/p&gt;\n&lt;p&gt;For those
  attending in person\, the parking will be at the deck at 154 Summit St\, 
 Newark\, NJ 07102.&lt;/p&gt;\n&lt;p&gt;Looking forward to seeing you all&lt;/p&gt;\n&lt;p&gt;Best 
 Regards&lt;/p&gt;\n&lt;p&gt;Emad&lt;/p&gt;
END:VEVENT
END:VCALENDAR

