BEGIN:VCALENDAR
VERSION:2.0
PRODID:IEEE vTools.Events//EN
CALSCALE:GREGORIAN
BEGIN:VTIMEZONE
TZID:America/New_York
BEGIN:DAYLIGHT
DTSTART:20250309T030000
TZOFFSETFROM:-0500
TZOFFSETTO:-0400
RRULE:FREQ=YEARLY;BYDAY=2SU;BYMONTH=3
TZNAME:EDT
END:DAYLIGHT
BEGIN:STANDARD
DTSTART:20251102T010000
TZOFFSETFROM:-0400
TZOFFSETTO:-0500
RRULE:FREQ=YEARLY;BYDAY=1SU;BYMONTH=11
TZNAME:EST
END:STANDARD
END:VTIMEZONE
BEGIN:VEVENT
DTSTAMP:20250220T030611Z
UID:CC499744-E1EA-4C2D-B498-F4DC730FD8B0
DTSTART;TZID=America/New_York:20250516T090000
DTEND;TZID=America/New_York:20250516T180000
DESCRIPTION:Lightning BIG VISIONS with Sensors in Spotlight!\n\nIndustry Le
 aders take the Sensors in Spotlight stage to present BIG VISIONS. This is 
 a unique one-day networking event introducing emerging applications that w
 ill inspire technological developments in years to come. Sensors in Spotli
 ght is where sensor technologies take the central stage. The program inclu
 des keynote presentations\, panel discussions\, poster and live demo sessi
 on\, and plenty of networking opportunities. The event will inform and ins
 pire creation of a technological eco-system in support of BIG VISIONS.\n\n
 Sensors in Spotlight is the industry-facing annual conference sponsored by
  the IEEE Sensors Council. See more details here - https://2025.ieee-senso
 rsinspotlight.org\n\nAgenda: \nhttps://2025.ieee-sensorsinspotlight.org/pr
 ogram/program-at-a-glance\n\nNortheastern University - Interdisciplinary S
 cience and Engineering Complex (ISEC)\, Boston\, Massachusetts\, United St
 ates
LOCATION:Northeastern University - Interdisciplinary Science and Engineerin
 g Complex (ISEC)\, Boston\, Massachusetts\, United States
ORGANIZER:mlink@conferencecatalysts.com
SEQUENCE:119
SUMMARY:Sensors in Spotlight
URL;VALUE=URI:https://events.vtools.ieee.org/m/469527
X-ALT-DESC:Description: &lt;br /&gt;&lt;p&gt;&lt;strong&gt;Lightning BIG VISIONS with Sensors
  in Spotlight!&lt;/strong&gt;&lt;/p&gt;\n&lt;p&gt;Industry Leaders take the &lt;em&gt;Sensors in S
 potlight&lt;/em&gt; stage to present BIG VISIONS. This is a unique one-day netwo
 rking event introducing emerging applications that will inspire technologi
 cal developments in years to come. &lt;em&gt;Sensors in Spotlight&lt;/em&gt; is where 
 sensor technologies take the central stage. The program includes keynote p
 resentations\, panel discussions\, poster and live demo session\, and plen
 ty of networking opportunities. The event will inform and inspire creation
  of a technological eco-system in support of BIG VISIONS.&lt;br&gt;&lt;br&gt;Sensors i
 n Spotlight is the industry-facing annual conference sponsored by the IEEE
  Sensors Council. See more details here - &lt;a href=&quot;https://2025.ieee-senso
 rsinspotlight.org&quot;&gt;https://2025.ieee-sensorsinspotlight.org&lt;/a&gt;&amp;nbsp\;&lt;/p&gt;
 &lt;br /&gt;&lt;br /&gt;Agenda: &lt;br /&gt;&lt;p&gt;https://2025.ieee-sensorsinspotlight.org/prog
 ram/program-at-a-glance&lt;/p&gt;
END:VEVENT
END:VCALENDAR

