BEGIN:VCALENDAR
VERSION:2.0
PRODID:IEEE vTools.Events//EN
CALSCALE:GREGORIAN
BEGIN:VTIMEZONE
TZID:America/New_York
BEGIN:DAYLIGHT
DTSTART:20250309T030000
TZOFFSETFROM:-0500
TZOFFSETTO:-0400
RRULE:FREQ=YEARLY;BYDAY=2SU;BYMONTH=3
TZNAME:EDT
END:DAYLIGHT
BEGIN:STANDARD
DTSTART:20251102T010000
TZOFFSETFROM:-0400
TZOFFSETTO:-0500
RRULE:FREQ=YEARLY;BYDAY=1SU;BYMONTH=11
TZNAME:EST
END:STANDARD
END:VTIMEZONE
BEGIN:VEVENT
DTSTAMP:20250411T191404Z
UID:EA2D0747-2521-456F-AB98-B9757896781B
DTSTART;TZID=America/New_York:20250408T050000
DTEND;TZID=America/New_York:20250408T190000
DESCRIPTION:Secrets to Career Success\n\nIEEE Providence Section is pleased
  to offer this engaging\, practical talk full of tips that aspiring engine
 ers of all specialties can apply immediately to accelerate their career gr
 owth. Successful colleagues shared the high-impact skills that they learne
 d the hard way early in their careers\; their insights form the core of th
 is must-see talk for up-and-coming professionals!\n\nAbout the Speaker\n\n
 Andy Willner is Managing Director at CAEDENCE Consulting LLC. His team lea
 ds issue resolution &amp; prevention for companies and their supply chains\, r
 esolving the most pressing issues related to product development\, launch 
 readiness\, quality &amp; manufacturing\, customer satisfaction\, and business
  processes\, while strengthening clients&#39; teams and systems for long-term 
 success. Prior to CAEDENCE\, Andy honed his expertise over a career lead
 ing numerous successful new product developments at Sensata Technologies a
 nd Texas Instruments. He has degrees from Cornell\, Binghamton\, and NTU. 
 Andy has 8 patents and is a Massachusetts registered professional engi
 neer.  [Follow Andy on LinkedIn](https://nam02.safelinks.protection.outl
 ook.com/?url=http%3A%2F%2Fwww.linkedin.com%2Fin%2Fandy-willner-p-e-508792%
 2F&amp;data=05%7C02%7Caruocco%40rwu.edu%7C183a7be2f53b4e6ab6fa08dd4613d9b6%7Cd
 84edea239e2410aa672331c49c8c4e2%7C0%7C0%7C638743773286759187%7CUnknown%7CT
 WFpbGZsb3d8eyJFbXB0eU1hcGkiOnRydWUsIlYiOiIwLjAuMDAwMCIsIlAiOiJXaW4zMiIsIkF
 OIjoiTWFpbCIsIldUIjoyfQ%3D%3D%7C0%7C%7C%7C&amp;sdata=NvqoexSRFVE4dxdZbfA%2Frbh
 67UA84Wp%2FkrjqQ0HQ7tY%3D&amp;reserved=0) | [CAEDENCE&#39;s Website](https://n
 am02.safelinks.protection.outlook.com/?url=http%3A%2F%2Fwww.caedenceconsul
 ting.com%2F&amp;data=05%7C02%7Caruocco%40rwu.edu%7C183a7be2f53b4e6ab6fa08dd461
 3d9b6%7Cd84edea239e2410aa672331c49c8c4e2%7C0%7C0%7C638743773286781753%7CUn
 known%7CTWFpbGZsb3d8eyJFbXB0eU1hcGkiOnRydWUsIlYiOiIwLjAuMDAwMCIsIlAiOiJXaW
 4zMiIsIkFOIjoiTWFpbCIsIldUIjoyfQ%3D%3D%7C0%7C%7C%7C&amp;sdata=C8sCnuAQaRgZgUds
 laj86xc0NTe9ubpOrsHqNU9Zix4%3D&amp;reserved=0) | [Follow CAEDENCE on Linke
 dIn](https://nam02.safelinks.protection.outlook.com/?url=https%3A%2F%2Fwww
 .linkedin.com%2Fcompany%2Fcaedenceconsulting%2F&amp;data=05%7C02%7Caruocco%40r
 wu.edu%7C183a7be2f53b4e6ab6fa08dd4613d9b6%7Cd84edea239e2410aa672331c49c8c4
 e2%7C0%7C0%7C638743773286795942%7CUnknown%7CTWFpbGZsb3d8eyJFbXB0eU1hcGkiOn
 RydWUsIlYiOiIwLjAuMDAwMCIsIlAiOiJXaW4zMiIsIkFOIjoiTWFpbCIsIldUIjoyfQ%3D%3D
 %7C0%7C%7C%7C&amp;sdata=bYFqbidngnIbBH2WdjXQFEIl9TD%2FYAj1C%2F2UK2VYpOQ%3D&amp;res
 erved=0)\n\nVirtual: https://events.vtools.ieee.org/m/469775
LOCATION:Virtual: https://events.vtools.ieee.org/m/469775
ORGANIZER:aruocco@rwu.edu
SEQUENCE:14
SUMMARY:Transition to the Profession
URL;VALUE=URI:https://events.vtools.ieee.org/m/469775
X-ALT-DESC:Description: &lt;br /&gt;&lt;p class=&quot;MsoNormal&quot;&gt;&lt;strong&gt;&lt;span style=&quot;fon
 t-family: &#39;Arial&#39;\,sans-serif\; color: #073763\;&quot;&gt;Secrets to Career Succes
 s&lt;/span&gt;&lt;/strong&gt;&lt;/p&gt;\n&lt;p class=&quot;MsoNormal&quot;&gt;&lt;span style=&quot;font-family: &#39;Ari
 al&#39;\,sans-serif\; color: #073763\;&quot;&gt;IEEE Providence Section is pleased to 
 offer this engaging\, practical talk full of tips that aspiring engineers 
 of all specialties can apply immediately to accelerate their career growth
 . Successful colleagues shared the high-impact skills that they learned th
 e hard way early in their careers\; their insights form the core of this m
 ust-see talk for up-and-coming professionals!&lt;/span&gt;&lt;/p&gt;\n&lt;p class=&quot;MsoNor
 mal&quot;&gt;&lt;span style=&quot;color: #0b5394\;&quot;&gt;&amp;nbsp\;&lt;/span&gt;&lt;/p&gt;\n&lt;p class=&quot;MsoNorma
 l&quot;&gt;&lt;span class=&quot;gmail-normaltextrun&quot;&gt;&lt;strong&gt;&lt;span style=&quot;font-family: &#39;Ar
 ial&#39;\,sans-serif\; color: #073763\;&quot;&gt;About the Speaker&lt;/span&gt;&lt;/strong&gt;&lt;/sp
 an&gt;&lt;span class=&quot;gmail-eop&quot;&gt;&lt;span style=&quot;font-family: &#39;Arial&#39;\,sans-serif\;
  color: #073763\;&quot;&gt;&amp;nbsp\;&lt;/span&gt;&lt;/span&gt;&lt;/p&gt;\n&lt;p class=&quot;gmail-paragraph&quot; s
 tyle=&quot;margin: 0in\; vertical-align: baseline\; font-kerning: none\;&quot;&gt;&lt;span
  class=&quot;gmail-normaltextrun&quot;&gt;&lt;span style=&quot;font-family: &#39;Arial&#39;\,sans-serif
 \; color: #073763\;&quot;&gt;Andy Willner is Managing Director at CAEDENCE Consult
 ing LLC. His team leads issue resolution &amp;amp\; prevention for companies a
 nd their supply chains\, resolving the most pressing issues related to pro
 duct development\, launch readiness\, quality &amp;amp\; manufacturing\, &lt;/spa
 n&gt;&lt;/span&gt;&lt;span style=&quot;font-family: &#39;Arial&#39;\,sans-serif\; color: #073763\;&quot;
 &gt;customer satisfaction\, &lt;span class=&quot;gmail-normaltextrun&quot;&gt;and business pr
 ocesses\, while strengthening clients&#39; teams and systems for long-term suc
 cess. Prior to CAEDENCE\, Andy honed his expertise over a career leading
  numerous successful new product developments at Sensata Technologies and 
 Texas Instruments. He has degrees from Cornell\, Binghamton\, and NTU. And
 y has 8 patents and is a Massachusetts registered professional enginee
 r. &lt;/span&gt;&lt;span class=&quot;gmail-eop&quot;&gt;&amp;nbsp\;&lt;/span&gt;&lt;/span&gt;&lt;span style=&quot;font
 -family: &#39;Arial&#39;\,sans-serif\;&quot;&gt;&lt;a style=&quot;text-decoration-line: none\; col
 or: inherit\;&quot; href=&quot;https://nam02.safelinks.protection.outlook.com/?url=h
 ttp%3A%2F%2Fwww.linkedin.com%2Fin%2Fandy-willner-p-e-508792%2F&amp;amp\;data=0
 5%7C02%7Caruocco%40rwu.edu%7C183a7be2f53b4e6ab6fa08dd4613d9b6%7Cd84edea239
 e2410aa672331c49c8c4e2%7C0%7C0%7C638743773286759187%7CUnknown%7CTWFpbGZsb3
 d8eyJFbXB0eU1hcGkiOnRydWUsIlYiOiIwLjAuMDAwMCIsIlAiOiJXaW4zMiIsIkFOIjoiTWFp
 bCIsIldUIjoyfQ%3D%3D%7C0%7C%7C%7C&amp;amp\;sdata=NvqoexSRFVE4dxdZbfA%2Frbh67UA
 84Wp%2FkrjqQ0HQ7tY%3D&amp;amp\;reserved=0&quot; target=&quot;_blank&quot; rel=&quot;noopener&quot;&gt;&lt;spa
 n class=&quot;gmail-normaltextrun&quot;&gt;&lt;span style=&quot;color: #0563c1\;&quot;&gt;Follow Andy o
 n LinkedIn&lt;/span&gt;&lt;/span&gt;&lt;/a&gt;&lt;span class=&quot;gmail-normaltextrun&quot;&gt; | &lt;/spa
 n&gt;&lt;a style=&quot;text-decoration-line: none\; color: inherit\;&quot; href=&quot;https://n
 am02.safelinks.protection.outlook.com/?url=http%3A%2F%2Fwww.caedenceconsul
 ting.com%2F&amp;amp\;data=05%7C02%7Caruocco%40rwu.edu%7C183a7be2f53b4e6ab6fa08
 dd4613d9b6%7Cd84edea239e2410aa672331c49c8c4e2%7C0%7C0%7C638743773286781753
 %7CUnknown%7CTWFpbGZsb3d8eyJFbXB0eU1hcGkiOnRydWUsIlYiOiIwLjAuMDAwMCIsIlAiO
 iJXaW4zMiIsIkFOIjoiTWFpbCIsIldUIjoyfQ%3D%3D%7C0%7C%7C%7C&amp;amp\;sdata=C8sCnu
 AQaRgZgUdslaj86xc0NTe9ubpOrsHqNU9Zix4%3D&amp;amp\;reserved=0&quot; target=&quot;_blank&quot; 
 rel=&quot;noopener&quot;&gt;&lt;span class=&quot;gmail-normaltextrun&quot;&gt;&lt;span style=&quot;color: #0563
 c1\;&quot;&gt;CAEDENCE&#39;s Website&lt;/span&gt;&lt;/span&gt;&lt;/a&gt;&lt;span class=&quot;gmail-normaltextrun
 &quot;&gt; | &lt;/span&gt;&lt;a style=&quot;text-decoration-line: none\; color: inherit\;&quot; h
 ref=&quot;https://nam02.safelinks.protection.outlook.com/?url=https%3A%2F%2Fwww
 .linkedin.com%2Fcompany%2Fcaedenceconsulting%2F&amp;amp\;data=05%7C02%7Caruocc
 o%40rwu.edu%7C183a7be2f53b4e6ab6fa08dd4613d9b6%7Cd84edea239e2410aa672331c4
 9c8c4e2%7C0%7C0%7C638743773286795942%7CUnknown%7CTWFpbGZsb3d8eyJFbXB0eU1hc
 GkiOnRydWUsIlYiOiIwLjAuMDAwMCIsIlAiOiJXaW4zMiIsIkFOIjoiTWFpbCIsIldUIjoyfQ%
 3D%3D%7C0%7C%7C%7C&amp;amp\;sdata=bYFqbidngnIbBH2WdjXQFEIl9TD%2FYAj1C%2F2UK2VY
 pOQ%3D&amp;amp\;reserved=0&quot; target=&quot;_blank&quot; rel=&quot;noopener&quot;&gt;&lt;span class=&quot;gmail-
 normaltextrun&quot;&gt;&lt;span style=&quot;color: #0563c1\;&quot;&gt;Follow CAEDENCE on LinkedIn&lt;
 /span&gt;&lt;/span&gt;&lt;/a&gt;&lt;span class=&quot;gmail-eop&quot;&gt;&amp;nbsp\;&lt;/span&gt;&lt;/span&gt;&lt;/p&gt;\n&lt;p cla
 ss=&quot;MsoNormal&quot;&gt;&amp;nbsp\;&lt;/p&gt;
END:VEVENT
END:VCALENDAR

