BEGIN:VCALENDAR
VERSION:2.0
PRODID:IEEE vTools.Events//EN
CALSCALE:GREGORIAN
BEGIN:VTIMEZONE
TZID:America/Los_Angeles
BEGIN:DAYLIGHT
DTSTART:20250309T030000
TZOFFSETFROM:-0800
TZOFFSETTO:-0700
RRULE:FREQ=YEARLY;BYDAY=2SU;BYMONTH=3
TZNAME:PDT
END:DAYLIGHT
BEGIN:STANDARD
DTSTART:20241103T010000
TZOFFSETFROM:-0700
TZOFFSETTO:-0800
RRULE:FREQ=YEARLY;BYDAY=1SU;BYMONTH=11
TZNAME:PST
END:STANDARD
END:VTIMEZONE
BEGIN:VEVENT
DTSTAMP:20250303T034540Z
UID:65675B4B-EFC2-45A1-8C5C-82FF339266E6
DTSTART;TZID=America/Los_Angeles:20250225T120000
DTEND;TZID=America/Los_Angeles:20250225T130000
DESCRIPTION:Single-mode-multimode-single-mode (SMS) fiber optic sensors are
  created by splicing a short length of multimode fiber between two single-
 mode fibers. These sensors function as a modal Mach-Zehnder interferometer
 \, capable of detecting both temperature and strain. They are not only cos
 t-effective but also highly sensitive\, capable of detecting changes of le
 ss than 10 microstrain\, which corresponds to a length change of less than
  1 in 100\,000. Additionally\, they can detect temperature changes of less
  than 0.1°C. In this presentation\, I will share the results of our exper
 imental studies on SMS fiber sensors and discuss our ongoing projects.\n\n
 Co-sponsored by: BANSHEE UAV\n\nSpeaker(s): \, Dr. Salik\n\nRoom: 1631\, B
 ldg: 17\, Cal Poly Pomona\, Pomona\, California\, United States\, 91768
LOCATION:Room: 1631\, Bldg: 17\, Cal Poly Pomona\, Pomona\, California\, Un
 ited States\, 91768
ORGANIZER:knarellano@cpp.edu
SEQUENCE:15
SUMMARY:Fiber Optic Sensors 
URL;VALUE=URI:https://events.vtools.ieee.org/m/469846
X-ALT-DESC:Description: &lt;br /&gt;&lt;p class=&quot;xxmsonormal&quot;&gt;&lt;span style=&quot;font-size
 : 11.0pt\;&quot;&gt;Single-mode-multimode-single-mode (SMS) fiber optic sensors ar
 e created by splicing a short length of multimode fiber between two single
 -mode fibers. These sensors function as a modal Mach-Zehnder interferomete
 r\, capable of detecting both temperature and strain. They are not only co
 st-effective but also highly sensitive\, capable of detecting changes of l
 ess than 10 microstrain\, which corresponds to a length change of less tha
 n 1 in 100\,000. Additionally\, they can detect temperature changes of les
 s than 0.1&amp;deg\;C. In this presentation\, I will share the results of our 
 experimental studies on SMS fiber sensors and discuss our ongoing projects
 .&lt;/span&gt;&lt;/p&gt;
END:VEVENT
END:VCALENDAR

