BEGIN:VCALENDAR
VERSION:2.0
PRODID:IEEE vTools.Events//EN
CALSCALE:GREGORIAN
BEGIN:VTIMEZONE
TZID:America/Los_Angeles
BEGIN:DAYLIGHT
DTSTART:20250309T030000
TZOFFSETFROM:-0800
TZOFFSETTO:-0700
RRULE:FREQ=YEARLY;BYDAY=2SU;BYMONTH=3
TZNAME:PDT
END:DAYLIGHT
BEGIN:STANDARD
DTSTART:20251102T010000
TZOFFSETFROM:-0700
TZOFFSETTO:-0800
RRULE:FREQ=YEARLY;BYDAY=1SU;BYMONTH=11
TZNAME:PST
END:STANDARD
END:VTIMEZONE
BEGIN:VEVENT
DTSTAMP:20250508T031456Z
UID:6FE515F9-BE47-43B3-8E27-839E5F19DF65
DTSTART;TZID=America/Los_Angeles:20250428T130000
DTEND;TZID=America/Los_Angeles:20250428T170000
DESCRIPTION:[]Autonomous Race Car Workshop\n\nCo-sponsored by: BANSHEE UAV\
 n\nSpeaker(s): Chris Lai\, \n\nRoom: Ursa Minor\, Bldg: Bronco Student Cen
 ter\, Cal Poly Pomona\, Pomona\, California\, United States\, 91768
LOCATION:Room: Ursa Minor\, Bldg: Bronco Student Center\, Cal Poly Pomona\,
  Pomona\, California\, United States\, 91768
ORGANIZER:knarellano@cpp.edu
SEQUENCE:10
SUMMARY:Autonomous Race Car Workshop
URL;VALUE=URI:https://events.vtools.ieee.org/m/470019
X-ALT-DESC:Description: &lt;br /&gt;&lt;p&gt;&lt;img src=&quot;https://events.vtools.ieee.org/v
 tools_ui/media/display/5f01eac1-c500-4ead-8df1-639877af8ccb&quot; alt=&quot;&quot; width=
 &quot;1010&quot; height=&quot;1307&quot;&gt;Autonomous Race Car Workshop&lt;/p&gt;
END:VEVENT
END:VCALENDAR

