BEGIN:VCALENDAR
VERSION:2.0
PRODID:IEEE vTools.Events//EN
CALSCALE:GREGORIAN
BEGIN:VTIMEZONE
TZID:Europe/Athens
BEGIN:DAYLIGHT
DTSTART:20250330T040000
TZOFFSETFROM:+0200
TZOFFSETTO:+0300
RRULE:FREQ=YEARLY;BYDAY=-1SU;BYMONTH=3
TZNAME:EEST
END:DAYLIGHT
BEGIN:STANDARD
DTSTART:20241027T030000
TZOFFSETFROM:+0300
TZOFFSETTO:+0200
RRULE:FREQ=YEARLY;BYDAY=-1SU;BYMONTH=10
TZNAME:EET
END:STANDARD
END:VTIMEZONE
BEGIN:VEVENT
DTSTAMP:20250315T094645Z
UID:88DA3D74-4748-4CEE-82E7-AFAA565D2C0B
DTSTART;TZID=Europe/Athens:20250219T120000
DTEND;TZID=Europe/Athens:20250219T130000
DESCRIPTION:The open information event of the IEEE Student Branch Universit
 y of Ioannina - Arta\, held at the Department of Computer Science and Tele
 communications of the University of Ioannina in Arta\, was successfully co
 mpleted.\nThe Branch President\, Konstantinos Sakkas\, welcomed the studen
 ts and invited them to become members of the IEEE community\, emphasizing 
 the benefits of participation and cooperation within the IEEE global netwo
 rk. Then\, Membership Manager\, Marianna Sotiriou\, presented the registra
 tion procedures and ways to actively participate in the Branch.\nThe keyno
 te speaker of the event was Stamatis Dragumanos\, Chair of IEEE Region 8 P
 rofessional and Educational Activities\, who spoke to the students about t
 he opportunities offered by IEEE\, both at the academic and professional l
 evel\, as well as about the activities implemented at the international le
 vel.\n\nBldg: Department of Informatics and Telecommunications\, Arta\, Ep
 irus\, Greece\, 47100\, Virtual: https://events.vtools.ieee.org/m/470251
LOCATION:Bldg: Department of Informatics and Telecommunications\, Arta\, Ep
 irus\, Greece\, 47100\, Virtual: https://events.vtools.ieee.org/m/470251
ORGANIZER:ieee_sb_arta@uoi.gr
SEQUENCE:11
SUMMARY:Open Information Event of the IEEE Student Branch University of Ioa
 nnina - Arta
URL;VALUE=URI:https://events.vtools.ieee.org/m/470251
X-ALT-DESC:Description: &lt;br /&gt;&lt;p&gt;The open information event of the IEEE Stu
 dent Branch University of Ioannina - Arta\, held at the Department of Comp
 uter Science and Telecommunications of the University of Ioannina in Arta\
 , was successfully completed.&lt;br&gt;The Branch President\, Konstantinos Sakka
 s\, welcomed the students and invited them to become members of the IEEE c
 ommunity\, emphasizing the benefits of participation and cooperation withi
 n the IEEE global network. Then\, Membership Manager\, Marianna Sotiriou\,
  presented the registration procedures and ways to actively participate in
  the Branch.&lt;br&gt;The keynote speaker of the event was Stamatis Dragumanos\,
  Chair of IEEE Region 8 Professional and Educational Activities\, who spok
 e to the students about the opportunities offered by IEEE\, both at the ac
 ademic and professional level\, as well as about the activities implemente
 d at the international level.&lt;/p&gt;
END:VEVENT
END:VCALENDAR

