BEGIN:VCALENDAR
VERSION:2.0
PRODID:IEEE vTools.Events//EN
CALSCALE:GREGORIAN
BEGIN:VTIMEZONE
TZID:America/Los_Angeles
BEGIN:DAYLIGHT
DTSTART:20250309T030000
TZOFFSETFROM:-0800
TZOFFSETTO:-0700
RRULE:FREQ=YEARLY;BYDAY=2SU;BYMONTH=3
TZNAME:PDT
END:DAYLIGHT
BEGIN:STANDARD
DTSTART:20251102T010000
TZOFFSETFROM:-0700
TZOFFSETTO:-0800
RRULE:FREQ=YEARLY;BYDAY=1SU;BYMONTH=11
TZNAME:PST
END:STANDARD
END:VTIMEZONE
BEGIN:VEVENT
DTSTAMP:20250319T040801Z
UID:008F7380-4AF7-42C8-9F1E-1CF51F6BB362
DTSTART;TZID=America/Los_Angeles:20250318T173000
DTEND;TZID=America/Los_Angeles:20250318T183000
DESCRIPTION:Our 4th and 5th talks of the 2025 Invited Seminar Series compri
 ses of two back to back talks from industry experts [Vijay Mekala](https:/
 /www.linkedin.com/in/vmekala/) and [Jitender Jain](https://www.linkedin.co
 m/in/jainjitender/) covering the impact of Artificial Intelligence in Heal
 thcare\, Finance and Retail industries.\n\nCo-sponsored by: Media Partner:
  Open Research Institute (ORI)\n\nSpeaker(s): Jitender Jain\, Vijay Mekala
 \n\nAgenda: \n- Invited talk from [Vijay Mekala](https://www.linkedin.com/
 in/vmekala/)\, Senior IT Consultant at Cognizant (25 mins)\n- Invited talk
  from [Jitender Jain](https://www.linkedin.com/in/jainjitender/)\, Senior 
 IT Engineer\, Cognizant (25 mins)\n- Q/A Session (10 mins)\n\nVirtual: htt
 ps://events.vtools.ieee.org/m/470741
LOCATION:Virtual: https://events.vtools.ieee.org/m/470741
ORGANIZER:upalmahbub@yahoo.com
SEQUENCE:36
SUMMARY:AI-Driven Healthcare Transformation in the Cloud &amp; AI powered enter
 prise solutions for the finance and retail industry
URL;VALUE=URI:https://events.vtools.ieee.org/m/470741
X-ALT-DESC:Description: &lt;br /&gt;&lt;p&gt;&lt;span style=&quot;font-size: 11.0pt\; line-heig
 ht: 107%\; font-family: &#39;Aptos&#39;\,sans-serif\; mso-ascii-theme-font: minor-
 latin\; mso-fareast-font-family: Aptos\; mso-fareast-theme-font: minor-lat
 in\; mso-hansi-theme-font: minor-latin\; mso-bidi-font-family: Vrinda\; ms
 o-bidi-theme-font: minor-bidi\; mso-ansi-language: EN-US\; mso-fareast-lan
 guage: EN-US\; mso-bidi-language: AR-SA\;&quot;&gt;Our 4th and 5th talks of the 20
 25 Invited Seminar Series comprises of t&lt;/span&gt;&lt;span style=&quot;font-size: 11.
 0pt\; line-height: 107%\; font-family: &#39;Aptos&#39;\,sans-serif\; mso-ascii-the
 me-font: minor-latin\; mso-fareast-font-family: Aptos\; mso-fareast-theme-
 font: minor-latin\; mso-hansi-theme-font: minor-latin\; mso-bidi-font-fami
 ly: Vrinda\; mso-bidi-theme-font: minor-bidi\; mso-ansi-language: EN-US\; 
 mso-fareast-language: EN-US\; mso-bidi-language: AR-SA\;&quot;&gt;wo back to back 
 talks from industry experts &lt;strong&gt;&lt;a href=&quot;https://www.linkedin.com/in/v
 mekala/&quot;&gt;Vijay Mekala&lt;/a&gt; &lt;/strong&gt;and&amp;nbsp\;&lt;strong&gt;&lt;a href=&quot;https://www.
 linkedin.com/in/jainjitender/&quot;&gt;Jitender Jain&lt;/a&gt; &lt;/strong&gt;&lt;/span&gt;&lt;span sty
 le=&quot;font-size: 11.0pt\; line-height: 107%\; font-family: &#39;Aptos&#39;\,sans-ser
 if\; mso-ascii-theme-font: minor-latin\; mso-fareast-font-family: Aptos\; 
 mso-fareast-theme-font: minor-latin\; mso-hansi-theme-font: minor-latin\; 
 mso-bidi-font-family: Vrinda\; mso-bidi-theme-font: minor-bidi\; mso-ansi-
 language: EN-US\; mso-fareast-language: EN-US\; mso-bidi-language: AR-SA\;
 &quot;&gt;covering the impact of Artificial Intelligence in Healthcare\, Finance a
 nd Retail industries.&amp;nbsp\;&lt;/span&gt;&lt;/p&gt;&lt;br /&gt;&lt;br /&gt;Agenda: &lt;br /&gt;&lt;ul&gt;\n&lt;li
 &gt;Invited talk from &amp;nbsp\;&lt;span style=&quot;font-size: 11.0pt\; line-height: 10
 7%\; font-family: &#39;Aptos&#39;\,sans-serif\; mso-ascii-theme-font: minor-latin\
 ; mso-fareast-font-family: Aptos\; mso-fareast-theme-font: minor-latin\; m
 so-hansi-theme-font: minor-latin\; mso-bidi-font-family: Vrinda\; mso-bidi
 -theme-font: minor-bidi\; mso-ansi-language: EN-US\; mso-fareast-language:
  EN-US\; mso-bidi-language: AR-SA\;&quot;&gt;&lt;strong&gt;&lt;a href=&quot;https://www.linkedin
 .com/in/vmekala/&quot;&gt;Vijay Mekala&lt;/a&gt;&lt;/strong&gt;&lt;/span&gt;&lt;strong&gt;\,&lt;/strong&gt; Seni
 or IT Consultant at Cognizant (25 mins)&lt;/li&gt;\n&lt;li&gt;Invited talk from&amp;nbsp\;
 &lt;span style=&quot;font-size: 11.0pt\; line-height: 107%\; font-family: &#39;Aptos&#39;\
 ,sans-serif\; mso-ascii-theme-font: minor-latin\; mso-fareast-font-family:
  Aptos\; mso-fareast-theme-font: minor-latin\; mso-hansi-theme-font: minor
 -latin\; mso-bidi-font-family: Vrinda\; mso-bidi-theme-font: minor-bidi\; 
 mso-ansi-language: EN-US\; mso-fareast-language: EN-US\; mso-bidi-language
 : AR-SA\;&quot;&gt;&lt;strong&gt;&lt;a href=&quot;https://www.linkedin.com/in/jainjitender/&quot;&gt;Jit
 ender Jain&lt;/a&gt;&lt;/strong&gt;&lt;/span&gt;\, Senior IT Engineer\, Cognizant (25 mins)&lt;
 /li&gt;\n&lt;li&gt;Q/A Session (10 mins)&lt;/li&gt;\n&lt;/ul&gt;
END:VEVENT
END:VCALENDAR

