BEGIN:VCALENDAR
VERSION:2.0
PRODID:IEEE vTools.Events//EN
CALSCALE:GREGORIAN
BEGIN:VTIMEZONE
TZID:Europe/Dublin
BEGIN:DAYLIGHT
DTSTART:20250330T020000
TZOFFSETFROM:+0000
TZOFFSETTO:+0100
RRULE:FREQ=YEARLY;BYDAY=-1SU;BYMONTH=3
TZNAME:IST
END:DAYLIGHT
BEGIN:STANDARD
DTSTART:20241027T010000
TZOFFSETFROM:+0100
TZOFFSETTO:+0000
RRULE:FREQ=YEARLY;BYDAY=-1SU;BYMONTH=10
TZNAME:GMT
END:STANDARD
END:VTIMEZONE
BEGIN:VEVENT
DTSTAMP:20250429T185337Z
UID:486A887F-2A87-4D79-9CEF-2F29742CF8AE
DTSTART;TZID=Europe/Dublin:20250311T093000
DTEND;TZID=Europe/Dublin:20250311T103000
DESCRIPTION:Selection of tasks for the Empower working group for the year.\
 n\nAgenda: \nAgenda\n\n-\nWork items:\n\nWe need to break the team to prog
 ress the sub topics\n\n-\nAwards -\n\n-\nVOLT Training -\n\n-\nGuest Speak
 ers List -\n\n2. Aob\n\n3. Next meeting dates\n\nVirtual: https://events.v
 tools.ieee.org/m/470983
LOCATION:Virtual: https://events.vtools.ieee.org/m/470983
ORGANIZER:ruth.lennon@atu.ie
SEQUENCE:19
SUMMARY:Empower Working Group Meeting
URL;VALUE=URI:https://events.vtools.ieee.org/m/470983
X-ALT-DESC:Description: &lt;br /&gt;&lt;p&gt;Selection of tasks for the Empower working
  group for the year.&lt;/p&gt;&lt;br /&gt;&lt;br /&gt;Agenda: &lt;br /&gt;&lt;p&gt;Agenda&lt;/p&gt;\n&lt;ol&gt;\n&lt;li
  dir=&quot;ltr&quot; aria-level=&quot;1&quot;&gt;\n&lt;p dir=&quot;ltr&quot; role=&quot;presentation&quot;&gt;Work items:&lt;/
 p&gt;\n&lt;p dir=&quot;ltr&quot; role=&quot;presentation&quot;&gt;We need to break the team to progress
  the sub topics&lt;/p&gt;\n&lt;ol&gt;\n&lt;li dir=&quot;ltr&quot; aria-level=&quot;2&quot;&gt;\n&lt;p dir=&quot;ltr&quot; rol
 e=&quot;presentation&quot;&gt;Awards -&amp;nbsp\;&lt;/p&gt;\n&lt;/li&gt;\n&lt;li dir=&quot;ltr&quot; aria-level=&quot;2&quot;&gt;
 \n&lt;p dir=&quot;ltr&quot; role=&quot;presentation&quot;&gt;VOLT Training -&amp;nbsp\;&lt;/p&gt;\n&lt;/li&gt;\n&lt;li 
 dir=&quot;ltr&quot; aria-level=&quot;2&quot;&gt;\n&lt;p dir=&quot;ltr&quot; role=&quot;presentation&quot;&gt;Guest Speakers
  List -&lt;/p&gt;\n&lt;/li&gt;\n&lt;/ol&gt;\n&lt;p&gt;&amp;nbsp\;&lt;/p&gt;\n&lt;/li&gt;\n&lt;/ol&gt;\n&lt;p&gt;2. Aob&lt;/p&gt;\n&lt;p
 &gt;3. Next meeting dates&lt;/p&gt;
END:VEVENT
END:VCALENDAR

