BEGIN:VCALENDAR
VERSION:2.0
PRODID:IEEE vTools.Events//EN
CALSCALE:GREGORIAN
BEGIN:VTIMEZONE
TZID:America/Los_Angeles
BEGIN:DAYLIGHT
DTSTART:20250309T030000
TZOFFSETFROM:-0800
TZOFFSETTO:-0700
RRULE:FREQ=YEARLY;BYDAY=2SU;BYMONTH=3
TZNAME:PDT
END:DAYLIGHT
BEGIN:STANDARD
DTSTART:20251102T010000
TZOFFSETFROM:-0700
TZOFFSETTO:-0800
RRULE:FREQ=YEARLY;BYDAY=1SU;BYMONTH=11
TZNAME:PST
END:STANDARD
END:VTIMEZONE
BEGIN:VEVENT
DTSTAMP:20250426T155231Z
UID:0719A30D-7EDE-47F8-93E9-2A21B746DD67
DTSTART;TZID=America/Los_Angeles:20250424T100000
DTEND;TZID=America/Los_Angeles:20250424T110000
DESCRIPTION:MICROFLUIDICS MANUFACTURING: FROM PROTOTYPING TO SCALABLE PRODU
 CTION\n\nMicrofluidic technology has revolutionized diagnostics and pharma
 ceutical research by enabling precise fluid control at the microscale. How
 ever\, scaling up the manufacturing of these devices presents unique chall
 enges. This talk provides a comprehensive introduction to microfluidic man
 ufacturing\, covering the three primary materials—polymers\, silicon\, a
 nd glass—and the mainstream fabrication techniques for each. We will exp
 lore the transition from prototyping to volume production\, key backend pr
 ocesses\, and emerging trends shaping the future of microfluidics.\n\nThis
  event is part of the IEEE San Diego Section&#39;s PDH series at the Del Mar E
 lectronics and Manufacturing Show (Apr 23 - 24).\n\nSpeaker(s): Jing Chen\
 n\nAgenda: \nPlease use this event&#39;s registration to sign up for PHD credi
 ts. Everyone is welcome to attend this talk. The speaker has requested tha
 t attendees [register](https://www.mfgshow.com/seminars/speak.cfm?Id=227) 
 on the show&#39;s event page.\n\nIf you want PDH credit for this talk\, please
  register on both sites. If you simply want to attend\, please [register o
 n the show site](https://www.mfgshow.com/seminars/speak.cfm?Id=227).\n\nPl
 ease register on this site using the name you want on the PDH certificate.
  Also use the email address that you want the certificate mailed to.\n\nRo
 om: Room D\, Bldg: Mission Tower\, 2260 Jimmy Durante Blvd\, Del Mar Fairg
 rounds\, Del Mar\, California\, United States\, 92014
LOCATION:Room: Room D\, Bldg: Mission Tower\, 2260 Jimmy Durante Blvd\, Del
  Mar Fairgrounds\, Del Mar\, California\, United States\, 92014
ORGANIZER:m.w.bryant@ieee.org
SEQUENCE:64
SUMMARY:DMEMS - PDH Series -&quot; MICROFLUIDICS MANUFACTURING: FROM PROTOTYPING
  TO SCALABLE PRODUCTION&quot;
URL;VALUE=URI:https://events.vtools.ieee.org/m/471235
X-ALT-DESC:Description: &lt;br /&gt;&lt;p style=&quot;text-align: center\;&quot;&gt;&lt;span style=&quot;
 font-size: 18pt\;&quot;&gt;&lt;strong&gt;&lt;span style=&quot;line-height: 107%\; font-family: &#39;
 Aptos&#39;\, sans-serif\;&quot;&gt;MICROFLUIDICS MANUFACTURING: FROM PROTOTYPING TO SC
 ALABLE PRODUCTION&lt;/span&gt;&lt;/strong&gt;&lt;/span&gt;&lt;/p&gt;\n&lt;p class=&quot;MsoNormal&quot;&gt;Microfl
 uidic technology has revolutionized diagnostics and pharmaceutical researc
 h by enabling precise fluid control at the microscale. However\, scaling u
 p the manufacturing of these devices presents unique challenges. This talk
  provides a comprehensive introduction to microfluidic manufacturing\, cov
 ering the three primary materials&amp;mdash\;polymers\, silicon\, and glass&amp;md
 ash\;and the mainstream fabrication techniques for each. We will explore t
 he transition from prototyping to volume production\, key backend processe
 s\, and emerging trends shaping the future of microfluidics.&lt;/p&gt;\n&lt;p class
 =&quot;MsoNormal&quot;&gt;&amp;nbsp\;&lt;/p&gt;\n&lt;p class=&quot;MsoNormal&quot;&gt;This event is part of the I
 EEE San Diego Section&#39;s PDH series at the Del Mar Electronics and Manufact
 uring Show (Apr 23 - 24).&amp;nbsp\;&lt;/p&gt;\n&lt;p class=&quot;MsoNormal&quot;&gt;&amp;nbsp\;&lt;/p&gt;&lt;br 
 /&gt;&lt;br /&gt;Agenda: &lt;br /&gt;&lt;p&gt;Please use this event&#39;s registration to sign up f
 or PHD credits.&amp;nbsp\; Everyone is welcome to attend this talk.&amp;nbsp\; The
  speaker has requested that attendees &lt;a href=&quot;https://www.mfgshow.com/sem
 inars/speak.cfm?Id=227&quot; target=&quot;_blank&quot; rel=&quot;noopener&quot;&gt;register&lt;/a&gt; on the
  show&#39;s event page.&amp;nbsp\;&lt;/p&gt;\n&lt;p&gt;If you want PDH credit for this talk\, 
 please register on both sites.&amp;nbsp\;&amp;nbsp\; If you simply want to attend\
 , please &lt;a href=&quot;https://www.mfgshow.com/seminars/speak.cfm?Id=227&quot;&gt;regis
 ter on the show site&lt;/a&gt;.&lt;/p&gt;\n&lt;p&gt;Please register on this site using the n
 ame you want on the PDH certificate. &amp;nbsp\;&amp;nbsp\; Also use the email add
 ress that you want the certificate mailed to.&lt;/p&gt;
END:VEVENT
END:VCALENDAR

