BEGIN:VCALENDAR
VERSION:2.0
PRODID:IEEE vTools.Events//EN
CALSCALE:GREGORIAN
BEGIN:VTIMEZONE
TZID:America/New_York
BEGIN:DAYLIGHT
DTSTART:20250309T030000
TZOFFSETFROM:-0500
TZOFFSETTO:-0400
RRULE:FREQ=YEARLY;BYDAY=2SU;BYMONTH=3
TZNAME:EDT
END:DAYLIGHT
BEGIN:STANDARD
DTSTART:20251102T010000
TZOFFSETFROM:-0400
TZOFFSETTO:-0500
RRULE:FREQ=YEARLY;BYDAY=1SU;BYMONTH=11
TZNAME:EST
END:STANDARD
END:VTIMEZONE
BEGIN:VEVENT
DTSTAMP:20250409T153321Z
UID:B7B03D72-F568-4802-BC32-B08C3BABEF02
DTSTART;TZID=America/New_York:20250405T080000
DTEND;TZID=America/New_York:20250405T181500
DESCRIPTION:We are hosting an IEEE Technical Symposium on April 5\, 2025. T
 he tentative format for the symposium is shown below. All times are in eas
 tern time zone.\n\nThe symposium will include the following talks:\n\nKeyn
 ote 1: Making Autonomous Vehicles Safe\n\nSpeaker: Ragunathan &quot;Raj&quot; Rajkum
 ar – (Keynote speaker)\n\nOrganization: Department of Electrical and Com
 puter Engineering\, Carnegie Mellon University\n\nKeynote 2: How should we
  measure the digital economy?\n\nSpeaker: Avinash (Avi) Collis – (Keynot
 e speaker)\n\nOrganization: Heinz College of Information Systems and Publi
 c Policy at Carnegie Mellon University\n\nAnd 12 other presentations.\n\nS
 peaker(s): Ragunathan &quot;Raj&quot; Rajkumar \, Avinash (Avi) Collis \n\nAgenda: \
 n8:00 – 8:30 - Breakfast\n\n8:30 – 9:30 – Session 1 (3 presentations
 )\n\n9:30 – 10:30 – Keynote\n\n10: 30 am – 10:40 – Break\n\n10:40 
 – 12:00 – Session 2 (4 presentations)\n\n12:00 – 1:00 - Lunch\n\n1:0
 0 – 2:00 – Session 3 (3 presentations)\n\n2:00 – 3:00 – Keynote 2\
 n\n3:00 – 3:15 – Break\n\n3:15 – 4:35 – Session 4 (4 presentations
 )\n\n4:35 – 5:15 – Lightening talks (3-minute talk for each poster)\n\
 n5:15 – 6:15 - Reception and Posters\n\nRoom: 3rd Floor Theater space\, 
 \, Bldg: Information Science Building\, 135 N Bellefield Ave\, Pittsburgh\
 , Pennsylvania\, United States\, 15260\, Virtual: https://events.vtools.ie
 ee.org/m/471252
LOCATION:Room: 3rd Floor Theater space\, \, Bldg: Information Science Build
 ing\, 135 N Bellefield Ave\, Pittsburgh\, Pennsylvania\, United States\, 1
 5260\, Virtual: https://events.vtools.ieee.org/m/471252
ORGANIZER:bpalan@pitt.edu
SEQUENCE:19
SUMMARY:2025 IEEE Technical Symposium in Western Pennsylvania
URL;VALUE=URI:https://events.vtools.ieee.org/m/471252
X-ALT-DESC:Description: &lt;br /&gt;&lt;p class=&quot;MsoNormal&quot;&gt;We are hosting an IEEE T
 echnical Symposium on April 5\, 2025. The tentative format for the symposi
 um is shown below. All times are in eastern time zone. &amp;nbsp\;&lt;/p&gt;\n&lt;p cla
 ss=&quot;MsoNormal&quot;&gt;&lt;strong&gt;The symposium will include the following talks:&lt;/st
 rong&gt;&lt;/p&gt;\n&lt;p class=&quot;MsoNormal&quot; style=&quot;text-align: center\;&quot; align=&quot;center
 &quot;&gt;&lt;span style=&quot;font-size: 14.0pt\; font-family: &#39;Comic Sans MS&#39;\; mso-bidi
 -font-family: Cambria\; mso-bidi-theme-font: major-bidi\;&quot;&gt;Keynote 1: &lt;/sp
 an&gt;&lt;strong&gt;&lt;span style=&quot;font-size: 13.0pt\; font-family: &#39;Calibri&#39;\,sans-s
 erif\; mso-ascii-theme-font: minor-latin\; mso-hansi-theme-font: minor-lat
 in\; mso-bidi-theme-font: minor-latin\;&quot;&gt;Making Autonomous Vehicles Safe&lt;/
 span&gt;&lt;/strong&gt;&lt;/p&gt;\n&lt;p class=&quot;MsoNormal&quot;&gt;&lt;strong&gt;Speaker:&amp;nbsp\;&lt;/strong&gt;R
 agunathan &quot;Raj&quot; Rajkumar &amp;ndash\; (&lt;strong&gt;Keynote speaker)&lt;/strong&gt;&lt;/p&gt;\n
 &lt;p class=&quot;MsoNormal&quot;&gt;&lt;strong&gt;Organization:&lt;/strong&gt;&lt;span style=&quot;mso-spacer
 un: yes\;&quot;&gt;&amp;nbsp\;&amp;nbsp\;&amp;nbsp\; &lt;/span&gt;Department of Electrical and Compu
 ter Engineering\, Carnegie Mellon University&lt;/p&gt;\n&lt;p class=&quot;MsoNormal&quot; sty
 le=&quot;text-align: center\;&quot; align=&quot;center&quot;&gt;&lt;span style=&quot;font-size: 14.0pt\; 
 font-family: &#39;Comic Sans MS&#39;\; mso-bidi-font-family: Cambria\; mso-bidi-th
 eme-font: major-bidi\;&quot;&gt;Keynote 2: How should we measure the digital econo
 my?&lt;/span&gt;&lt;/p&gt;\n&lt;p class=&quot;MsoNormal&quot;&gt;&lt;strong&gt;Speaker: &lt;/strong&gt;Avinash (Av
 i) Collis &amp;ndash\; (&lt;strong&gt;Keynote speaker)&lt;/strong&gt;&lt;/p&gt;\n&lt;p class=&quot;MsoNo
 rmal&quot;&gt;&lt;strong&gt;Organization:&lt;/strong&gt;&lt;span style=&quot;mso-spacerun: yes\;&quot;&gt;&amp;nbs
 p\;&amp;nbsp\;&amp;nbsp\; &lt;/span&gt;Heinz College of Information Systems and Public P
 olicy at Carnegie Mellon University&lt;/p&gt;\n&lt;p class=&quot;MsoNormal&quot;&gt;&lt;strong&gt;And 
 12 other presentations.&lt;/strong&gt;&lt;/p&gt;\n&lt;p class=&quot;MsoNormal&quot;&gt;&amp;nbsp\;&lt;/p&gt;&lt;br 
 /&gt;&lt;br /&gt;Agenda: &lt;br /&gt;&lt;p class=&quot;MsoNormal&quot;&gt;8:00 &amp;ndash\; 8:30 - Breakfast&lt;
 /p&gt;\n&lt;p class=&quot;MsoNormal&quot;&gt;8:30 &amp;ndash\; 9:30 &amp;ndash\; Session 1 (3 present
 ations)&lt;/p&gt;\n&lt;p class=&quot;MsoNormal&quot;&gt;9:30 &amp;ndash\; 10:30 &amp;ndash\; Keynote&lt;/p&gt;
 \n&lt;p class=&quot;MsoNormal&quot;&gt;10: 30 am &amp;ndash\; 10:40 &amp;ndash\; Break&lt;/p&gt;\n&lt;p cla
 ss=&quot;MsoNormal&quot;&gt;10:40 &amp;ndash\; 12:00 &amp;ndash\; Session 2 (4 presentations)&lt;/
 p&gt;\n&lt;p class=&quot;MsoNormal&quot;&gt;12:00 &amp;ndash\; 1:00 - Lunch&lt;/p&gt;\n&lt;p class=&quot;MsoNor
 mal&quot;&gt;1:00 &amp;ndash\; 2:00 &amp;ndash\; Session 3 (3 presentations)&lt;/p&gt;\n&lt;p class
 =&quot;MsoNormal&quot;&gt;2:00 &amp;ndash\; 3:00 &amp;ndash\; Keynote 2&lt;/p&gt;\n&lt;p class=&quot;MsoNorma
 l&quot;&gt;3:00 &amp;ndash\; 3:15 &amp;ndash\; Break&lt;/p&gt;\n&lt;p class=&quot;MsoNormal&quot;&gt;3:15 &amp;ndash
 \; 4:35 &amp;ndash\; Session 4 (4 presentations)&lt;/p&gt;\n&lt;p class=&quot;MsoNormal&quot;&gt;4:3
 5 &amp;ndash\; 5:15 &amp;ndash\; Lightening talks (3-minute talk for each poster)&lt;
 /p&gt;\n&lt;p class=&quot;MsoNormal&quot;&gt;5:15 &amp;ndash\; 6:15 - Reception and Posters&lt;/p&gt;
END:VEVENT
END:VCALENDAR

