BEGIN:VCALENDAR
VERSION:2.0
PRODID:IEEE vTools.Events//EN
CALSCALE:GREGORIAN
BEGIN:VTIMEZONE
TZID:America/New_York
BEGIN:DAYLIGHT
DTSTART:20250309T030000
TZOFFSETFROM:-0500
TZOFFSETTO:-0400
RRULE:FREQ=YEARLY;BYDAY=2SU;BYMONTH=3
TZNAME:EDT
END:DAYLIGHT
BEGIN:STANDARD
DTSTART:20241103T010000
TZOFFSETFROM:-0400
TZOFFSETTO:-0500
RRULE:FREQ=YEARLY;BYDAY=1SU;BYMONTH=11
TZNAME:EST
END:STANDARD
END:VTIMEZONE
BEGIN:VEVENT
DTSTAMP:20250430T055633Z
UID:67800E13-CD94-47EF-9B6B-C254DB7B9399
DTSTART;TZID=America/New_York:20250303T164500
DTEND;TZID=America/New_York:20250303T180000
DESCRIPTION:The role of Electromagnetic (EM) fields in our lives has been i
 ncreasing. In areas where EM fields have critical importance are communica
 tion\, remote sensing\, integrated command/ control/surveillance systems\,
  intelligent transportation systems\, medicine\, environment\, education\,
  marketing\, and defense. We have witnessed the transformation from Engine
 ering Electromagnetics to Electromagnetic Engineering for the last few dec
 ades after being surrounded by EM waves everywhere. Among many others\, EM
  engineering deals with a broad range of problems from antenna design to E
 M scattering\, indoor–outdoor radio wave propagation to wireless communi
 cation\, radar systems to integrated surveillance\, subsurface imaging to 
 novel materials\, EM compatibility to nano-systems\, electroacoustic devic
 es to electro-optical systems\, etc. The range of the devices we use in ou
 r daily lives has extended from DC to Terahertz frequencies. We have had l
 arge-scale (kilometers-wide) and small-scale (nanometers) EM systems. Many
  of these systems are broadband and digital and must operate nearby\, whic
 h results in severe EM interference problems. Engineers must take EM issue
 s into account from the earliest possible design stages. This necessitates
  establishing an intelligent balance between a strong mathematical backgro
 und (theory)\, engineering experience (practice)\, and modeling and numeri
 cal computations (simulation). This Distinguished/keynote lecture aims to 
 look broadly at current complex EM problems and particular teaching/traini
 ng challenges confronting wave-oriented EM engineering in the 21st century
  in a complex computer and technology-driven world with rapidly shifting s
 ocietal and technical priorities.\n\nCo-sponsored by: IEEE AP-S Co-sponsor
  DL Talk by Dr. Levent Sevgi\n\nSpeaker(s): Levent Sevgi\n\nAgenda: \nAll 
 Welcome!\n\nYou do not have to be a member of the IEEE to attend.\n\nTime:
  5:00 PM-6:00 PM\, Monday\, March 03\, 2025. A complimentary buffet dinner
  will be available until 4:45 PM.\n\nPlace: New Jersey Institute of Techno
 logy (NJIT)\, Room 202\, ECE Center\, Newark\, NJ. Directions are availabl
 e at [http://www.njit.edu](http://www.njit.edu/).\n\nContact Persons: Dr. 
 Ajay Poddar (akpoddar@ieee.org)\, Dr. Durga Misra (dmisra@njit.edu)\, Dr. 
 Anisha Apte (anisha_apte@ieee.org)\, Dr. Edip Niver (edip.niver@njit.edu)\
 n\nRoom: 202\, Bldg: ECE Center\, New Jersey Institute of Technology (NJIT
 )\, 154 Summit Street\, Newark\, NJ 07102\, Newark\, New Jersey\, United S
 tates
LOCATION:Room: 202\, Bldg: ECE Center\, New Jersey Institute of Technology 
 (NJIT)\, 154 Summit Street\, Newark\, NJ 07102\, Newark\, New Jersey\, Uni
 ted States
ORGANIZER:anisha_apte@ieee.org
SEQUENCE:26
SUMMARY:From ENGINEERING ELECTROMAGNETICS to ELECTROMAGNETIC ENGINEERING: T
 eaching/Training Next Generations
URL;VALUE=URI:https://events.vtools.ieee.org/m/471410
X-ALT-DESC:Description: &lt;br /&gt;&lt;p class=&quot;MsoNormal&quot; style=&quot;text-align: justi
 fy\;&quot;&gt;&lt;span style=&quot;font-family: &#39;Times New Roman&#39;\,serif\;&quot;&gt;The role of El
 ectromagnetic (EM) fields in our lives has been increasing. In areas where
  EM fields have critical importance are communication\, remote sensing\, i
 ntegrated command/ control/surveillance systems\, intelligent transportati
 on systems\, medicine\, environment\, education\, marketing\, and defense.
  We have witnessed the transformation from Engineering Electromagnetics to
  Electromagnetic Engineering for the last few decades after being surround
 ed by EM waves everywhere. Among many others\, EM engineering deals with a
  broad range of problems from antenna design to EM scattering\, indoor&amp;nda
 sh\;outdoor radio wave propagation to wireless communication\, radar syste
 ms to integrated surveillance\, subsurface imaging to novel materials\, EM
  compatibility to nano-systems\, electroacoustic devices to electro-optica
 l systems\, etc. The range of the devices we use in our daily lives has ex
 tended from DC to Terahertz frequencies. We have had large-scale (kilomete
 rs-wide) and small-scale (nanometers) EM systems. Many of these systems ar
 e broadband and digital and must operate nearby\, which results in severe 
 EM interference problems. Engineers must take EM issues into account from 
 the earliest possible design stages. This necessitates establishing an int
 elligent balance between a strong mathematical background (theory)\, engin
 eering experience (practice)\, and modeling and numerical computations (si
 mulation). This Distinguished/keynote lecture aims to look broadly at curr
 ent complex EM problems and particular teaching/training challenges confro
 nting wave-oriented EM engineering in the 21st century in a complex comput
 er and technology-driven world with rapidly shifting societal and technica
 l priorities&lt;span style=&quot;color: #002060\; letter-spacing: -.05pt\;&quot;&gt;.&lt;/spa
 n&gt;&lt;/span&gt;&lt;/p&gt;\n&lt;p&gt;&amp;nbsp\;&lt;/p&gt;&lt;br /&gt;&lt;br /&gt;Agenda: &lt;br /&gt;&lt;p class=&quot;MsoNormal
 &quot;&gt;&lt;span style=&quot;font-size: 10pt\;&quot;&gt;&lt;strong&gt;All Welcome!&lt;/strong&gt;&lt;/span&gt;&lt;/p&gt;
 \n&lt;p class=&quot;MsoNormal&quot;&gt;&lt;span style=&quot;font-size: 10pt\;&quot;&gt;You do not have to 
 be a member of the IEEE to attend.&lt;/span&gt;&lt;/p&gt;\n&lt;p class=&quot;MsoNormal&quot;&gt;&lt;span 
 style=&quot;font-size: 10pt\;&quot;&gt;&lt;strong&gt;Time:&amp;nbsp\; &lt;/strong&gt;5:00 PM-6:00 PM\, 
 Monday\, March 03\, 2025.&amp;nbsp\;&amp;nbsp\;A complimentary buffet dinner will 
 be available until 4:45 PM.&lt;/span&gt;&lt;/p&gt;\n&lt;p class=&quot;MsoNormal&quot;&gt;&lt;span style=&quot;
 font-size: 10pt\;&quot;&gt;&lt;strong&gt;Place:&amp;nbsp\;&amp;nbsp\;&lt;/strong&gt;New Jersey Institu
 te of Technology (NJIT)\, Room 202\,&amp;nbsp\;ECE&amp;nbsp\;Center\,&amp;nbsp\;Newark
 \,&amp;nbsp\;NJ.&amp;nbsp\;&amp;nbsp\;Directions are available at&amp;nbsp\;&lt;a href=&quot;http:
 //www.njit.edu/&quot;&gt;http://www.njit.edu&lt;/a&gt;.&lt;/span&gt;&lt;/p&gt;\n&lt;p&gt;&lt;span style=&quot;font
 -size: 10pt\;&quot;&gt;Contact Persons: Dr. Ajay Poddar (akpoddar@ieee.org)\,&amp;nbsp
 \; Dr. Durga Misra (&lt;a class=&quot;o_h J_x mq_CZ G_e r_P C_Z29WjXl S4_U ac_CI r
 tlI_dz_sSg&quot; title=&quot;dmisra@njit.edu&quot; data-test-id=&quot;contact-card-email&quot;&gt;dmis
 ra@njit.edu&lt;/a&gt;)\, Dr. Anisha Apte (anisha_apte@ieee.org)\, Dr. Edip Niver
  (&lt;a class=&quot;o_h J_x mq_CZ G_e r_P C_Z29WjXl S4_U ac_CI rtlI_dz_sSg&quot; title=
 &quot;edip.niver@njit.edu&quot; data-test-id=&quot;contact-card-email&quot;&gt;edip.niver@njit.ed
 u)&lt;/a&gt;&amp;nbsp\;&lt;/span&gt;&lt;/p&gt;\n&lt;p&gt;&amp;nbsp\;&lt;/p&gt;\n&lt;p&gt;&amp;nbsp\;&lt;/p&gt;
END:VEVENT
END:VCALENDAR

