BEGIN:VCALENDAR
VERSION:2.0
PRODID:IEEE vTools.Events//EN
CALSCALE:GREGORIAN
BEGIN:VTIMEZONE
TZID:America/New_York
BEGIN:DAYLIGHT
DTSTART:20250309T030000
TZOFFSETFROM:-0500
TZOFFSETTO:-0400
RRULE:FREQ=YEARLY;BYDAY=2SU;BYMONTH=3
TZNAME:EDT
END:DAYLIGHT
BEGIN:STANDARD
DTSTART:20241103T010000
TZOFFSETFROM:-0400
TZOFFSETTO:-0500
RRULE:FREQ=YEARLY;BYDAY=1SU;BYMONTH=11
TZNAME:EST
END:STANDARD
END:VTIMEZONE
BEGIN:VEVENT
DTSTAMP:20250304T132525Z
UID:D565FE24-A04F-4FCF-84D8-91598B74C3A1
DTSTART;TZID=America/New_York:20250303T120000
DTEND;TZID=America/New_York:20250303T133000
DESCRIPTION:The workshop focuses on creating 3D scientific illustrations us
 ing Blender. It will begin with a brief introduction to the software&#39;s fun
 damentals\, followed by a guided tutorial on designing a simple photonics 
 diagram. Participants are encouraged to bring their laptops and follow alo
 ng!\n\nCo-sponsored by: OPTICA-SPIE Student Chapter at INRS\n\nRoom: 214\,
  1650 Lionel-Boulet Blvd.\, Varennes\, Quebec\, Canada\, J3X 1P7
LOCATION:Room: 214\, 1650 Lionel-Boulet Blvd.\, Varennes\, Quebec\, Canada\
 , J3X 1P7
ORGANIZER:nicolas.perron@inrs.ca, mahadi.masnad@inrs.ca
SEQUENCE:21
SUMMARY:Technical Workshop: Scientific Illustrations with Blender
URL;VALUE=URI:https://events.vtools.ieee.org/m/471773
X-ALT-DESC:Description: &lt;br /&gt;&lt;p&gt;The workshop focuses on creating 3D scient
 ific illustrations using Blender. It will begin with a brief introduction 
 to the software&#39;s fundamentals\, followed by a guided tutorial on designin
 g a simple photonics diagram. Participants are encouraged to bring their l
 aptops and follow along!&lt;/p&gt;
END:VEVENT
END:VCALENDAR

