BEGIN:VCALENDAR
VERSION:2.0
PRODID:IEEE vTools.Events//EN
CALSCALE:GREGORIAN
BEGIN:VTIMEZONE
TZID:America/Los_Angeles
BEGIN:DAYLIGHT
DTSTART:20250309T030000
TZOFFSETFROM:-0800
TZOFFSETTO:-0700
RRULE:FREQ=YEARLY;BYDAY=2SU;BYMONTH=3
TZNAME:PDT
END:DAYLIGHT
BEGIN:STANDARD
DTSTART:20241103T010000
TZOFFSETFROM:-0700
TZOFFSETTO:-0800
RRULE:FREQ=YEARLY;BYDAY=1SU;BYMONTH=11
TZNAME:PST
END:STANDARD
END:VTIMEZONE
BEGIN:VEVENT
DTSTAMP:20250308T013713Z
UID:DB243DAE-0ADF-4943-AB47-91449F9135BB
DTSTART;TZID=America/Los_Angeles:20250304T190000
DTEND;TZID=America/Los_Angeles:20250304T203000
DESCRIPTION:Time &amp; Date: 7 p.m.\, Tuesday\, Mar. 4th\, 2025\nLocation: onli
 ne\n\nVirtual: https://events.vtools.ieee.org/m/471823
LOCATION:Virtual: https://events.vtools.ieee.org/m/471823
ORGANIZER:kristina.cormier@ieee.org
SEQUENCE:12
SUMMARY:Thompson-Okanagan Section Executive Committee and Student Branch Me
 eting at OC (Tues. Mar. 4\, 2025 @ 7 pm)
URL;VALUE=URI:https://events.vtools.ieee.org/m/471823
X-ALT-DESC:Description: &lt;br /&gt;&lt;p&gt;&lt;strong&gt;Time &amp;amp\; Date: 7 p.m.\, Tuesday
 \, Mar. 4th\, 2025&lt;/strong&gt;&lt;br&gt;&lt;strong&gt;Location&lt;/strong&gt;: &lt;strong&gt;online&lt;/
 strong&gt;&lt;/p&gt;
END:VEVENT
END:VCALENDAR

