BEGIN:VCALENDAR
VERSION:2.0
PRODID:IEEE vTools.Events//EN
CALSCALE:GREGORIAN
BEGIN:VTIMEZONE
TZID:America/Bogota
BEGIN:DAYLIGHT
DTSTART:20380118T221407
TZOFFSETFROM:-0500
TZOFFSETTO:-0500
RRULE:FREQ=YEARLY;BYDAY=3MO;BYMONTH=1
TZNAME:-05
END:DAYLIGHT
BEGIN:STANDARD
DTSTART:19930206T230000
TZOFFSETFROM:-0400
TZOFFSETTO:-0500
RRULE:FREQ=YEARLY;BYDAY=1SA;BYMONTH=2
TZNAME:-05
END:STANDARD
END:VTIMEZONE
BEGIN:VEVENT
DTSTAMP:20250621T194227Z
UID:069EF294-095C-4CC4-81F1-67114FC1798C
DTSTART;TZID=America/Bogota:20250308T083000
DTEND;TZID=America/Bogota:20250308T173000
DESCRIPTION:- Objective: Guide participants through the process of developi
 ng functional app\, from concept to deployment\, leveraging the capabiliti
 es of Oracle APEX.\n\n- Target Audience: Students\, professionals\, and te
 ch enthusiasts interested in learning rapid application development with l
 ow-code tools.\n- Workshop Format: Interactive sessions including theoreti
 cal introduction\, guided development\, practical challenges\, and final p
 roject presentation.\n- Prerequisites: Basic knowledge of SQL is helpful.\
 n- Benefits: Hands-on experience with Oracle APEX\, networking opportuniti
 es with experts and peers\, and a certificate of participation for attende
 es.\n\nSpeaker(s): \, Juan Cuao\n\nAgenda: \n- 8:00 AM - 8:30 AM → Welco
 me &amp; Introduction to Oracle APEX\n- 8:30 AM - 9:30 AM → Setting Up Works
 pace &amp; Database Design\n- 9:30 AM - 10:30 AM → Building Your First Appli
 cation\n- 10:30 AM - 10:45 AM → Morning Break\n- 10:45 AM - 12:00 PM →
  Customizing Features &amp; Adding Interactive Components\n- 12:00 PM - 1:00 P
 M → Lunch Break\n- 1:00 PM - 2:00 PM → Adding Business Logic\n- 2:00 P
 M - 2:15 PM → Afternoon Break\n- 2:15 PM - 3:30 PM → Testing\, Debuggi
 ng &amp; Deployment\n- 3:30 PM - 4:00 PM → Final Q&amp;A &amp; Closing Remarks\n- 4:
 00 PM - 5:00 PM → Networking\n\nUniversidad del Magdalena\, Santa Marta\
 , Magdalena\, Colombia
LOCATION:Universidad del Magdalena\, Santa Marta\, Magdalena\, Colombia
ORGANIZER:hecter@ieee.org
SEQUENCE:29
SUMMARY:IEEE CS Byte2Solution Bootcamp - Santa Marta
URL;VALUE=URI:https://events.vtools.ieee.org/m/472037
X-ALT-DESC:Description: &lt;br /&gt;&lt;ul&gt;\n&lt;li&gt;&lt;strong&gt;Objective&lt;/strong&gt;: Guide p
 articipants through the process of developing &amp;nbsp\;functional app\, from
  concept to deployment\, leveraging the capabilities of Oracle APEX.&lt;/li&gt;\
 n&lt;/ul&gt;\n&lt;ul&gt;\n&lt;li&gt;&lt;strong&gt;Target Audience&lt;/strong&gt;: Students\, professiona
 ls\, and tech enthusiasts interested in learning rapid application develop
 ment with low-code tools.&lt;/li&gt;\n&lt;li&gt;&lt;strong&gt;Workshop Format&lt;/strong&gt;: Inte
 ractive sessions including theoretical introduction\, guided development\,
  practical challenges\, and final project presentation.&lt;/li&gt;\n&lt;li&gt;&lt;strong&gt;
 Prerequisites&lt;/strong&gt;: Basic knowledge of SQL is helpful.&lt;/li&gt;\n&lt;li&gt;&lt;stro
 ng&gt;Benefits&lt;/strong&gt;: Hands-on experience with Oracle APEX\, networking op
 portunities with experts and peers\, and a certificate of participation fo
 r attendees.&lt;/li&gt;\n&lt;/ul&gt;\n&lt;p&gt;&amp;nbsp\;&lt;/p&gt;&lt;br /&gt;&lt;br /&gt;Agenda: &lt;br /&gt;&lt;ul&gt;\n&lt;l
 i&gt;&lt;strong data-start=&quot;132&quot; data-end=&quot;153&quot;&gt;8:00 AM - 8:30 AM&lt;/strong&gt; &amp;rarr
 \; Welcome &amp;amp\; Introduction to Oracle APEX&lt;/li&gt;\n&lt;li&gt;&lt;strong data-start
 =&quot;196&quot; data-end=&quot;217&quot;&gt;8:30 AM - 9:30 AM&lt;/strong&gt; &amp;rarr\; Setting Up Worksp
 ace &amp;amp\; Database Design&lt;/li&gt;\n&lt;li&gt;&lt;strong data-start=&quot;261&quot; data-end=&quot;28
 3&quot;&gt;9:30 AM - 10:30 AM&lt;/strong&gt; &amp;rarr\; Building Your First Application&lt;/li
 &gt;\n&lt;li&gt;&lt;strong data-start=&quot;320&quot; data-end=&quot;343&quot;&gt;10:30 AM - 10:45 AM&lt;/strong
 &gt; &amp;rarr\; &lt;strong data-start=&quot;346&quot; data-end=&quot;363&quot;&gt;Morning Break&lt;/strong&gt;&lt;/
 li&gt;\n&lt;li&gt;&lt;strong data-start=&quot;366&quot; data-end=&quot;389&quot;&gt;10:45 AM - 12:00 PM&lt;/stro
 ng&gt; &amp;rarr\; Customizing Features &amp;amp\; Adding Interactive Components&lt;/li&gt;
 \n&lt;li&gt;&lt;strong data-start=&quot;447&quot; data-end=&quot;469&quot;&gt;12:00 PM - 1:00 PM&lt;/strong&gt; 
 &amp;rarr\; &lt;strong data-start=&quot;472&quot; data-end=&quot;487&quot;&gt;Lunch Break&lt;/strong&gt;&lt;/li&gt;\
 n&lt;li&gt;&lt;strong data-start=&quot;490&quot; data-end=&quot;511&quot;&gt;1:00 PM - 2:00 PM&lt;/strong&gt; &amp;r
 arr\; Adding Business Logic&lt;/li&gt;\n&lt;li&gt;&lt;strong data-start=&quot;538&quot; data-end=&quot;5
 59&quot;&gt;2:00 PM - 2:15 PM&lt;/strong&gt; &amp;rarr\; &lt;strong data-start=&quot;562&quot; data-end=&quot;
 581&quot;&gt;Afternoon Break&lt;/strong&gt;&lt;/li&gt;\n&lt;li&gt;&lt;strong data-start=&quot;584&quot; data-end=
 &quot;605&quot;&gt;2:15 PM - 3:30 PM&lt;/strong&gt; &amp;rarr\; Testing\, Debugging &amp;amp\; Deploy
 ment&lt;/li&gt;\n&lt;li&gt;&lt;strong data-start=&quot;642&quot; data-end=&quot;663&quot;&gt;3:30 PM - 4:00 PM&lt;/
 strong&gt; &amp;rarr\; Final Q&amp;amp\;A &amp;amp\; Closing Remarks&lt;/li&gt;\n&lt;li&gt;&lt;strong da
 ta-start=&quot;696&quot; data-end=&quot;717&quot;&gt;4:00 PM - 5:00 PM&lt;/strong&gt; &amp;rarr\; &lt;strong d
 ata-start=&quot;720&quot; data-end=&quot;734&quot;&gt;Networking&lt;/strong&gt;&lt;/li&gt;\n&lt;/ul&gt;
END:VEVENT
END:VCALENDAR

