BEGIN:VCALENDAR
VERSION:2.0
PRODID:IEEE vTools.Events//EN
CALSCALE:GREGORIAN
BEGIN:VTIMEZONE
TZID:America/Bogota
BEGIN:DAYLIGHT
DTSTART:20380118T221407
TZOFFSETFROM:-0500
TZOFFSETTO:-0500
RRULE:FREQ=YEARLY;BYDAY=3MO;BYMONTH=1
TZNAME:-05
END:DAYLIGHT
BEGIN:STANDARD
DTSTART:19930206T230000
TZOFFSETFROM:-0400
TZOFFSETTO:-0500
RRULE:FREQ=YEARLY;BYDAY=1SA;BYMONTH=2
TZNAME:-05
END:STANDARD
END:VTIMEZONE
BEGIN:VEVENT
DTSTAMP:20250302T151434Z
UID:3DFB8D24-639A-4D50-AA0C-F1B8A2DF8A06
DTSTART;TZID=America/Bogota:20250301T083000
DTEND;TZID=America/Bogota:20250301T173000
DESCRIPTION:The Zona Centro IEEE is an event organized by the IEEE Colombia
  Section and the IEEE Student Branch at Universidad de los Andes\, aimed a
 t students\, professionals\, and technology enthusiasts in engineering fie
 lds. It provides a space for learning\, networking\, and knowledge exchang
 e through conferences\, workshops\, panel discussions\, and hands-on activ
 ities. The event fosters collaboration among IEEE student branches in the 
 central region of Colombia\, helping participants develop technical and le
 adership skills while exploring cutting-edge topics in technology and inno
 vation. This edition will take place at Universidad de los Andes on March 
 1st\, with sessions scheduled from 8:30 AM to 12:00 PM and 1:00 PM to 5:30
  PM.\n\nCo-sponsored by: Departamento de Ingeniería Eléctrica y Electró
 nica - Uniandes\n\nSpeaker(s): Leidy Ferro\, Augusto Velasquez\n\nAgenda: 
 \nMorning Session - 8:30 am - 12:00 pm\n\nAfternoon Session - 1:00 pm - 5:
 30 pm\n\nBldg: RGD\, Cl. 19A #1-2 a 1-28\, Bogota\, Distrito Capital de Bo
 gota\, Colombia
LOCATION:Bldg: RGD\, Cl. 19A #1-2 a 1-28\, Bogota\, Distrito Capital de Bog
 ota\, Colombia
ORGANIZER:ieee@uniandes.edu.co
SEQUENCE:2
SUMMARY:IEEE Zona Centro Uniandes Marzo 2025
URL;VALUE=URI:https://events.vtools.ieee.org/m/472076
X-ALT-DESC:Description: &lt;br /&gt;&lt;p&gt;The &lt;strong data-start=&quot;44&quot; data-end=&quot;64&quot;&gt;
 Zona Centro IEEE&lt;/strong&gt; is an event organized by the &lt;strong data-start=
 &quot;94&quot; data-end=&quot;119&quot;&gt;IEEE Colombia Section&lt;/strong&gt; and the &lt;strong data-st
 art=&quot;128&quot; data-end=&quot;179&quot;&gt;IEEE Student Branch at Universidad de los Andes&lt;/
 strong&gt;\, aimed at students\, professionals\, and technology enthusiasts i
 n engineering fields. It provides a space for learning\, networking\, and 
 knowledge exchange through conferences\, workshops\, panel discussions\, a
 nd hands-on activities. The event fosters collaboration among IEEE student
  branches in the central region of Colombia\, helping participants develop
  technical and leadership skills while exploring cutting-edge topics in te
 chnology and innovation. This edition will take place at &lt;strong data-star
 t=&quot;664&quot; data-end=&quot;705&quot;&gt;Universidad de los Andes on March 1st&lt;/strong&gt;\, wi
 th sessions scheduled from &lt;strong data-start=&quot;736&quot; data-end=&quot;782&quot;&gt;8:30 AM
  to 12:00 PM and 1:00 PM to 5:30 PM&lt;/strong&gt;.&lt;/p&gt;&lt;br /&gt;&lt;br /&gt;Agenda: &lt;br /
 &gt;&lt;p&gt;Morning Session - 8:30 am - 12:00 pm&lt;/p&gt;\n&lt;p&gt;Afternoon Session - 1:00 
 pm - 5:30 pm&lt;/p&gt;
END:VEVENT
END:VCALENDAR

