BEGIN:VCALENDAR
VERSION:2.0
PRODID:IEEE vTools.Events//EN
CALSCALE:GREGORIAN
BEGIN:VTIMEZONE
TZID:America/Regina
BEGIN:STANDARD
DTSTART:19600424T030000
TZOFFSETFROM:-0700
TZOFFSETTO:-0600
TZNAME:CST
END:STANDARD
END:VTIMEZONE
BEGIN:VEVENT
DTSTAMP:20250406T195125Z
UID:08B433C2-95CA-48AE-A26B-D01F15E12FB5
DTSTART;TZID=America/Regina:20250320T170000
DTEND;TZID=America/Regina:20250320T183000
DESCRIPTION:This introduction to IEEE IAS offers an engaging and comprehens
 ive introduction to the Industry of Applications Society (IAS). It begins 
 by exploring the organization’s mission\, rich history\, and well-define
 d organizational structure. This section aims to provide the audience with
  a clear understanding of IAS’s purpose and how it operates within the i
 ndustry\, setting the stage for deeper engagement.\n\nThe presentation the
 n delves into the diverse technical activities and innovative programs tha
 t IAS offers. It highlights various initiatives designed to promote profes
 sional development\, knowledge exchange\, and industry innovation. In addi
 tion\, it showcases the numerous volunteering opportunities available with
 in the society\, encouraging participants to actively contribute\, collabo
 rate\, and expand their professional network through meaningful involvemen
 t.\n\nFinally\, the keynote emphasizes the valuable benefits of IAS member
 ship\, such as access to exclusive industry resources\, technical insights
 \, and professional growth opportunities. To ensure an easy onboarding pro
 cess\, it concludes with a straightforward\, step-by-step guide on how to 
 become an IAS member\, helping interested individuals take the first step 
 toward joining this dynamic and global community.\n\nDate: Thursday\, Marc
 h 20th 2025\n\nTime: 5:00 pm - 6:30 pm\n\nPlace: University of Saskatchewa
 n- College of Engineering- Room ENG 2C01 (57 Campus Drive\, Saskatoon\, SK
 )\n\nParking: Visitor Parking is available at meters throughout University
 .\n\nThis is a professional development event\, and snacks is included in 
 the registration cost.\n\nAdmission:\n\n- IEEE Member: $0\n- IEEE Student 
 Members: $0\n- University of Saskatchewan Students: $0\n- Members from the
  Industry (Non-IEEE Member): $10\n- Non-IEEE Members: $10\n\nIf you are in
 terested\, please register as soon as possible!\n\nSpeaker(s): Nehad El-Sh
 erif\, Nehad\n\nAgenda: \nStart Time Description\n\n5:00pm Registration St
 arts\n\n5:30pm Presentation Starts\n\n6:30pm Wrap up &amp; More Mingle\n\nRoom
 :  ENG 2C01\, 57 Campus Drive\, Saskatoon\, Saskatchewan\, Canada
LOCATION:Room:  ENG 2C01\, 57 Campus Drive\, Saskatoon\, Saskatchewan\, Can
 ada
ORGANIZER:tehreemhussain@ieee.org
SEQUENCE:40
SUMMARY:IEEE IAS/PES- Introduction to IEEE IAS - Industry Applications Soci
 ety
URL;VALUE=URI:https://events.vtools.ieee.org/m/472089
X-ALT-DESC:Description: &lt;br /&gt;&lt;p&gt;&amp;nbsp\;&lt;/p&gt;\n&lt;p data-start=&quot;0&quot; data-end=&quot;3
 93&quot;&gt;This introduction to IEEE IAS offers an engaging and comprehensive int
 roduction to the Industry of Applications Society (IAS). It begins by expl
 oring the organization&amp;rsquo\;s mission\, rich history\, and well-defined 
 organizational structure. This section aims to provide the audience with a
  clear understanding of IAS&amp;rsquo\;s purpose and how it operates within th
 e industry\, setting the stage for deeper engagement.&lt;/p&gt;\n&lt;p data-start=&quot;
 395&quot; data-end=&quot;857&quot;&gt;The presentation then delves into the diverse technica
 l activities and innovative programs that IAS offers. It highlights variou
 s initiatives designed to promote professional development\, knowledge exc
 hange\, and industry innovation. In addition\, it showcases the numerous v
 olunteering opportunities available within the society\, encouraging parti
 cipants to actively contribute\, collaborate\, and expand their profession
 al network through meaningful involvement.&lt;/p&gt;\n&lt;p data-start=&quot;859&quot; data-e
 nd=&quot;1265&quot; data-is-last-node=&quot;&quot; data-is-only-node=&quot;&quot;&gt;Finally\, the keynote 
 emphasizes the valuable benefits of IAS membership\, such as access to exc
 lusive industry resources\, technical insights\, and professional growth o
 pportunities. To ensure an easy onboarding process\, it concludes with a s
 traightforward\, step-by-step guide on how to become an IAS member\, helpi
 ng interested individuals take the first step toward joining this dynamic 
 and global community.&lt;/p&gt;\n&lt;p&gt;Date: &lt;strong&gt;Thursday\, March 20th 2025&lt;/st
 rong&gt;&lt;/p&gt;\n&lt;p&gt;Time:&lt;strong&gt; 5:00 pm - 6:30 pm&lt;/strong&gt;&lt;/p&gt;\n&lt;p&gt;Place:&amp;nbsp
 \;&lt;strong&gt;University of Saskatchewan- College of Engineering- Room &amp;nbsp\;
 ENG 2C01 (57 Campus Drive\, Saskatoon\, SK)&lt;/strong&gt;&lt;/p&gt;\n&lt;p&gt;Parking:&amp;nbsp
 \;&lt;strong&gt;Visitor Parking&lt;/strong&gt;&amp;nbsp\;is available at&amp;nbsp\;meters thro
 ughout University.&lt;/p&gt;\n&lt;p&gt;&amp;nbsp\;&lt;/p&gt;\n&lt;p&gt;This is a professional developm
 ent event\, and snacks is included in the registration cost.&lt;/p&gt;\n&lt;p&gt;&lt;stro
 ng&gt;Admission:&lt;/strong&gt;&lt;/p&gt;\n&lt;ul&gt;\n&lt;li&gt;&lt;strong&gt;IEEE Member:&lt;/strong&gt; $0&lt;/li
 &gt;\n&lt;li&gt;&lt;strong&gt;IEEE Student Members:&lt;/strong&gt; $0&lt;/li&gt;\n&lt;li&gt;&lt;strong&gt;Univers
 ity of Saskatchewan Students:&lt;/strong&gt; $0&lt;/li&gt;\n&lt;li&gt;&lt;strong&gt;Members from t
 he Industry (Non-IEEE Member):&lt;/strong&gt; $10&lt;/li&gt;\n&lt;li&gt;&lt;strong&gt;Non-IEEE Mem
 bers:&lt;/strong&gt; $10&lt;/li&gt;\n&lt;/ul&gt;\n&lt;p&gt;&lt;strong&gt;If you are interested\, please 
 register as soon as possible!&lt;/strong&gt;&lt;/p&gt;&lt;br /&gt;&lt;br /&gt;Agenda: &lt;br /&gt;&lt;p dat
 a-start=&quot;293&quot; data-end=&quot;322&quot;&gt;&amp;nbsp\;&lt;/p&gt;\n&lt;p&gt;&lt;br&gt;&lt;strong&gt;Start Time&amp;nbsp\;
  &amp;nbsp\; &amp;nbsp\; &amp;nbsp\; &amp;nbsp\; &amp;nbsp\; &amp;nbsp\; &amp;nbsp\; &amp;nbsp\; &amp;nbsp\; &amp;
 nbsp\; &amp;nbsp\; &amp;nbsp\; &amp;nbsp\; &amp;nbsp\; &amp;nbsp\; &amp;nbsp\; &amp;nbsp\; &amp;nbsp\; Des
 cription&lt;/strong&gt;&lt;/p&gt;\n&lt;p&gt;5:00pm &amp;nbsp\; &amp;nbsp\; &amp;nbsp\; &amp;nbsp\; &amp;nbsp\; &amp;
 nbsp\; &amp;nbsp\; &amp;nbsp\; &amp;nbsp\; &amp;nbsp\; &amp;nbsp\; &amp;nbsp\; &amp;nbsp\; &amp;nbsp\; &amp;nb
 sp\; &amp;nbsp\; &amp;nbsp\; &amp;nbsp\; &amp;nbsp\; &amp;nbsp\; &amp;nbsp\; Registration Starts&lt;/
 p&gt;\n&lt;p&gt;5:30pm&amp;nbsp\; &amp;nbsp\; &amp;nbsp\; &amp;nbsp\; &amp;nbsp\; &amp;nbsp\; &amp;nbsp\; &amp;nbsp
 \; &amp;nbsp\; &amp;nbsp\; &amp;nbsp\; &amp;nbsp\; &amp;nbsp\; &amp;nbsp\; &amp;nbsp\; &amp;nbsp\; &amp;nbsp\;
  &amp;nbsp\; &amp;nbsp\; &amp;nbsp\; &amp;nbsp\; &amp;nbsp\;Presentation Starts&lt;/p&gt;\n&lt;p&gt;6:30pm
 &amp;nbsp\; &amp;nbsp\; &amp;nbsp\; &amp;nbsp\; &amp;nbsp\; &amp;nbsp\; &amp;nbsp\; &amp;nbsp\; &amp;nbsp\; &amp;n
 bsp\; &amp;nbsp\; &amp;nbsp\; &amp;nbsp\; &amp;nbsp\; &amp;nbsp\; &amp;nbsp\; &amp;nbsp\; &amp;nbsp\; &amp;nbs
 p\; &amp;nbsp\; &amp;nbsp\;Wrap up &amp;amp\; More Mingle &amp;nbsp\;&amp;nbsp\; &amp;nbsp\; &amp;nbsp
 \; &amp;nbsp\; &amp;nbsp\; &amp;nbsp\; &amp;nbsp\; &amp;nbsp\; &amp;nbsp\; &amp;nbsp\; &amp;nbsp\; &amp;nbsp\;
  &amp;nbsp\; &amp;nbsp\; &amp;nbsp\; &amp;nbsp\; &amp;nbsp\; &amp;nbsp\; &amp;nbsp\; &amp;nbsp\;&lt;/p&gt;\n&lt;p d
 ata-start=&quot;293&quot; data-end=&quot;322&quot;&gt;&lt;strong data-start=&quot;293&quot; data-end=&quot;320&quot;&gt;&lt;br
 &gt;&amp;nbsp\; &amp;nbsp\; &lt;/strong&gt;&lt;/p&gt;
END:VEVENT
END:VCALENDAR

