BEGIN:VCALENDAR
VERSION:2.0
PRODID:IEEE vTools.Events//EN
CALSCALE:GREGORIAN
BEGIN:VTIMEZONE
TZID:Asia/Kolkata
BEGIN:STANDARD
DTSTART:19451014T230000
TZOFFSETFROM:+0630
TZOFFSETTO:+0530
TZNAME:IST
END:STANDARD
END:VTIMEZONE
BEGIN:VEVENT
DTSTAMP:20250301T070926Z
UID:CECAD242-E7A4-4B5D-9CCE-584DD7FB66C5
DTSTART;TZID=Asia/Kolkata:20250226T173000
DTEND;TZID=Asia/Kolkata:20250226T183000
DESCRIPTION:Moments of the Meeting\n\n● The meeting began with discussion
 s on the structure of a competitive programming event for the tech fest.\n
 \n● Finalized the event name as Code Rumble to reflect its dynamic and c
 ompetitive nature.\n\n● The event will have multiple rounds:\n\n○ Qual
 ifier Round: Basic problem-solving for participant screening.\n\n○ Advan
 ced Rounds: Include debugging\, algorithmic challenges\, and MCQs to test 
 a variety of coding skills.\n\n● Platforms like HackerRank and CodeChef 
 were shortlisted for hosting\, ensuring accessibility and ease of use.\n\n
 ● Tasks assigned:\n\n○ Problem-setting team to design engaging challen
 ges.\n\n○ Moderators to oversee smooth execution.\n\n○ Prepare challen
 ges and promotional materials within two to three days .\n\nRoom: CR-5\, B
 ldg: Academic Block\, Jaypee University Of Information Technology\, Solan\
 , Himachal Pradesh\, India\, 173234
LOCATION:Room: CR-5\, Bldg: Academic Block\, Jaypee University Of Informati
 on Technology\, Solan\, Himachal Pradesh\, India\, 173234
ORGANIZER:ieee.juit@juitsolan.in
SEQUENCE:14
SUMMARY:General Body Meeting
URL;VALUE=URI:https://events.vtools.ieee.org/m/472142
X-ALT-DESC:Description: &lt;br /&gt;&lt;p class=&quot;MsoNormal&quot; style=&quot;text-align: cente
 r\;&quot; align=&quot;center&quot;&gt;Moments of the Meeting&lt;/p&gt;\n&lt;p class=&quot;MsoNormal&quot; style
 =&quot;text-align: center\;&quot; align=&quot;center&quot;&gt;&amp;nbsp\;&lt;/p&gt;\n&lt;p class=&quot;MsoNormal&quot; s
 tyle=&quot;margin-left: 36.0pt\; text-indent: -18.0pt\; mso-list: l0 level1 lfo
 1\;&quot;&gt;&lt;!-- [if !supportLists]--&gt;&lt;span style=&quot;font-size: 12.0pt\; line-heigh
 t: 115%\; font-family: &#39;Times New Roman&#39;\,&#39;serif&#39;\; mso-fareast-font-famil
 y: &#39;Times New Roman&#39;\;&quot;&gt;&lt;span style=&quot;mso-list: Ignore\;&quot;&gt;●&lt;span style=&quot;f
 ont: 7.0pt &#39;Times New Roman&#39;\;&quot;&gt;&amp;nbsp\;&amp;nbsp\;&amp;nbsp\;&amp;nbsp\;&amp;nbsp\; &lt;/span
 &gt;&lt;/span&gt;&lt;/span&gt;&lt;!--[endif]--&gt;&lt;span style=&quot;font-size: 12.0pt\; line-height:
  115%\; font-family: &#39;Times New Roman&#39;\,&#39;serif&#39;\; mso-fareast-font-family:
  &#39;Times New Roman&#39;\;&quot;&gt;The meeting began with discussions on the structure 
 of a competitive programming event for the tech fest.&lt;/span&gt;&lt;/p&gt;\n&lt;p class
 =&quot;MsoNormal&quot; style=&quot;margin-left: 36.0pt\; text-indent: -18.0pt\; mso-list:
  l0 level1 lfo1\;&quot;&gt;&lt;!-- [if !supportLists]--&gt;&lt;span style=&quot;font-size: 12.0p
 t\; line-height: 115%\; font-family: &#39;Times New Roman&#39;\,&#39;serif&#39;\; mso-fare
 ast-font-family: &#39;Times New Roman&#39;\;&quot;&gt;&lt;span style=&quot;mso-list: Ignore\;&quot;&gt;●
 &lt;span style=&quot;font: 7.0pt &#39;Times New Roman&#39;\;&quot;&gt;&amp;nbsp\;&amp;nbsp\;&amp;nbsp\;&amp;nbsp\;
 &amp;nbsp\; &lt;/span&gt;&lt;/span&gt;&lt;/span&gt;&lt;!--[endif]--&gt;&lt;span style=&quot;font-size: 12.0pt\
 ; line-height: 115%\; font-family: &#39;Times New Roman&#39;\,&#39;serif&#39;\; mso-fareas
 t-font-family: &#39;Times New Roman&#39;\;&quot;&gt;Finalized the event name as &lt;em style=
 &quot;mso-bidi-font-style: normal\;&quot;&gt;Code Rumble&lt;/em&gt; to reflect its dynamic an
 d competitive nature.&lt;/span&gt;&lt;/p&gt;\n&lt;p class=&quot;MsoNormal&quot; style=&quot;margin-left:
  36.0pt\; text-indent: -18.0pt\; mso-list: l0 level1 lfo1\;&quot;&gt;&lt;!-- [if !sup
 portLists]--&gt;&lt;span style=&quot;font-size: 12.0pt\; line-height: 115%\; font-fam
 ily: &#39;Times New Roman&#39;\,&#39;serif&#39;\; mso-fareast-font-family: &#39;Times New Roma
 n&#39;\;&quot;&gt;&lt;span style=&quot;mso-list: Ignore\;&quot;&gt;●&lt;span style=&quot;font: 7.0pt &#39;Times 
 New Roman&#39;\;&quot;&gt;&amp;nbsp\;&amp;nbsp\;&amp;nbsp\;&amp;nbsp\;&amp;nbsp\; &lt;/span&gt;&lt;/span&gt;&lt;/span&gt;&lt;!-
 -[endif]--&gt;&lt;span style=&quot;font-size: 12.0pt\; line-height: 115%\; font-famil
 y: &#39;Times New Roman&#39;\,&#39;serif&#39;\; mso-fareast-font-family: &#39;Times New Roman&#39;
 \;&quot;&gt;The event will have multiple rounds:&lt;/span&gt;&lt;/p&gt;\n&lt;p class=&quot;MsoNormal&quot; 
 style=&quot;margin-left: 72.0pt\; text-indent: -18.0pt\; mso-list: l0 level2 lf
 o1\;&quot;&gt;&lt;!-- [if !supportLists]--&gt;&lt;span style=&quot;font-size: 12.0pt\; line-heig
 ht: 115%\;&quot;&gt;&lt;span style=&quot;mso-list: Ignore\;&quot;&gt;○&lt;span style=&quot;font: 7.0pt &#39;
 Times New Roman&#39;\;&quot;&gt;&amp;nbsp\;&amp;nbsp\;&amp;nbsp\;&amp;nbsp\;&amp;nbsp\; &lt;/span&gt;&lt;/span&gt;&lt;/sp
 an&gt;&lt;!--[endif]--&gt;&lt;span style=&quot;font-size: 12.0pt\; line-height: 115%\; font
 -family: &#39;Times New Roman&#39;\,&#39;serif&#39;\; mso-fareast-font-family: &#39;Times New 
 Roman&#39;\;&quot;&gt;Qualifier Round: Basic problem-solving for participant screening
 .&lt;/span&gt;&lt;/p&gt;\n&lt;p class=&quot;MsoNormal&quot; style=&quot;margin-left: 72.0pt\; text-inden
 t: -18.0pt\; mso-list: l0 level2 lfo1\;&quot;&gt;&lt;!-- [if !supportLists]--&gt;&lt;span s
 tyle=&quot;font-size: 12.0pt\; line-height: 115%\;&quot;&gt;&lt;span style=&quot;mso-list: Igno
 re\;&quot;&gt;○&lt;span style=&quot;font: 7.0pt &#39;Times New Roman&#39;\;&quot;&gt;&amp;nbsp\;&amp;nbsp\;&amp;nbsp
 \;&amp;nbsp\;&amp;nbsp\; &lt;/span&gt;&lt;/span&gt;&lt;/span&gt;&lt;!--[endif]--&gt;&lt;span style=&quot;font-size
 : 12.0pt\; line-height: 115%\; font-family: &#39;Times New Roman&#39;\,&#39;serif&#39;\; m
 so-fareast-font-family: &#39;Times New Roman&#39;\;&quot;&gt;Advanced Rounds: Include debu
 gging\, algorithmic challenges\, and MCQs to test a variety of coding skil
 ls.&lt;/span&gt;&lt;/p&gt;\n&lt;p class=&quot;MsoNormal&quot; style=&quot;margin-left: 36.0pt\; text-ind
 ent: -18.0pt\; mso-list: l0 level1 lfo1\;&quot;&gt;&lt;!-- [if !supportLists]--&gt;&lt;span
  style=&quot;font-size: 12.0pt\; line-height: 115%\; font-family: &#39;Times New Ro
 man&#39;\,&#39;serif&#39;\; mso-fareast-font-family: &#39;Times New Roman&#39;\;&quot;&gt;&lt;span style=
 &quot;mso-list: Ignore\;&quot;&gt;●&lt;span style=&quot;font: 7.0pt &#39;Times New Roman&#39;\;&quot;&gt;&amp;nbs
 p\;&amp;nbsp\;&amp;nbsp\;&amp;nbsp\;&amp;nbsp\; &lt;/span&gt;&lt;/span&gt;&lt;/span&gt;&lt;!--[endif]--&gt;&lt;span s
 tyle=&quot;font-size: 12.0pt\; line-height: 115%\; font-family: &#39;Times New Roma
 n&#39;\,&#39;serif&#39;\; mso-fareast-font-family: &#39;Times New Roman&#39;\;&quot;&gt;Platforms like
  HackerRank and CodeChef were shortlisted for hosting\, ensuring accessibi
 lity and ease of use.&lt;/span&gt;&lt;/p&gt;\n&lt;p class=&quot;MsoNormal&quot; style=&quot;margin-left:
  36.0pt\; text-indent: -18.0pt\; mso-list: l0 level1 lfo1\;&quot;&gt;&lt;!-- [if !sup
 portLists]--&gt;&lt;span style=&quot;font-size: 12.0pt\; line-height: 115%\; font-fam
 ily: &#39;Times New Roman&#39;\,&#39;serif&#39;\; mso-fareast-font-family: &#39;Times New Roma
 n&#39;\;&quot;&gt;&lt;span style=&quot;mso-list: Ignore\;&quot;&gt;●&lt;span style=&quot;font: 7.0pt &#39;Times 
 New Roman&#39;\;&quot;&gt;&amp;nbsp\;&amp;nbsp\;&amp;nbsp\;&amp;nbsp\;&amp;nbsp\; &lt;/span&gt;&lt;/span&gt;&lt;/span&gt;&lt;!-
 -[endif]--&gt;&lt;span style=&quot;font-size: 12.0pt\; line-height: 115%\; font-famil
 y: &#39;Times New Roman&#39;\,&#39;serif&#39;\; mso-fareast-font-family: &#39;Times New Roman&#39;
 \;&quot;&gt;Tasks assigned:&lt;/span&gt;&lt;/p&gt;\n&lt;p class=&quot;MsoNormal&quot; style=&quot;margin-left: 7
 2.0pt\; text-indent: -18.0pt\; mso-list: l0 level2 lfo1\;&quot;&gt;&lt;!-- [if !suppo
 rtLists]--&gt;&lt;span style=&quot;font-size: 12.0pt\; line-height: 115%\; font-famil
 y: &#39;Times New Roman&#39;\,&#39;serif&#39;\; mso-fareast-font-family: &#39;Times New Roman&#39;
 \;&quot;&gt;&lt;span style=&quot;mso-list: Ignore\;&quot;&gt;○&lt;span style=&quot;font: 7.0pt &#39;Times Ne
 w Roman&#39;\;&quot;&gt;&amp;nbsp\;&amp;nbsp\;&amp;nbsp\;&amp;nbsp\;&amp;nbsp\; &lt;/span&gt;&lt;/span&gt;&lt;/span&gt;&lt;!--[
 endif]--&gt;&lt;span style=&quot;font-size: 12.0pt\; line-height: 115%\; font-family:
  &#39;Times New Roman&#39;\,&#39;serif&#39;\; mso-fareast-font-family: &#39;Times New Roman&#39;\;
 &quot;&gt;Problem-setting team to design engaging challenges.&lt;/span&gt;&lt;/p&gt;\n&lt;p class
 =&quot;MsoNormal&quot; style=&quot;margin-left: 72.0pt\; text-indent: -18.0pt\; mso-list:
  l0 level2 lfo1\;&quot;&gt;&lt;!-- [if !supportLists]--&gt;&lt;span style=&quot;font-size: 12.0p
 t\; line-height: 115%\; font-family: &#39;Times New Roman&#39;\,&#39;serif&#39;\; mso-fare
 ast-font-family: &#39;Times New Roman&#39;\;&quot;&gt;&lt;span style=&quot;mso-list: Ignore\;&quot;&gt;○
 &lt;span style=&quot;font: 7.0pt &#39;Times New Roman&#39;\;&quot;&gt;&amp;nbsp\;&amp;nbsp\;&amp;nbsp\;&amp;nbsp\;
 &amp;nbsp\; &lt;/span&gt;&lt;/span&gt;&lt;/span&gt;&lt;!--[endif]--&gt;&lt;span style=&quot;font-size: 12.0pt\
 ; line-height: 115%\; font-family: &#39;Times New Roman&#39;\,&#39;serif&#39;\; mso-fareas
 t-font-family: &#39;Times New Roman&#39;\;&quot;&gt;Moderators to oversee smooth execution
 .&lt;/span&gt;&lt;/p&gt;\n&lt;p class=&quot;MsoNormal&quot; style=&quot;text-indent: -18.0pt\; mso-list:
  l0 level2 lfo1\; margin: 0cm 0cm 12.0pt 72.0pt\;&quot;&gt;&lt;!-- [if !supportLists]
 --&gt;&lt;span style=&quot;font-size: 12.0pt\; line-height: 115%\; font-family: &#39;Time
 s New Roman&#39;\,&#39;serif&#39;\; mso-fareast-font-family: &#39;Times New Roman&#39;\;&quot;&gt;&lt;spa
 n style=&quot;mso-list: Ignore\;&quot;&gt;○&lt;span style=&quot;font: 7.0pt &#39;Times New Roman&#39;
 \;&quot;&gt;&amp;nbsp\;&amp;nbsp\;&amp;nbsp\;&amp;nbsp\;&amp;nbsp\; &lt;/span&gt;&lt;/span&gt;&lt;/span&gt;&lt;!--[endif]--
 &gt;&lt;span style=&quot;font-size: 12.0pt\; line-height: 115%\; font-family: &#39;Times 
 New Roman&#39;\,&#39;serif&#39;\; mso-fareast-font-family: &#39;Times New Roman&#39;\;&quot;&gt;Prepar
 e challenges and promotional materials within two to three days . &lt;/span&gt;&lt;
 /p&gt;\n&lt;p class=&quot;MsoNormal&quot; style=&quot;text-indent: -18.0pt\; mso-list: l0 level
 2 lfo1\; margin: 0cm 0cm 12.0pt 72.0pt\;&quot;&gt;&amp;nbsp\;&lt;/p&gt;\n&lt;p class=&quot;MsoNormal
 &quot; style=&quot;text-indent: -18.0pt\; mso-list: l0 level2 lfo1\; margin: 0cm 0cm
  12.0pt 72.0pt\;&quot;&gt;&amp;nbsp\;&lt;/p&gt;\n&lt;p class=&quot;MsoNormal&quot; style=&quot;text-indent: -1
 8.0pt\; mso-list: l0 level2 lfo1\; margin: 0cm 0cm 12.0pt 72.0pt\;&quot;&gt;&lt;img s
 rc=&quot;https://events.vtools.ieee.org/vtools_ui/media/display/cd3834bf-90e2-4
 04c-8976-dafaf1043d3f&quot;&gt; &amp;nbsp\; &amp;nbsp\; &lt;img src=&quot;https://events.vtools.ie
 ee.org/vtools_ui/media/display/93d3bad9-910e-4179-925d-3be14c3976d4&quot; width
 =&quot;152&quot; height=&quot;202&quot;&gt;&lt;/p&gt;
END:VEVENT
END:VCALENDAR

