BEGIN:VCALENDAR
VERSION:2.0
PRODID:IEEE vTools.Events//EN
CALSCALE:GREGORIAN
BEGIN:VTIMEZONE
TZID:Africa/Cairo
BEGIN:DAYLIGHT
DTSTART:20240426T010000
TZOFFSETFROM:+0200
TZOFFSETTO:+0300
RRULE:FREQ=YEARLY;BYDAY=-1FR;BYMONTH=4
TZNAME:EEST
END:DAYLIGHT
BEGIN:STANDARD
DTSTART:20241031T230000
TZOFFSETFROM:+0300
TZOFFSETTO:+0200
RRULE:FREQ=YEARLY;BYDAY=-1TH;BYMONTH=10
TZNAME:EET
END:STANDARD
END:VTIMEZONE
BEGIN:VEVENT
DTSTAMP:20250304T014633Z
UID:CFBD733B-A3FF-47CD-A499-C01B9F66BF3A
DTSTART;TZID=Africa/Cairo:20241023T100000
DTEND;TZID=Africa/Cairo:20241023T160000
DESCRIPTION:IEEE WIE Club Orientation Day was an incredible event that intr
 oduced new students to the inspiring world of IEEE Women in Engineering (W
 IE). From the moment they arrived\, the energy and enthusiasm were undenia
 ble!\n\nThe event provided a great opportunity for students to learn about
  IEEE WIE’s mission\, goals\, and the wide range of events and activitie
 s we organize\, including technical workshops\, mentorship programs\, and 
 networking opportunities. Freshmen\, in particular\, were excited to disco
 ver the society and expressed their interest in joining\, eager to explore
  all that IEEE WIE has to offer.\n\nBeyond being informative\, the event w
 as filled with fun and memorable moments! Attendees enjoyed the welcoming 
 atmosphere\, took amazing pictures with the IEEE WIE photo frame\, and rec
 eived exclusive giveaways\, making the experience even more special.\n\nA 
 huge thank you to our amazing sponsors\, Starville and Clary\, whose gener
 ous support helped make this event an unforgettable one. Their contributio
 ns allowed us to enhance the experience and provide students with exciting
  gifts.\n\nOverall\, the IEEE WIE Club Orientation Day was a fantastic suc
 cess\, leaving a lasting impression on everyone who attended\n\nBldg: rece
 ption area.\, The New Administrative Capital\, EUI \, The New Administrati
 ve Capital \, Al-Qahirah\, Egypt
LOCATION:Bldg: reception area.\, The New Administrative Capital\, EUI \, Th
 e New Administrative Capital \, Al-Qahirah\, Egypt
ORGANIZER:fouadhashesh@ieee.org
SEQUENCE:61
SUMMARY:IEEE WIE Club Orientation Day
URL;VALUE=URI:https://events.vtools.ieee.org/m/472584
X-ALT-DESC:Description: &lt;br /&gt;&lt;p data-start=&quot;107&quot; data-end=&quot;331&quot;&gt;&lt;strong da
 ta-start=&quot;107&quot; data-end=&quot;140&quot;&gt;IEEE WIE Club Orientation Day&lt;/strong&gt; was a
 n incredible event that introduced new students to the inspiring world of 
 &lt;strong data-start=&quot;220&quot; data-end=&quot;255&quot;&gt;IEEE Women in Engineering (WIE)&lt;/s
 trong&gt;. From the moment they arrived\, the energy and enthusiasm were unde
 niable!&lt;/p&gt;\n&lt;p data-start=&quot;333&quot; data-end=&quot;727&quot;&gt;The event provided a great
  opportunity for students to learn about &lt;strong data-start=&quot;400&quot; data-end
 =&quot;474&quot;&gt;IEEE WIE&amp;rsquo\;s mission\, goals\, and the wide range of events an
 d activities&lt;/strong&gt; we organize\, including &lt;strong data-start=&quot;498&quot; dat
 a-end=&quot;572&quot;&gt;technical workshops\, mentorship programs\, and networking opp
 ortunities&lt;/strong&gt;. Freshmen\, in particular\, were excited to discover t
 he society and expressed their interest in joining\, eager to explore all 
 that IEEE WIE has to offer.&lt;/p&gt;\n&lt;p data-start=&quot;729&quot; data-end=&quot;993&quot;&gt;Beyond
  being informative\, the event was filled with &lt;strong data-start=&quot;781&quot; da
 ta-end=&quot;810&quot;&gt;fun and memorable moments&lt;/strong&gt;! Attendees enjoyed the wel
 coming atmosphere\, took amazing pictures with the &lt;strong data-start=&quot;887
 &quot; data-end=&quot;911&quot;&gt;IEEE WIE photo frame&lt;/strong&gt;\, and received &lt;strong data
 -start=&quot;926&quot; data-end=&quot;949&quot;&gt;exclusive giveaways&lt;/strong&gt;\, making the expe
 rience even more special.&lt;/p&gt;\n&lt;p data-start=&quot;995&quot; data-end=&quot;1230&quot;&gt;A huge 
 thank you to our amazing sponsors\, &lt;strong data-start=&quot;1037&quot; data-end=&quot;10
 60&quot;&gt;Starville and Clary&lt;/strong&gt;\, whose generous support helped make this
  event an unforgettable one. Their contributions allowed us to enhance the
  experience and provide students with exciting gifts.&lt;/p&gt;\n&lt;p data-start=&quot;
 1232&quot; data-end=&quot;1493&quot;&gt;Overall\, the &lt;strong data-start=&quot;1245&quot; data-end=&quot;12
 78&quot;&gt;IEEE WIE Club Orientation Day&lt;/strong&gt; was a fantastic success\, leavi
 ng a lasting impression on everyone who attended&lt;/p&gt;\n&lt;p data-start=&quot;1232&quot;
  data-end=&quot;1493&quot;&gt;&amp;nbsp\;&lt;/p&gt;
END:VEVENT
END:VCALENDAR

