BEGIN:VCALENDAR
VERSION:2.0
PRODID:IEEE vTools.Events//EN
CALSCALE:GREGORIAN
BEGIN:VTIMEZONE
TZID:America/Chicago
BEGIN:DAYLIGHT
DTSTART:20250309T030000
TZOFFSETFROM:-0600
TZOFFSETTO:-0500
RRULE:FREQ=YEARLY;BYDAY=2SU;BYMONTH=3
TZNAME:CDT
END:DAYLIGHT
BEGIN:STANDARD
DTSTART:20251102T010000
TZOFFSETFROM:-0500
TZOFFSETTO:-0600
RRULE:FREQ=YEARLY;BYDAY=1SU;BYMONTH=11
TZNAME:CST
END:STANDARD
END:VTIMEZONE
BEGIN:VEVENT
DTSTAMP:20250318T004954Z
UID:3FDD550D-3473-416C-A1B5-70C186FCDD1C
DTSTART;TZID=America/Chicago:20250317T183000
DTEND;TZID=America/Chicago:20250317T194500
DESCRIPTION:Pathology data\, primarily consisting of slides and diagnostic 
 reports\, inherently contain knowledge pivotal for advancing data-driven b
 iomedical research and clinical practice. However\, the hidden and fragmen
 ted nature of this knowledge across various data modalities not only hinde
 rs its computational utilization but also impedes the effective integratio
 n of AI technologies in the domain of pathology. To systematically organiz
 e pathology knowledge for computational use\, we propose PathoGraph\, a re
 presentation method capable of comprehensively and structurally capturing 
 multi-scale disease characteristics alongside pathologists’ expertise in
  a graph-based format. Furthermore\, by leveraging existing pathology imag
 e recognition techniques\, we achieved large-scale automated construction 
 of PathoGraph\, applied it to enhance the performance of downstream deep l
 earning models\, and presented two illustrative use cases that highlight i
 ts clinical potential. Collectively\, we believe our efforts lay a critica
 l foundation for constructing pathology knowledge graphs\, thereby advanci
 ng AI-driven pathology practice.\n\nAgenda: \n6:30 - 7:00 Social half hour
  to grab food and drink\n\n7:00 - 8:00 Technical talk\n\nRoom: Mann Hall\,
  Bldg: Medical Sciences Building\, 300 3rd Ave SW\, Rochester\, Minnesota\
 , United States\, 55902\, Virtual: https://events.vtools.ieee.org/m/472672
LOCATION:Room: Mann Hall\, Bldg: Medical Sciences Building\, 300 3rd Ave SW
 \, Rochester\, Minnesota\, United States\, 55902\, Virtual: https://events
 .vtools.ieee.org/m/472672
ORGANIZER:pramanik.leena@ieee.org
SEQUENCE:23
SUMMARY:March Talk: AI-Driven Pathology- Converting Knowledge to Graph Repr
 esentations (HYBRID)
URL;VALUE=URI:https://events.vtools.ieee.org/m/472672
X-ALT-DESC:Description: &lt;br /&gt;&lt;p style=&quot;text-align: justify\;&quot;&gt;Pathology da
 ta\, primarily consisting of slides and diagnostic reports\, inherently co
 ntain knowledge pivotal for advancing data-driven biomedical research and 
 clinical practice. However\, the hidden and fragmented nature of this know
 ledge across various data modalities not only hinders its computational ut
 ilization but also impedes the effective integration of AI technologies in
  the domain of pathology. To systematically organize pathology knowledge f
 or computational use\, we propose PathoGraph\, a representation method cap
 able of comprehensively and structurally capturing multi-scale disease cha
 racteristics alongside pathologists&amp;rsquo\; expertise in a graph-based for
 mat. Furthermore\, by leveraging existing pathology image recognition tech
 niques\, we achieved large-scale automated construction of PathoGraph\, ap
 plied it to enhance the performance of downstream deep learning models\, a
 nd presented two illustrative use cases that highlight its clinical potent
 ial. Collectively\, we believe our efforts lay a critical foundation for c
 onstructing pathology knowledge graphs\, thereby advancing AI-driven patho
 logy practice.&lt;/p&gt;&lt;br /&gt;&lt;br /&gt;Agenda: &lt;br /&gt;&lt;p&gt;&lt;em&gt;6:30 - 7:00&lt;/em&gt;&amp;nbsp\;
 Social half hour to grab food and drink&lt;/p&gt;\n&lt;p&gt;&lt;em&gt;7:00 - 8:00&lt;/em&gt;&amp;nbsp\
 ;Technical talk&lt;/p&gt;\n&lt;p&gt;&amp;nbsp\;&lt;/p&gt;
END:VEVENT
END:VCALENDAR

