BEGIN:VCALENDAR
VERSION:2.0
PRODID:IEEE vTools.Events//EN
CALSCALE:GREGORIAN
BEGIN:VTIMEZONE
TZID:Europe/Rome
BEGIN:DAYLIGHT
DTSTART:20250330T030000
TZOFFSETFROM:+0100
TZOFFSETTO:+0200
RRULE:FREQ=YEARLY;BYDAY=-1SU;BYMONTH=3
TZNAME:CEST
END:DAYLIGHT
BEGIN:STANDARD
DTSTART:20251026T020000
TZOFFSETFROM:+0200
TZOFFSETTO:+0100
RRULE:FREQ=YEARLY;BYDAY=-1SU;BYMONTH=10
TZNAME:CET
END:STANDARD
END:VTIMEZONE
BEGIN:VEVENT
DTSTAMP:20250910T111230Z
UID:EB173452-EA38-48B1-AD76-D17ED3AA5FB7
DTSTART;TZID=Europe/Rome:20250903T083000
DTEND;TZID=Europe/Rome:20250905T180000
DESCRIPTION:Automatica.it is an annual conference that brings together rese
 archers\, academics\, and industry professionals from the Italian control 
 systems and automation community. Organized by the Italian Society of Auto
 matica (SIDRA)\, it serves as a platform to discuss the latest advancement
 s\, methodologies\, and applications in automation\, control theory\, and 
 robotics.\n\nThe conference provides an opportunity for early-career resea
 rchers\, PhD students\, and established experts to present their work\, ex
 change ideas\, and foster collaborations within the field of automatic con
 trol. It features keynote speeches\, technical sessions\, and panel discus
 sions covering a wide range of topics\, including:\n\n- Control theory and
  applications\n- Optimization techniques\n- Robotics and intelligent syste
 ms\n- Industrial automation and cyber-physical systems\n- Machine learning
  for control and automation\n\nThrough its diverse program\, Automatica.it
  promotes knowledge dissemination and strengthens the national and interna
 tional scientific network in automation and control engineering.\n\nThe 20
 25 edition will take place in Perugia from 3-5 September\, extending a war
 m invitation to academics and professionals to explore the latest advancem
 ents in control systems. This year\, the conference places a strong emphas
 is on engaging the next generation of researchers by fostering the active 
 participation of young scientists and advanced degree candidates. By encou
 raging dynamic discussions and knowledge exchange\, Automatica.it 2025 aim
 s to create a stimulating environment where innovation flourishes and new 
 ideas take shape.\n\nhttps://automatica2025.it/\n\nPerugia\, Umbria\, Ital
 y\, 06121
LOCATION:Perugia\, Umbria\, Italy\, 06121
ORGANIZER:alessandro.rizzo@polito.it
SEQUENCE:21
SUMMARY:Automatica.it 2025
URL;VALUE=URI:https://events.vtools.ieee.org/m/472812
X-ALT-DESC:Description: &lt;br /&gt;&lt;p data-start=&quot;88&quot; data-end=&quot;455&quot;&gt;&lt;strong dat
 a-start=&quot;88&quot; data-end=&quot;105&quot;&gt;Automatica.it&lt;/strong&gt; is an annual conference
  that brings together researchers\, academics\, and industry professionals
  from the Italian control systems and automation community. Organized by t
 he Italian Society of Automatica (SIDRA)\, it serves as a platform to disc
 uss the latest advancements\, methodologies\, and applications in automati
 on\, control theory\, and robotics.&lt;/p&gt;\n&lt;p data-start=&quot;457&quot; data-end=&quot;785
 &quot;&gt;The conference provides an opportunity for early-career researchers\, Ph
 D students\, and established experts to present their work\, exchange idea
 s\, and foster collaborations within the field of automatic control. It fe
 atures keynote speeches\, technical sessions\, and panel discussions cover
 ing a wide range of topics\, including:&lt;/p&gt;\n&lt;ul data-start=&quot;786&quot; data-end
 =&quot;987&quot;&gt;\n&lt;li data-start=&quot;786&quot; data-end=&quot;821&quot;&gt;Control theory and applicatio
 ns&lt;/li&gt;\n&lt;li data-start=&quot;822&quot; data-end=&quot;849&quot;&gt;Optimization techniques&lt;/li&gt;\
 n&lt;li data-start=&quot;850&quot; data-end=&quot;886&quot;&gt;Robotics and intelligent systems&lt;/li&gt;
 \n&lt;li data-start=&quot;887&quot; data-end=&quot;939&quot;&gt;Industrial automation and cyber-phys
 ical systems&lt;/li&gt;\n&lt;li data-start=&quot;940&quot; data-end=&quot;987&quot;&gt;Machine learning fo
 r control and automation&lt;/li&gt;\n&lt;/ul&gt;\n&lt;p data-start=&quot;989&quot; data-end=&quot;1175&quot;&gt;
 Through its diverse program\, &lt;strong data-start=&quot;1018&quot; data-end=&quot;1035&quot;&gt;Au
 tomatica.it&lt;/strong&gt; promotes knowledge dissemination and strengthens the 
 national and international scientific network in automation and control en
 gineering.&lt;/p&gt;\n&lt;p data-start=&quot;1177&quot; data-end=&quot;1725&quot;&gt;The &lt;strong data-star
 t=&quot;1181&quot; data-end=&quot;1197&quot;&gt;2025 edition&lt;/strong&gt; will take place in Perugia 
 from 3-5 September\, extending a warm invitation to academics and professi
 onals to explore the latest advancements in control systems. This year\, t
 he conference places a strong emphasis on engaging the next generation of 
 researchers by fostering the active participation of young scientists and 
 advanced degree candidates. By encouraging dynamic discussions and knowled
 ge exchange\, &lt;strong data-start=&quot;1606&quot; data-end=&quot;1628&quot;&gt;Automatica.it 2025
 &lt;/strong&gt; aims to create a stimulating environment where innovation flouri
 shes and new ideas take shape.&lt;/p&gt;\n&lt;p&gt;&lt;a href=&quot;https://automatica2025.it/
 &quot;&gt;https://automatica2025.it/&lt;/a&gt;&lt;/p&gt;\n&lt;p&gt;&amp;nbsp\;&lt;/p&gt;
END:VEVENT
END:VCALENDAR

