BEGIN:VCALENDAR
VERSION:2.0
PRODID:IEEE vTools.Events//EN
CALSCALE:GREGORIAN
BEGIN:VTIMEZONE
TZID:Europe/London
BEGIN:DAYLIGHT
DTSTART:20260329T020000
TZOFFSETFROM:+0000
TZOFFSETTO:+0100
RRULE:FREQ=YEARLY;BYDAY=-1SU;BYMONTH=3
TZNAME:BST
END:DAYLIGHT
BEGIN:STANDARD
DTSTART:20251026T010000
TZOFFSETFROM:+0100
TZOFFSETTO:+0000
RRULE:FREQ=YEARLY;BYDAY=-1SU;BYMONTH=10
TZNAME:GMT
END:STANDARD
END:VTIMEZONE
BEGIN:VEVENT
DTSTAMP:20251128T160116Z
UID:86A18DE0-B172-4A75-A569-ADC1A25D6F42
DTSTART;TZID=Europe/London:20251126T080000
DTEND;TZID=Europe/London:20251126T170000
DESCRIPTION:Nottingham Track- details:\n\nTitle: Career Development in Elec
 trical and Electronic Engineering in both Academia and Industry\n\nKeynote
 : Insights from Women Leaders Across Academia and Industry\n\nPanel sessio
 n: Overcoming Challenges in Building Leadership for Women in Engineering\n
 \nNetworking session\n\nNottingham track Speakers:\n\n- Dr Amal Hajjaj\, S
 enior Lecturer in Electromechanical Systems and Dynamics\, Loughborough Un
 iversity.\n- Dr. Liliana De Lillo\, Associate professor in Power Electroni
 cs\, University of Nottingham.\n- Dr. Fatima Amara\, HVDC Controls Enginee
 r\, GE Vernova.\n\nNottingham Track Organising Committee:\n\nDr Ying Li (M
 ember IEEE UK&amp;I WIE and Lead (/co) for Communications WG)\n\nMiss Jiancai 
 Zhang (Member IEEE UK&amp;I WIE)\n\nMs Fatima Amara HVDC Controls Application 
 Engineer\, GE Vernova\, UK.\n\nCo-sponsored by: University of Nottingham\n
 \nUniversity of Nottingham\, nottingham\, England\, United Kingdom
LOCATION:University of Nottingham\, nottingham\, England\, United Kingdom
ORGANIZER:Ying1.li@nottingham.ac.uk
SEQUENCE:13
SUMMARY:WIE International Leadership Summit 2025 - Nottingham Track
URL;VALUE=URI:https://events.vtools.ieee.org/m/472971
X-ALT-DESC:Description: &lt;br /&gt;&lt;p&gt;Nottingham Track- details:&amp;nbsp\;&lt;/p&gt;\n&lt;p&gt;
 Title: Career Development in Electrical and Electronic Engineering in both
  Academia and Industry&lt;/p&gt;\n&lt;p&gt;Keynote: Insights from Women Leaders Across
  Academia and Industry&lt;/p&gt;\n&lt;p&gt;Panel session: Overcoming Challenges in Bui
 lding Leadership for Women in Engineering&lt;/p&gt;\n&lt;p&gt;Networking session&lt;/p&gt;\n
 &lt;p&gt;&amp;nbsp\;&lt;/p&gt;\n&lt;p&gt;Nottingham track Speakers:&lt;/p&gt;\n&lt;ol&gt;\n&lt;li&gt;Dr Amal Hajja
 j\, Senior Lecturer in Electromechanical Systems and Dynamics\, Loughborou
 gh University.&lt;/li&gt;\n&lt;li&gt;Dr. Liliana De Lillo\, Associate professor in Pow
 er Electronics\, University of Nottingham.&lt;/li&gt;\n&lt;li&gt;Dr. Fatima Amara\, HV
 DC Controls Engineer\, GE Vernova.&lt;/li&gt;\n&lt;/ol&gt;\n&lt;p&gt;&amp;nbsp\;&lt;/p&gt;\n&lt;p&gt;Notting
 ham Track Organising Committee:&lt;/p&gt;\n&lt;p&gt;Dr Ying Li (Member IEEE UK&amp;amp\;I 
 WIE and Lead (/co) for Communications WG)&lt;/p&gt;\n&lt;p&gt;Miss Jiancai Zhang (Memb
 er IEEE UK&amp;amp\;I WIE)&lt;/p&gt;\n&lt;p&gt;Ms Fatima Amara HVDC Controls Application E
 ngineer\, GE Vernova\, UK.&lt;/p&gt;\n&lt;p&gt;&amp;nbsp\;&lt;/p&gt;
END:VEVENT
END:VCALENDAR

