BEGIN:VCALENDAR
VERSION:2.0
PRODID:IEEE vTools.Events//EN
CALSCALE:GREGORIAN
BEGIN:VTIMEZONE
TZID:Europe/Rome
BEGIN:DAYLIGHT
DTSTART:20260329T030000
TZOFFSETFROM:+0100
TZOFFSETTO:+0200
RRULE:FREQ=YEARLY;BYDAY=-1SU;BYMONTH=3
TZNAME:CEST
END:DAYLIGHT
BEGIN:STANDARD
DTSTART:20251026T020000
TZOFFSETFROM:+0200
TZOFFSETTO:+0100
RRULE:FREQ=YEARLY;BYDAY=-1SU;BYMONTH=10
TZNAME:CET
END:STANDARD
END:VTIMEZONE
BEGIN:VEVENT
DTSTAMP:20251224T161833Z
UID:B6F61152-303C-4163-B351-336B424ABD2F
DTSTART;TZID=Europe/Rome:20251105T090000
DTEND;TZID=Europe/Rome:20251107T180000
DESCRIPTION:Technical Sponsorship of 2025 IEEE International Workshop on Te
 chnologies for Defense and Security.\n\nThe 2025 IEEE International Worksh
 op on Technologies for Defense and Security (IEEE TechDefense 2025) will b
 e broad in scope covering all areas concerning research in defense field. 
 With the breadth of topics covered\, this conference seeks to attract dive
 rse participation and collaboration from academia\, industry\, defense and
  government agencies that will promote security interests with opportuniti
 es to increase technical depth and breadth as well as networking with peer
 s. In a world where technology is rapidly changing\, collaborations and mu
 ltidisciplinary work is the only way to solve research challenges and fost
 er the next generation of scientific discovery.\n\nAgenda: \nhttps://techd
 efense.org\n\nRome\, Lazio\, Italy
LOCATION:Rome\, Lazio\, Italy
ORGANIZER:gonzalo.seco@uab.cat
SEQUENCE:9
SUMMARY:2025 IEEE International Workshop on Technologies for Defense and Se
 curity
URL;VALUE=URI:https://events.vtools.ieee.org/m/473051
X-ALT-DESC:Description: &lt;br /&gt;&lt;p&gt;Technical Sponsorship of 2025 IEEE Interna
 tional Workshop on Technologies for Defense and Security.&lt;/p&gt;\n&lt;p&gt;The 2025
  IEEE International Workshop on Technologies for Defense and Security (&lt;st
 rong&gt;IEEE TechDefense 2025&lt;/strong&gt;) will be broad in scope covering all a
 reas concerning research in defense field. With the breadth of topics cove
 red\, this conference seeks to attract diverse participation and collabora
 tion from academia\, industry\, defense and government agencies that will 
 promote security interests with opportunities to increase technical depth 
 and breadth as well as networking with peers. In a world where technology 
 is rapidly changing\, collaborations and multidisciplinary work is the onl
 y way to solve research challenges and foster the next generation of scien
 tific discovery.&lt;/p&gt;&lt;br /&gt;&lt;br /&gt;Agenda: &lt;br /&gt;&lt;p&gt;https://techdefense.org&lt;/
 p&gt;
END:VEVENT
END:VCALENDAR

