BEGIN:VCALENDAR
VERSION:2.0
PRODID:IEEE vTools.Events//EN
CALSCALE:GREGORIAN
BEGIN:VTIMEZONE
TZID:America/Los_Angeles
BEGIN:DAYLIGHT
DTSTART:20250309T030000
TZOFFSETFROM:-0800
TZOFFSETTO:-0700
RRULE:FREQ=YEARLY;BYDAY=2SU;BYMONTH=3
TZNAME:PDT
END:DAYLIGHT
BEGIN:STANDARD
DTSTART:20251102T010000
TZOFFSETFROM:-0700
TZOFFSETTO:-0800
RRULE:FREQ=YEARLY;BYDAY=1SU;BYMONTH=11
TZNAME:PST
END:STANDARD
END:VTIMEZONE
BEGIN:VEVENT
DTSTAMP:20250328T160328Z
UID:66DEE18E-FFBA-4D19-A1EB-159C6BA90D70
DTSTART;TZID=America/Los_Angeles:20250327T140000
DTEND;TZID=America/Los_Angeles:20250327T151500
DESCRIPTION:Leidos speaker(s):\n- Leo Paredes\n\nSpeaker(s): \, Leo\n\nRoom
 : Park Boulevard\, San Diego \, California\, United States
LOCATION:Room: Park Boulevard\, San Diego \, California\, United States
ORGANIZER:ieee@sdsu.edu
SEQUENCE:11
SUMMARY:Leidos x IEEE Meeting
URL;VALUE=URI:https://events.vtools.ieee.org/m/473384
X-ALT-DESC:Description: &lt;br /&gt;&lt;p&gt;Leidos speaker(s):&lt;br&gt;- Leo Paredes&lt;/p&gt;
END:VEVENT
END:VCALENDAR

