BEGIN:VCALENDAR
VERSION:2.0
PRODID:IEEE vTools.Events//EN
CALSCALE:GREGORIAN
BEGIN:VTIMEZONE
TZID:America/New_York
BEGIN:DAYLIGHT
DTSTART:20250309T030000
TZOFFSETFROM:-0500
TZOFFSETTO:-0400
RRULE:FREQ=YEARLY;BYDAY=2SU;BYMONTH=3
TZNAME:EDT
END:DAYLIGHT
BEGIN:STANDARD
DTSTART:20251102T010000
TZOFFSETFROM:-0400
TZOFFSETTO:-0500
RRULE:FREQ=YEARLY;BYDAY=1SU;BYMONTH=11
TZNAME:EST
END:STANDARD
END:VTIMEZONE
BEGIN:VEVENT
DTSTAMP:20250326T133613Z
UID:23E85BDA-69B3-4E77-B85D-ED4D2AC1D4CE
DTSTART;TZID=America/New_York:20250319T173000
DTEND;TZID=America/New_York:20250319T203000
DESCRIPTION:Social event for IEEE CLE Section Members at TopGolf. This even
 t is sponsored by the Life Members Affinity Group but is open to other-tha
 n Life Members as well. It is anticipated that we will have two or three b
 ays at TopGolf for as many as 18 Members. You do not have to be good at go
 lf to participate. TopGolf is a super duper driving range with electronic 
 wizardry! In addition to the game\, Food &amp; (mostly non-alcoholic) Beverage
  is provided. One alcoholic drink per Member to be comp&#39;d by Section. We a
 re doing this event on a Wednesday\, which is a non-busy night at TopGolf.
  The bays are available on a walk-in basis. Should we have to wait for bay
 s\, then we will do so at the bar/restaurant. There is free parking.\n\nTo
  help us plan this event (i.e. reserve the correct number of bays on March
  19)\, we are asking Members to pay $10 each upon registration. As the Cle
 veland IEEE CLE Section is subsidizing this event\, non-member guests may 
 join in but will need to pay $50 each. In spite of what the registration p
 rocess says\, the money can be refunded.\n\n5820 Rockside Woods Blvd.\, No
 rth\, Independence\, Ohio\, United States\, 44131
LOCATION:5820 Rockside Woods Blvd.\, North\, Independence\, Ohio\, United S
 tates\, 44131
ORGANIZER:CHrivnak@IEEE.Org
SEQUENCE:68
SUMMARY:TopGolf Social Event
URL;VALUE=URI:https://events.vtools.ieee.org/m/473392
X-ALT-DESC:Description: &lt;br /&gt;&lt;p style=&quot;text-align: left\;&quot;&gt;Social event fo
 r IEEE CLE Section Members at TopGolf.&amp;nbsp\; This event is sponsored by t
 he Life Members Affinity Group but is open to other-than Life Members as w
 ell.&amp;nbsp\; It is anticipated that we will have two or three bays at TopGo
 lf for as many as 18 Members.&amp;nbsp\; You do not have to be good at golf to
  participate. TopGolf is a super duper driving range with electronic wizar
 dry!&amp;nbsp\; In addition to the game\, Food &amp;amp\; (mostly non-alcoholic) B
 everage is provided.&amp;nbsp\; One alcoholic drink per Member to be comp&#39;d by
  Section.&amp;nbsp\; We are doing this event on a Wednesday\, which is a non-b
 usy night at TopGolf.&amp;nbsp\; The bays are available on a walk-in basis.&amp;nb
 sp\; Should we have to wait for bays\, then we will do so at the bar/resta
 urant.&amp;nbsp\; There is free parking.&lt;/p&gt;\n&lt;p style=&quot;text-align: left\;&quot;&gt;To
  help us plan this event (i.e. reserve the correct number of bays on March
  19)\, we are asking Members to pay $10 each upon registration.&amp;nbsp\; As 
 the Cleveland IEEE CLE Section is subsidizing this event\, non-member gues
 ts may join in but will need to pay $50 each.&amp;nbsp\; In spite of what the 
 registration process says\, the money can be refunded.&lt;/p&gt;\n&lt;p style=&quot;text
 -align: left\;&quot;&gt;&amp;nbsp\;&lt;/p&gt;
END:VEVENT
END:VCALENDAR

