BEGIN:VCALENDAR
VERSION:2.0
PRODID:IEEE vTools.Events//EN
CALSCALE:GREGORIAN
BEGIN:VTIMEZONE
TZID:America/Los_Angeles
BEGIN:DAYLIGHT
DTSTART:20240310T030000
TZOFFSETFROM:-0800
TZOFFSETTO:-0700
RRULE:FREQ=YEARLY;BYDAY=2SU;BYMONTH=3
TZNAME:PDT
END:DAYLIGHT
BEGIN:STANDARD
DTSTART:20241103T010000
TZOFFSETFROM:-0700
TZOFFSETTO:-0800
RRULE:FREQ=YEARLY;BYDAY=1SU;BYMONTH=11
TZNAME:PST
END:STANDARD
END:VTIMEZONE
BEGIN:VEVENT
DTSTAMP:20250314T175744Z
UID:341996AF-4BB5-4D9C-8DB2-F8BE917CB388
DTSTART;TZID=America/Los_Angeles:20241031T170000
DTEND;TZID=America/Los_Angeles:20241031T190000
DESCRIPTION:IEEE Club participated in CWU Boo Central Event. Booth was set 
 up with IEEE signage and games related to electrical engineering. Children
  given candy when they completed the games.\n\n400 E University Way\, Elle
 nsburg\, Washington\, United States\, 98926
LOCATION:400 E University Way\, Ellensburg\, Washington\, United States\, 9
 8926
ORGANIZER:Carson.Biermanski@cwu.edu
SEQUENCE:14
SUMMARY:CWU Boo Central
URL;VALUE=URI:https://events.vtools.ieee.org/m/473409
X-ALT-DESC:Description: &lt;br /&gt;&lt;p&gt;IEEE Club participated in CWU Boo Central 
 Event. Booth was set up with IEEE signage and games related to electrical 
 engineering. Children given candy when they completed the games.&lt;/p&gt;
END:VEVENT
END:VCALENDAR

