BEGIN:VCALENDAR
VERSION:2.0
PRODID:IEEE vTools.Events//EN
CALSCALE:GREGORIAN
BEGIN:VTIMEZONE
TZID:America/Los_Angeles
BEGIN:DAYLIGHT
DTSTART:20250309T030000
TZOFFSETFROM:-0800
TZOFFSETTO:-0700
RRULE:FREQ=YEARLY;BYDAY=2SU;BYMONTH=3
TZNAME:PDT
END:DAYLIGHT
BEGIN:STANDARD
DTSTART:20251102T010000
TZOFFSETFROM:-0700
TZOFFSETTO:-0800
RRULE:FREQ=YEARLY;BYDAY=1SU;BYMONTH=11
TZNAME:PST
END:STANDARD
END:VTIMEZONE
BEGIN:VEVENT
DTSTAMP:20250718T165710Z
UID:334738E9-91F6-40DB-A5CA-7AFA34DD3686
DTSTART;TZID=America/Los_Angeles:20250401T113000
DTEND;TZID=America/Los_Angeles:20250401T133000
DESCRIPTION:Spring Involvement Fair for the purpose of recruiting new and r
 eturning students to the CWU IEEE club.\n\n400 E University Way\, Ellensbu
 rg\, Washington\, United States\, 98926
LOCATION:400 E University Way\, Ellensburg\, Washington\, United States\, 9
 8926
ORGANIZER:Carson.Biermanski@cwu.edu
SEQUENCE:5
SUMMARY:2025 Spring Involvement Fair
URL;VALUE=URI:https://events.vtools.ieee.org/m/473415
X-ALT-DESC:Description: &lt;br /&gt;&lt;p&gt;Spring Involvement Fair for the purpose of
  recruiting new and returning students to the CWU IEEE club.&amp;nbsp\;&lt;/p&gt;
END:VEVENT
END:VCALENDAR

