BEGIN:VCALENDAR
VERSION:2.0
PRODID:IEEE vTools.Events//EN
CALSCALE:GREGORIAN
BEGIN:VTIMEZONE
TZID:Europe/Madrid
BEGIN:DAYLIGHT
DTSTART:20250330T030000
TZOFFSETFROM:+0100
TZOFFSETTO:+0200
RRULE:FREQ=YEARLY;BYDAY=-1SU;BYMONTH=3
TZNAME:CEST
END:DAYLIGHT
BEGIN:STANDARD
DTSTART:20251026T020000
TZOFFSETFROM:+0200
TZOFFSETTO:+0100
RRULE:FREQ=YEARLY;BYDAY=-1SU;BYMONTH=10
TZNAME:CET
END:STANDARD
END:VTIMEZONE
BEGIN:VEVENT
DTSTAMP:20250424T101535Z
UID:FB87D3C6-0E0B-42DC-AD38-A7FE6ABC5C13
DTSTART;TZID=Europe/Madrid:20250423T193000
DTEND;TZID=Europe/Madrid:20250423T203000
DESCRIPTION:IEEE HKN Nu Alpha UNED / IEEE UNED student branch - From the Eu
 ropean Space Agency to Skydance\, the &quot;Spanish Pixar&quot;. [Grabación en víd
 eo](https://canal.uned.es/video/magic/ldfgru9iua8ccgkgwww8cgsosg0wwwo)\n\n
 19:30 Short introduction of the IEEE HKN Nu Alpha UNED chapter.\n\n19:35 S
 hort introduction of the IEEE UNED student branch.\n\n19:40 From the Europ
 ean Space Agency to Skydance\, the &quot;Spanish Pixar&quot;\, Álvaro Pérez\, Skyd
 ance Animation Madrid.\n\n20:20 Questions.\n\n20:30 Closing.\n\nRegistro o
 bligatorio para recibir el enlace de videoconferencia. Must be registered 
 to receive the videoconference link.\n\nSpeaker(s): Álvaro Pérez\, \n\nA
 genda: \nIEEE HKN Nu Alpha UNED / IEEE UNED student branch - From the Euro
 pean Space Agency to Skydance\, the &quot;Spanish Pixar&quot;.\n\n19:30 Short introd
 uction of the IEEE HKN Nu Alpha UNED chapter.\n\n19:35 Short introduction 
 of the IEEE UNED student branch.\n\n19:40 From the European Space Agency t
 o Skydance\, the &quot;Spanish Pixar&quot;\, Álvaro Pérez\, Skydance Animation Mad
 rid.\n\n20:20 Questions.\n\n20:30 Closing.\n\nRegistro obligatorio para re
 cibir el enlace de videoconferencia. Must be registered to receive the vid
 eoconference link.\n\nVirtual: https://events.vtools.ieee.org/m/473636
LOCATION:Virtual: https://events.vtools.ieee.org/m/473636
ORGANIZER:mjmarq@gmail.com 
SEQUENCE:51
SUMMARY:IEEE HKN Nu Alpha UNED / IEEE UNED student branch - From the Europe
 an Space Agency to Skydance\, the &quot;Spanish Pixar&quot;\, Álvaro Pérez\, Skyda
 nce Animation Madrid
URL;VALUE=URI:https://events.vtools.ieee.org/m/473636
X-ALT-DESC:Description: &lt;br /&gt;&lt;p&gt;IEEE HKN Nu Alpha UNED / IEEE UNED student
  branch - From the European Space Agency to Skydance\, the &quot;Spanish Pixar&quot;
 . &lt;a href=&quot;https://canal.uned.es/video/magic/ldfgru9iua8ccgkgwww8cgsosg0ww
 wo&quot;&gt;Grabaci&amp;oacute\;n en v&amp;iacute\;deo&lt;/a&gt;&lt;/p&gt;\n&lt;p&gt;19:30 Short introductio
 n of the IEEE HKN Nu Alpha UNED chapter.&lt;/p&gt;\n&lt;p&gt;19:35 Short introduction 
 of the IEEE UNED student branch.&lt;/p&gt;\n&lt;p&gt;19:40 From the European Space Age
 ncy to Skydance\, the &quot;Spanish Pixar&quot;\, &amp;Aacute\;lvaro P&amp;eacute\;rez\, Sky
 dance Animation Madrid.&lt;/p&gt;\n&lt;p&gt;20:20 Questions.&lt;/p&gt;\n&lt;p&gt;20:30 Closing.&lt;/p
 &gt;\n&lt;p&gt;&amp;nbsp\;&lt;/p&gt;\n&lt;p&gt;Registro obligatorio para recibir el enlace de video
 conferencia. Must be registered to receive the videoconference link.&amp;nbsp\
 ;&lt;/p&gt;\n&lt;p&gt;&amp;nbsp\;&lt;/p&gt;\n&lt;p&gt;&amp;nbsp\;&lt;/p&gt;\n&lt;p&gt;&amp;nbsp\;&lt;/p&gt;\n&lt;p&gt;&amp;nbsp\;&lt;/p&gt;\n&lt;p&gt;
 &amp;nbsp\;&lt;/p&gt;\n&lt;p&gt;&amp;nbsp\;&lt;/p&gt;\n&lt;p&gt;&amp;nbsp\;&lt;/p&gt;\n&lt;p&gt;&amp;nbsp\;&lt;/p&gt;\n&lt;p&gt;&amp;nbsp\;&lt;/p
 &gt;\n&lt;p&gt;&amp;nbsp\;&lt;/p&gt;\n&lt;p&gt;&amp;nbsp\;&lt;/p&gt;&lt;br /&gt;&lt;br /&gt;Agenda: &lt;br /&gt;&lt;p&gt;IEEE HKN Nu 
 Alpha UNED / IEEE UNED student branch - From the European Space Agency to 
 Skydance\, the &quot;Spanish Pixar&quot;.&lt;/p&gt;\n&lt;p&gt;19:30 Short introduction of the IE
 EE HKN Nu Alpha UNED chapter.&lt;/p&gt;\n&lt;p&gt;19:35 Short introduction of the IEEE
  UNED student branch.&lt;/p&gt;\n&lt;p&gt;19:40 From the European Space Agency to Skyd
 ance\, the &quot;Spanish Pixar&quot;\, &amp;Aacute\;lvaro P&amp;eacute\;rez\, Skydance Anima
 tion Madrid.&lt;/p&gt;\n&lt;p&gt;20:20 Questions.&lt;/p&gt;\n&lt;p&gt;20:30 Closing.&lt;/p&gt;\n&lt;p&gt;&amp;nbsp
 \;&lt;/p&gt;\n&lt;p&gt;Registro obligatorio para recibir el enlace de videoconferencia
 . Must be registered to receive the videoconference link.&amp;nbsp\;&lt;/p&gt;\n&lt;p&gt;&amp;
 nbsp\;&lt;/p&gt;\n&lt;p&gt;&amp;nbsp\;&lt;/p&gt;\n&lt;p&gt;&amp;nbsp\;&lt;/p&gt;\n&lt;p&gt;&amp;nbsp\;&lt;/p&gt;\n&lt;p&gt;&amp;nbsp\;&lt;/p&gt;
 \n&lt;p&gt;&amp;nbsp\;&lt;/p&gt;
END:VEVENT
END:VCALENDAR

