BEGIN:VCALENDAR
VERSION:2.0
PRODID:IEEE vTools.Events//EN
CALSCALE:GREGORIAN
BEGIN:VTIMEZONE
TZID:Asia/Kolkata
BEGIN:STANDARD
DTSTART:19451014T230000
TZOFFSETFROM:+0630
TZOFFSETTO:+0530
TZNAME:IST
END:STANDARD
END:VTIMEZONE
BEGIN:VEVENT
DTSTAMP:20250929T143141Z
UID:A1E8CA70-EB34-4FD8-A190-8BD11E55FB98
DTSTART;TZID=Asia/Kolkata:20250215T180000
DTEND;TZID=Asia/Kolkata:20250215T190000
DESCRIPTION:The Special Interest Group on Humanitarian Technology (SIGHT) o
 f IEEE\, St. Joseph’s College of Engineering\, Student Branch Chapter\, 
 successfully organized an insightful session titled &quot;Mastering Entrepreneu
 rship and Interview Skills for Career Success&quot; on February 15\, 2025\, fro
 m 6:00 PM to 7:00 PM. The session\, attended by 32 enthusiastic participan
 ts\, provided valuable guidance on essential entrepreneurial and interview
  skills. The discussion covered key topics such as business growth strateg
 ies\, leadership development\, and innovative thinking\, equipping aspirin
 g entrepreneurs with the necessary tools for success. The event proved to 
 be highly beneficial\, offering practical insights and actionable steps to
  help participants navigate their entrepreneurial journeys and enhance the
 ir career prospects effectively.\n\nSpeaker(s): Mr. Vishal Shevle\, \n\nVi
 rtual: https://events.vtools.ieee.org/m/473713
LOCATION:Virtual: https://events.vtools.ieee.org/m/473713
ORGANIZER:sreekanthr@ieee.org
SEQUENCE:30
SUMMARY:MASTERING ENTREPRENEURSHIP AND INTERVIEW SKILL FOR CARRER SUCCESS
URL;VALUE=URI:https://events.vtools.ieee.org/m/473713
X-ALT-DESC:Description: &lt;br /&gt;&lt;p&gt;&lt;img src=&quot;https://events.vtools.ieee.org/v
 tools_ui/media/display/a8ea2b9e-fa6c-4271-8c93-7e783b2d9228&quot;&gt;&lt;img src=&quot;htt
 ps://events.vtools.ieee.org/vtools_ui/media/display/e65a9675-c75a-4e99-bc7
 3-68c59415d832&quot;&gt;&lt;/p&gt;\n&lt;p&gt;The &lt;strong&gt;Special Interest Group on Humanitaria
 n Technology (SIGHT) of IEEE&lt;/strong&gt;\, St. Joseph&amp;rsquo\;s College of Eng
 ineering\, Student Branch Chapter\, successfully organized an insightful s
 ession titled &quot;&lt;strong&gt;Mastering Entrepreneurship and Interview Skills for
  Career Success&lt;/strong&gt;&quot; on &lt;strong&gt;February 15\, 2025\, from 6:00 PM to 
 7:00 PM&lt;/strong&gt;. The session\, attended by 32 enthusiastic participants\,
  provided valuable guidance on essential entrepreneurial and interview ski
 lls. The discussion covered key topics such as business growth strategies\
 , leadership development\, and innovative thinking\, equipping aspiring en
 trepreneurs with the necessary tools for success. The event proved to be h
 ighly beneficial\, offering practical insights and actionable steps to hel
 p participants navigate their entrepreneurial journeys and enhance their c
 areer prospects effectively.&lt;/p&gt;
END:VEVENT
END:VCALENDAR

