BEGIN:VCALENDAR
VERSION:2.0
PRODID:IEEE vTools.Events//EN
CALSCALE:GREGORIAN
BEGIN:VTIMEZONE
TZID:America/Bogota
BEGIN:DAYLIGHT
DTSTART:20380118T221407
TZOFFSETFROM:-0500
TZOFFSETTO:-0500
RRULE:FREQ=YEARLY;BYDAY=3MO;BYMONTH=1
TZNAME:-05
END:DAYLIGHT
BEGIN:STANDARD
DTSTART:19930206T230000
TZOFFSETFROM:-0400
TZOFFSETTO:-0500
RRULE:FREQ=YEARLY;BYDAY=1SA;BYMONTH=2
TZNAME:-05
END:STANDARD
END:VTIMEZONE
BEGIN:VEVENT
DTSTAMP:20250404T112928Z
UID:0933C0D6-D2B9-4789-B012-E2541E444BD5
DTSTART;TZID=America/Bogota:20250326T130000
DTEND;TZID=America/Bogota:20250326T160000
DESCRIPTION:Una oportunidad de destacar la importancia de la mujer como pro
 fesional y a la ves crear las competencias necesarias para ser efectivos e
 n un mundo diverso. Lo primero es conocer las capacidades que tenemos para
  luego ejecutar de manera colaborativa nuestros proyectos.\n\n[]\n\nCo-spo
 nsored by: Women in Agile\n\nSpeaker(s): Gabriela Batista\, Marisol Pérez
 \n\nAgenda: \nPalabras de Bienvenida\n\nAlocución del dia de la mujer\n\n
 Taller Xpress Iamremarkable -\n\nTaller Xpress de Agilidad\n\nClausura\n\n
 Bldg: Auditorio de Ingles\, Facultad de Informática\, Electrónica y Comu
 nicación \, Panama\, Panama\, Panama\, Panama\, Panama\, Virtual: https:/
 /events.vtools.ieee.org/m/473873
LOCATION:Bldg: Auditorio de Ingles\, Facultad de Informática\, Electrónic
 a y Comunicación \, Panama\, Panama\, Panama\, Panama\, Panama\, Virtual:
  https://events.vtools.ieee.org/m/473873
ORGANIZER:r9-gac@computer.org
SEQUENCE:722
SUMMARY:Woman: Take a Five!! Mujer: Tómate un cinco!!
URL;VALUE=URI:https://events.vtools.ieee.org/m/473873
X-ALT-DESC:Description: &lt;br /&gt;&lt;p&gt;Una oportunidad de destacar la importancia
  de la mujer como profesional y a la ves crear las competencias necesarias
  para ser efectivos en un mundo diverso.&amp;nbsp\; Lo primero es conocer las 
 capacidades que tenemos para luego ejecutar de manera colaborativa nuestro
 s proyectos.&lt;/p&gt;\n&lt;p&gt;&lt;img src=&quot;https://events.vtools.ieee.org/vtools_ui/me
 dia/display/c55e8995-20cb-44e6-be1f-8c4e7fb06032&quot; alt=&quot;&quot; width=&quot;493&quot; heigh
 t=&quot;658&quot;&gt;&lt;/p&gt;&lt;br /&gt;&lt;br /&gt;Agenda: &lt;br /&gt;&lt;p&gt;Palabras de Bienvenida&lt;/p&gt;\n&lt;p&gt;Al
 ocuci&amp;oacute\;n del dia de la mujer&lt;/p&gt;\n&lt;p&gt;Taller Xpress Iamremarkable -&amp;
 nbsp\;&lt;/p&gt;\n&lt;p&gt;Taller Xpress de Agilidad&lt;/p&gt;\n&lt;p&gt;Clausura&lt;/p&gt;
END:VEVENT
END:VCALENDAR

