BEGIN:VCALENDAR
VERSION:2.0
PRODID:IEEE vTools.Events//EN
CALSCALE:GREGORIAN
BEGIN:VTIMEZONE
TZID:Asia/Kolkata
BEGIN:STANDARD
DTSTART:19451014T230000
TZOFFSETFROM:+0630
TZOFFSETTO:+0530
TZNAME:IST
END:STANDARD
END:VTIMEZONE
BEGIN:VEVENT
DTSTAMP:20250311T124642Z
UID:0BBE2594-04E1-4E03-A1CA-568BFE95D3B5
DTSTART;TZID=Asia/Kolkata:20250303T140000
DTEND;TZID=Asia/Kolkata:20250307T140000
DESCRIPTION:Estonian-Indian IEEE Chapters Joint Meeting 2025. Presentation 
 and discussion &quot;Review of Trends in the Development of Power Electronic Co
 nverters used in Robotics&quot;. Discussion of possible collaboration.\n\nof In
 formation Technology &amp; Management (ABV-IIITM)\, Gwalior\, Madhya Pradesh\,
  India\, 474015
LOCATION:of Information Technology &amp; Management (ABV-IIITM)\, Gwalior\, Mad
 hya Pradesh\, India\, 474015
ORGANIZER:info@ieee.ee
SEQUENCE:5
SUMMARY:Workshop: PRESENTING ESTONIAN IEEE EDUCATION SOCIETY CHAPTER in GWA
 LIOR\, INDIA
URL;VALUE=URI:https://events.vtools.ieee.org/m/474018
X-ALT-DESC:Description: &lt;br /&gt;&lt;p&gt;&lt;span style=&quot;font-size: 12pt\; font-family
 : arial\, helvetica\, sans-serif\;&quot;&gt;&amp;nbsp\;Estonian-Indian IEEE Chapters J
 oint Meeting 2025. Presentation and discussion &quot;&lt;span lang=&quot;EN-US&quot;&gt;Review 
 of Trends in the Development of Power Electronic Converters used in Roboti
 cs&lt;/span&gt;&quot;. Discussion of possible collaboration.&lt;/span&gt;&lt;/p&gt;
END:VEVENT
END:VCALENDAR

