BEGIN:VCALENDAR
VERSION:2.0
PRODID:IEEE vTools.Events//EN
CALSCALE:GREGORIAN
BEGIN:VTIMEZONE
TZID:America/Los_Angeles
BEGIN:DAYLIGHT
DTSTART:20250309T030000
TZOFFSETFROM:-0800
TZOFFSETTO:-0700
RRULE:FREQ=YEARLY;BYDAY=2SU;BYMONTH=3
TZNAME:PDT
END:DAYLIGHT
BEGIN:STANDARD
DTSTART:20251102T010000
TZOFFSETFROM:-0700
TZOFFSETTO:-0800
RRULE:FREQ=YEARLY;BYDAY=1SU;BYMONTH=11
TZNAME:PST
END:STANDARD
END:VTIMEZONE
BEGIN:VEVENT
DTSTAMP:20260401T010055Z
UID:EE519721-F247-4C6D-8DF5-332EEE11EAA5
DTSTART;TZID=America/Los_Angeles:20250423T150000
DTEND;TZID=America/Los_Angeles:20250423T160000
DESCRIPTION:IEEE WOMEN IN ENGINEERING &amp; EXTRAORDINARY ENGINEERS\n\nGetting 
 a glimpse into the fascinating world of people who have had the courage to
  boldly walk out their dreams will give you courage to pursue yours. Stepp
 ing into their shoes and learning how they overcame challenges to take the
 ir engineering journey from the impossible to extraordinary will inspire y
 ou. These Extraordinary Engineers are further ahead in the areas of life w
 here we desire to grow in. They let you in to see paths they walked\, the 
 risks they took\, and provide guidance from their perspectives. This could
  be the very thing you need to change the trajectory of your life. Extraor
 dinary Engineers takes an in-depth look into the lives of Female Engineers
  of This Day and Time. You will read about their journeys into engineering
 \, their current roles\, and responsibilities\, as well as their challenge
 s and successes. You will be inspired by these Extraordinary Engineers and
  be ready to take the next step in your own journey.\n\nThis event is part
  of the IEEE San Diego Section&#39;s PDH series at the Del Mar Electronics and
  Manufacturing Show (Apr 23 - 24).\n\nSpeaker(s): Justina Sanchez\, Valeri
  Paul\, Grethel Cabuto\, Dr. Tracy Nguyen\n\nAgenda: \nPlease use this eve
 nt&#39;s registration to sign up for PHD credits. Everyone is welcome to atten
 d this talk.\n\nIf you want PDH credit for this talk\, please register on 
 this site. If you simply want to attend\, see more info[on the show site](
 https://www.mfgshow.com/seminars/speak.cfm?Id=235).\n\nPlease register on 
 this site using the name you want on the PDH certificate. Also use the ema
 il address that you want the certificate mailed to.\n\nRoom: Room D\, Bldg
 : Mission Tower\, 2260 Jimmy Durante Blvd\, Del Mar Fairgrounds\, Del Mar\
 , California\, United States\, 92014
LOCATION:Room: Room D\, Bldg: Mission Tower\, 2260 Jimmy Durante Blvd\, Del
  Mar Fairgrounds\, Del Mar\, California\, United States\, 92014
ORGANIZER:m.w.bryant@ieee.org
SEQUENCE:68
SUMMARY:DMEMS - PDH Series -&quot;IEEE WOMEN IN ENGINEERING &amp; EXTRAORDINARY ENGI
 NEERS&quot;
URL;VALUE=URI:https://events.vtools.ieee.org/m/474066
X-ALT-DESC:Description: &lt;br /&gt;&lt;p class=&quot;MsoNormal&quot; style=&quot;text-align: cente
 r\;&quot; align=&quot;center&quot;&gt;&lt;span style=&quot;font-size: 18pt\;&quot;&gt;&lt;strong&gt;IEEE WOMEN IN 
 ENGINEERING &amp;amp\; EXTRAORDINARY ENGINEERS&lt;/strong&gt;&lt;/span&gt;&lt;/p&gt;\n&lt;p class=&quot;
 MsoNormal&quot;&gt;&lt;span style=&quot;font-size: 11.0pt\; line-height: 107%\; font-famil
 y: &#39;Aptos&#39;\,sans-serif\; mso-ascii-theme-font: minor-latin\; mso-fareast-f
 ont-family: Aptos\; mso-fareast-theme-font: minor-latin\; mso-hansi-theme-
 font: minor-latin\; mso-bidi-font-family: &#39;Times New Roman&#39;\; mso-bidi-the
 me-font: minor-bidi\; mso-ansi-language: EN-US\; mso-fareast-language: EN-
 US\; mso-bidi-language: AR-SA\;&quot;&gt;Getting a glimpse into the fascinating wo
 rld of people who have had the courage to boldly walk out their dreams wil
 l give you courage to pursue yours. Stepping into their shoes and learning
  how they overcame challenges to take their engineering journey from the i
 mpossible to extraordinary will inspire you. These Extraordinary Engineers
  are further ahead in the areas of life where we desire to grow in. They l
 et you in to see paths they walked\, the risks they took\, and provide gui
 dance from their perspectives. This could be the very thing you need to ch
 ange the trajectory of your life. Extraordinary Engineers takes an in-dept
 h look into the lives of Female Engineers of This Day and Time. You will r
 ead about their journeys into engineering\, their current roles\, and resp
 onsibilities\, as well as their challenges and successes. You will be insp
 ired by these Extraordinary Engineers and be ready to take the next step i
 n your own journey.&amp;nbsp\;&lt;/span&gt;&lt;/p&gt;\n&lt;p class=&quot;MsoNormal&quot;&gt;&amp;nbsp\;&lt;/p&gt;\n&lt;
 p class=&quot;MsoNormal&quot;&gt;This event is part of the IEEE San Diego Section&#39;s PDH
  series at the Del Mar Electronics and Manufacturing Show (Apr 23 - 24).&amp;n
 bsp\;&lt;/p&gt;\n&lt;p class=&quot;MsoNormal&quot;&gt;&amp;nbsp\;&lt;/p&gt;&lt;br /&gt;&lt;br /&gt;Agenda: &lt;br /&gt;&lt;p&gt;Pl
 ease use this event&#39;s registration to sign up for PHD credits.&amp;nbsp\; Ever
 yone is welcome to attend this talk.&amp;nbsp\;&lt;/p&gt;\n&lt;p&gt;If you want PDH credit
  for this talk\, please register on this site.&amp;nbsp\;&amp;nbsp\; If you simply
  want to attend\, see more info&lt;a href=&quot;https://www.mfgshow.com/seminars/s
 peak.cfm?Id=235&quot; target=&quot;_blank&quot; rel=&quot;noopener&quot;&gt; on the show site&lt;/a&gt;.&lt;/p&gt;
 \n&lt;p&gt;Please register on this site using the name you want on the PDH certi
 ficate. &amp;nbsp\; Also use the email address that you want the certificate m
 ailed to.&lt;/p&gt;
END:VEVENT
END:VCALENDAR

